{"text_format":"3","workbook":"xlsx","n_sheets":8,"sheets":["入力情報","work","->","Articles of Incorporation定款","Application for Registration申請書","Certificate払込みを証する書面","Seal (Revision Mark) Form印鑑届書","Seal Card Application form印鑑カード"],"not_rendered":{"images":101,"macros":1,"defined_names":22},"read":"whole","date_system":"1900"}

{"sheet":"入力情報","index":0,"n_rows":794,"n_cols":8,"rows_kept":794,"merged":[[4,4,4,5],[5,4,5,5],[6,4,6,5],[8,1,8,7],[10,4,10,5],[11,2,12,2],[11,4,11,5],[12,4,12,5],[13,2,13,3],[13,4,13,5],[14,4,14,5],[16,2,17,2],[16,4,16,5],[17,4,17,5],[18,4,18,5],[19,2,20,2],[19,4,19,5],[20,4,20,5],[21,2,22,2],[21,4,21,5],[22,4,22,5],[23,1,23,5],[24,4,24,5],[25,4,25,5],[27,2,28,2],[27,4,27,5],[28,4,28,5],[29,4,29,5],[31,2,32,2],[31,4,31,5],[32,4,32,5],[33,4,33,5],[34,2,35,2],[34,4,34,5],[35,4,35,5],[36,2,37,2],[36,4,36,5],[37,4,37,5],[39,2,40,2],[39,4,39,5],[40,4,40,5],[41,4,41,5],[43,2,44,2],[43,4,43,5],[44,4,44,5],[45,4,45,5],[46,2,47,2],[46,4,46,5],[47,4,47,5],[48,2,49,2],[48,4,48,5],[49,4,49,5],[51,2,52,2],[51,4,51,5],[52,4,52,5],[53,4,53,5],[55,2,56,2],[55,4,55,5],[56,4,56,5],[57,4,57,5],[58,2,59,2],[58,4,58,5],[59,4,59,5],[60,2,61,2],[60,4,60,5],[61,4,61,5],[63,2,64,2],[63,4,63,5],[64,4,64,5],[65,4,65,5],[67,2,68,2],[67,4,67,5],[68,4,68,5],[69,4,69,5],[70,2,71,2],[70,4,70,5],[71,4,71,5],[72,2,73,2],[72,4,72,5],[73,4,73,5],[75,2,76,2],[75,4,75,5],[76,4,76,5],[77,4,77,5],[79,2,80,2],[79,4,79,5],[80,4,80,5],[81,4,81,5],[82,2,83,2],[82,4,82,5],[83,4,83,5],[84,2,85,2],[84,4,84,5],[85,4,85,5],[87,2,88,2],[87,4,87,5],[88,4,88,5],[89,4,89,5],[91,2,92,2],[91,4,91,5],[92,4,92,5],[93,4,93,5],[94,2,95,2],[94,4,94,5],[95,4,95,5],[96,2,97,2],[96,4,96,5],[97,4,97,5],[99,2,100,2],[99,4,99,5],[100,4,100,5],[101,4,101,5],[103,2,104,2],[103,4,103,5],[104,4,104,5],[105,4,105,5],[106,2,107,2],[106,4,106,5],[107,4,107,5],[108,2,109,2],[108,4,108,5],[109,4,109,5],[111,2,112,2],[111,4,111,5],[112,4,112,5],[113,4,113,5],[115,2,116,2],[115,4,115,5],[116,4,116,5],[117,4,117,5],[118,2,119,2],[118,4,118,5],[119,4,119,5],[120,2,121,2],[120,4,120,5],[121,4,121,5],[123,2,124,2],[123,4,123,5],[124,4,124,5],[125,4,125,5],[127,2,128,2],[127,4,127,5],[128,4,128,5],[129,4,129,5],[130,2,131,2],[130,4,130,5],[131,4,131,5],[132,2,133,2],[132,4,132,5],[133,4,133,5],[135,2,136,2],[135,4,135,5],[136,4,136,5],[137,4,137,5],[139,2,140,2],[139,4,139,5],[140,4,140,5],[141,4,141,5],[142,2,143,2],[142,4,142,5],[143,4,143,5],[144,2,145,2],[144,4,144,5],[145,4,145,5],[147,2,148,2],[147,4,147,5],[148,4,148,5],[149,4,149,5],[151,2,152,2],[151,4,151,5],[152,4,152,5],[153,4,153,5],[154,2,155,2],[154,4,154,5],[155,4,155,5],[156,2,157,2],[156,4,156,5],[157,4,157,5],[159,2,160,2],[159,4,159,5],[160,4,160,5],[161,4,161,5],[163,2,164,2],[163,4,163,5],[164,4,164,5],[165,4,165,5],[166,2,167,2],[166,4,166,5],[167,4,167,5],[168,2,169,2],[168,4,168,5],[169,4,169,5],[171,2,172,2],[171,4,171,5],[172,4,172,5],[173,4,173,5],[175,2,176,2],[175,4,175,5],[176,4,176,5],[177,4,177,5],[178,2,179,2],[178,4,178,5],[179,4,179,5],[180,2,181,2],[180,4,180,5],[181,4,181,5],[183,2,184,2],[183,4,183,5],[184,4,184,5],[185,4,185,5],[187,2,188,2],[187,4,187,5],[188,4,188,5],[189,4,189,5],[190,2,191,2],[190,4,190,5],[191,4,191,5],[192,2,193,2],[192,4,192,5],[193,4,193,5],[195,2,196,2],[195,4,195,5],[196,4,196,5],[197,4,197,5],[199,2,200,2],[199,4,199,5],[200,4,200,5],[201,4,201,5],[202,2,203,2],[202,4,202,5],[203,4,203,5],[204,2,205,2],[204,4,204,5],[205,4,205,5],[207,2,208,2],[207,4,207,5],[208,4,208,5],[209,4,209,5],[211,2,212,2],[211,4,211,5],[212,4,212,5],[213,4,213,5],[214,2,215,2],[214,4,214,5],[215,4,215,5],[216,2,217,2],[216,4,216,5],[217,4,217,5],[219,2,220,2],[219,4,219,5],[220,4,220,5],[221,4,221,5],[223,2,224,2],[223,4,223,5],[224,4,224,5],[225,4,225,5],[226,2,227,2],[226,4,226,5],[227,4,227,5],[228,2,229,2],[228,4,228,5],[229,4,229,5],[231,2,232,2],[231,4,231,5],[232,4,232,5],[233,4,233,5],[235,2,236,2],[235,4,235,5],[236,4,236,5],[237,4,237,5],[238,2,239,2],[238,4,238,5],[239,4,239,5],[240,2,241,2],[240,4,240,5],[241,4,241,5],[243,2,244,2],[243,4,243,5],[244,4,244,5],[245,4,245,5],[247,2,248,2],[247,4,247,5],[248,4,248,5],[249,4,249,5],[250,2,251,2],[250,4,250,5],[251,4,251,5],[252,2,253,2],[252,4,252,5],[253,4,253,5],[255,2,256,2],[255,4,255,5],[256,4,256,5],[257,4,257,5],[259,2,260,2],[259,4,259,5],[260,4,260,5],[261,4,261,5],[262,2,263,2],[262,4,262,5],[263,4,263,5],[264,2,265,2],[264,4,264,5],[265,4,265,5],[267,2,268,2],[267,4,267,5],[268,4,268,5],[269,4,269,5],[271,2,272,2],[271,4,271,5],[272,4,272,5],[273,4,273,5],[274,2,275,2],[274,4,274,5],[275,4,275,5],[276,2,277,2],[276,4,276,5],[277,4,277,5],[279,2,280,2],[279,4,279,5],[280,4,280,5],[281,4,281,5],[283,2,284,2],[283,4,283,5],[284,4,284,5],[285,4,285,5],[286,2,287,2],[286,4,286,5],[287,4,287,5],[288,2,289,2],[288,4,288,5],[289,4,289,5],[291,2,292,2],[291,4,291,5],[292,4,292,5],[293,4,293,5],[295,2,296,2],[295,4,295,5],[296,4,296,5],[297,4,297,5],[298,2,299,2],[298,4,298,5],[299,4,299,5],[300,2,301,2],[300,4,300,5],[301,4,301,5],[303,2,304,2],[303,4,303,5],[304,4,304,5],[305,4,305,5],[307,2,308,2],[307,4,307,5],[308,4,308,5],[309,4,309,5],[310,2,311,2],[310,4,310,5],[311,4,311,5],[312,2,313,2],[312,4,312,5],[313,4,313,5],[315,2,316,2],[315,4,315,5],[316,4,316,5],[317,4,317,5],[319,2,320,2],[319,4,319,5],[320,4,320,5],[321,4,321,5],[322,2,323,2],[322,4,322,5],[323,4,323,5],[324,2,325,2],[324,4,324,5],[325,4,325,5],[327,2,328,2],[327,4,327,5],[328,4,328,5],[329,4,329,5],[331,2,332,2],[331,4,331,5],[332,4,332,5],[333,4,333,5],[334,2,335,2],[334,4,334,5],[335,4,335,5],[336,2,337,2],[336,4,336,5],[337,4,337,5],[339,2,340,2],[339,4,339,5],[340,4,340,5],[341,4,341,5],[343,2,344,2],[343,4,343,5],[344,4,344,5],[345,4,345,5],[346,2,347,2],[346,4,346,5],[347,4,347,5],[348,2,349,2],[348,4,348,5],[349,4,349,5],[351,2,352,2],[351,4,351,5],[352,4,352,5],[353,4,353,5],[355,2,356,2],[355,4,355,5],[356,4,356,5],[357,4,357,5],[358,2,359,2],[358,4,358,5],[359,4,359,5],[360,2,361,2],[360,4,360,5],[361,4,361,5],[363,2,364,2],[363,4,363,5],[364,4,364,5],[365,4,365,5],[367,2,368,2],[367,4,367,5],[368,4,368,5],[369,4,369,5],[370,2,371,2],[370,4,370,5],[371,4,371,5],[372,2,373,2],[372,4,372,5],[373,4,373,5],[375,2,376,2],[375,4,375,5],[376,4,376,5],[377,4,377,5],[379,2,380,2],[379,4,379,5],[380,4,380,5],[381,4,381,5],[382,2,383,2],[382,4,382,5],[383,4,383,5],[384,2,385,2],[384,4,384,5],[385,4,385,5],[387,2,388,2],[387,4,387,5],[388,4,388,5],[389,4,389,5],[391,2,392,2],[391,4,391,5],[392,4,392,5],[393,4,393,5],[394,2,395,2],[394,4,394,5],[395,4,395,5],[396,2,397,2],[396,4,396,5],[397,4,397,5],[399,2,400,2],[399,4,399,5],[400,4,400,5],[401,4,401,5],[403,2,404,2],[403,4,403,5],[404,4,404,5],[405,4,405,5],[406,2,407,2],[406,4,406,5],[407,4,407,5],[408,2,409,2],[408,4,408,5],[409,4,409,5],[411,2,412,2],[411,4,411,5],[412,4,412,5],[413,4,413,5],[415,2,416,2],[415,4,415,5],[416,4,416,5],[417,4,417,5],[418,2,419,2],[418,4,418,5],[419,4,419,5],[420,2,421,2],[420,4,420,5],[421,4,421,5],[423,2,424,2],[423,4,423,5],[424,4,424,5],[425,4,425,5],[427,2,428,2],[427,4,427,5],[428,4,428,5],[429,4,429,5],[430,2,431,2],[430,4,430,5],[431,4,431,5],[432,2,433,2],[432,4,432,5],[433,4,433,5],[435,2,436,2],[435,4,435,5],[436,4,436,5],[437,4,437,5],[439,2,440,2],[439,4,439,5],[440,4,440,5],[441,4,441,5],[442,2,443,2],[442,4,442,5],[443,4,443,5],[444,2,445,2],[444,4,444,5],[445,4,445,5],[447,2,448,2],[447,4,447,5],[448,4,448,5],[449,4,449,5],[451,2,452,2],[451,4,451,5],[452,4,452,5],[453,4,453,5],[454,2,455,2],[454,4,454,5],[455,4,455,5],[456,2,457,2],[456,4,456,5],[457,4,457,5],[459,2,460,2],[459,4,459,5],[460,4,460,5],[461,4,461,5],[463,2,464,2],[463,4,463,5],[464,4,464,5],[465,4,465,5],[466,2,467,2],[466,4,466,5],[467,4,467,5],[468,2,469,2],[468,4,468,5],[469,4,469,5],[471,2,472,2],[471,4,471,5],[472,4,472,5],[473,4,473,5],[475,2,476,2],[475,4,475,5],[476,4,476,5],[477,4,477,5],[478,2,479,2],[478,4,478,5],[479,4,479,5],[480,2,481,2],[480,4,480,5],[481,4,481,5],[483,2,484,2],[483,4,483,5],[484,4,484,5],[485,4,485,5],[487,2,488,2],[487,4,487,5],[488,4,488,5],[489,4,489,5],[490,2,491,2],[490,4,490,5],[491,4,491,5],[492,2,493,2],[492,4,492,5],[493,4,493,5],[495,2,496,2],[495,4,495,5],[496,4,496,5],[497,4,497,5],[499,2,500,2],[499,4,499,5],[500,4,500,5],[501,4,501,5],[502,2,503,2],[502,4,502,5],[503,4,503,5],[504,2,505,2],[504,4,504,5],[505,4,505,5],[507,2,508,2],[507,4,507,5],[508,4,508,5],[509,4,509,5],[511,2,512,2],[511,4,511,5],[512,4,512,5],[513,4,513,5],[514,2,515,2],[514,4,514,5],[515,4,515,5],[516,2,517,2],[516,4,516,5],[517,4,517,5],[519,2,520,2],[519,4,519,5],[520,4,520,5],[521,4,521,5],[523,2,524,2],[523,4,523,5],[524,4,524,5],[525,4,525,5],[526,2,527,2],[526,4,526,5],[527,4,527,5],[528,2,529,2],[528,4,528,5],[529,4,529,5],[531,2,532,2],[531,4,531,5],[532,4,532,5],[533,4,533,5],[535,2,536,2],[535,4,535,5],[536,4,536,5],[537,4,537,5],[538,2,539,2],[538,4,538,5],[539,4,539,5],[540,2,541,2],[540,4,540,5],[541,4,541,5],[543,2,544,2],[543,4,543,5],[544,4,544,5],[545,4,545,5],[547,2,548,2],[547,4,547,5],[548,4,548,5],[549,4,549,5],[550,2,551,2],[550,4,550,5],[551,4,551,5],[552,2,553,2],[552,4,552,5],[553,4,553,5],[555,2,556,2],[555,4,555,5],[556,4,556,5],[557,4,557,5],[559,2,560,2],[559,4,559,5],[560,4,560,5],[561,4,561,5],[562,2,563,2],[562,4,562,5],[563,4,563,5],[564,2,565,2],[564,4,564,5],[565,4,565,5],[567,2,568,2],[567,4,567,5],[568,4,568,5],[569,4,569,5],[571,2,572,2],[571,4,571,5],[572,4,572,5],[573,4,573,5],[574,2,575,2],[574,4,574,5],[575,4,575,5],[576,2,577,2],[576,4,576,5],[577,4,577,5],[579,2,580,2],[579,4,579,5],[580,4,580,5],[581,4,581,5],[583,2,584,2],[583,4,583,5],[584,4,584,5],[585,4,585,5],[586,2,587,2],[586,4,586,5],[587,4,587,5],[588,2,589,2],[588,4,588,5],[589,4,589,5],[591,2,592,2],[591,4,591,5],[592,4,592,5],[593,4,593,5],[595,2,596,2],[595,4,595,5],[596,4,596,5],[597,4,597,5],[598,2,599,2],[598,4,598,5],[599,4,599,5],[600,2,601,2],[600,4,600,5],[601,4,601,5],[603,2,604,2],[603,4,603,5],[604,4,604,5],[605,4,605,5],[607,2,608,2],[607,4,607,5],[608,4,608,5],[609,4,609,5],[610,2,611,2],[610,4,610,5],[611,4,611,5],[612,2,613,2],[612,4,612,5],[613,4,613,5],[615,2,616,2],[615,4,615,5],[616,4,616,5],[617,4,617,5],[619,2,620,2],[619,4,619,5],[620,4,620,5],[621,4,621,5],[622,2,623,2],[622,4,622,5],[623,4,623,5],[624,2,625,2],[624,4,624,5],[625,4,625,5],[629,4,629,5],[631,2,632,2],[631,4,631,5],[632,4,632,5],[633,4,633,5],[634,2,635,2],[634,4,634,5],[635,4,635,5],[636,4,636,5],[637,4,637,5],[638,4,638,5],[639,4,639,5],[640,4,640,5],[642,4,642,5],[644,2,645,2],[646,2,647,2],[648,2,649,2],[650,2,651,2],[652,2,653,2],[654,2,655,2],[656,2,657,2],[658,2,659,2],[660,2,661,2],[662,2,663,2],[664,2,665,2],[666,2,667,2],[668,2,669,2],[670,2,671,2],[672,2,673,2],[674,2,675,2],[676,2,677,2],[678,2,679,2],[680,2,681,2],[682,2,683,2],[684,2,685,2],[686,2,687,2],[688,2,689,2],[690,2,691,2],[692,2,693,2],[694,2,695,2],[696,2,697,2],[698,2,699,2],[700,2,701,2],[702,2,703,2],[704,2,705,2],[706,2,707,2],[708,2,709,2],[710,2,711,2],[712,2,713,2],[714,2,715,2],[716,2,717,2],[718,2,719,2],[720,2,721,2],[722,2,723,2],[724,2,725,2],[726,2,727,2],[728,2,729,2],[730,2,731,2],[732,2,733,2],[734,2,735,2],[736,2,737,2],[738,2,739,2],[740,2,741,2],[742,2,743,2],[745,1,745,7],[746,4,746,5],[747,2,747,3],[747,4,747,5],[748,2,748,3],[748,4,748,5],[749,2,749,3],[749,4,749,5],[750,4,750,5],[751,4,751,5],[753,1,753,5],[754,4,754,5],[755,4,755,5],[756,4,756,5],[757,4,757,5],[758,4,758,5],[759,4,759,5],[760,4,760,5],[761,4,761,5],[762,4,762,5],[763,2,763,3],[763,4,763,5],[764,4,764,5],[767,4,767,5],[768,4,768,5],[769,4,769,5],[770,4,770,5],[771,4,771,5],[773,1,773,5],[774,4,774,5],[775,4,775,5],[776,4,776,5],[777,4,777,5],[779,1,779,5],[780,4,780,5],[781,4,781,5],[782,4,782,5],[783,4,783,5]]}
[null,"Please enter the required information for creating the registration application and articles of incorporation in column E."]
[null,"登記申請書及び定款の作成に必要な情報を「Value / 値」欄に入力してください。"]
[]
[null,"Trade Name / 商号"]
[null,null,"Contents / 項目",null,"Value / 値",null,null,"Remarks column / 備考欄"]
[null,null,"Trade Name\n（商号）","English","SampleName",null,null,"Please enter your company's trade name in English.\n会社の商号を英語で入力してください。"]
[null,null,"Furigana of Trade Name\n（商号のフリガナ）","日本語","サンプルネーム",null,null,"Japanese will not be automatically entered in this field. If you can write in Japanese, please enter in Japanese.／この欄は日本語が自動併記されません。日本語の記入ができる方は入力してください。"]
[]
[null,"１　Information commonly required for articles of incorporation and registration application / 定款、登記申請に共通して必要な情報\n　１－①　Information of Person / 人の情報"]
[null,"      Information of Representative Member / 代表社員情報"]
[null,null,"Contents / 項目",null,"Value / 値",null,null,"Remarks column / 備考欄"]
[null,null,"Name of Representative Member\n（代表社員の氏名）","English","Mary Smith",null,null,"Please enter Representative Menber's name in English.\n代表社員の氏名を英語で入力してください。\nPlease select the \"Living in Japan/Not Living in Japan\" radio button.\n「日本に住んでいる/日本に住んでいない」ラジオボタンを選択してください。"]
[{"$nulls":3},"日本語","メアリー　スミス ",null,null,"Japanese will not be automatically entered in this field. If you can write in Japanese, please enter in Japanese.／この欄は日本語が自動併記されません。日本語の記入ができる方は入力してください。"]
[null,null,"Contribution of Representative Member （代表社員 の出資金）",null,{"v":1000000,"d":"¥1,000,000"},null,null,"Please enter Contribution of Representative Member\n代表社員の出資金を入力してください"]
[null,null,"Date of birth of Representative Member\n（代表社員の生年月日)",null,"1955-02-01",null,null,"Example 1955/02/01(yyyy/mm/dd)\n例 1955/02/01(yyyy/mm/dd)"]
[null,null,"Zip code of Representative Member's address\n（代表社員の住所の郵便番号）",null,143,"0024",{"$f":"TEXT(E16,\"000\")&TEXT(F16,\"0000\")","v":"1430024"},"Please enter the zip code of Representative Member's address.\n代表社員の住所の郵便番号を入力してください。"]
[null,null,"Address(Prefectures,City,Ward,Town or Village) of Representative Member \n（代表社員の住所(都道府県市区町村)）","English",{"$f":"IF(E16=\"\",\"\",IF(F16=\"\",\"\",work!D12&\" \"&work!E12&\" \"&work!F12))","v":"Tokyoto Otaku Chuo"},null,null,"When enter zip code, address will be automatically filled in\n郵便番号を入力すると住所が自動入力されます"]
[{"$nulls":3},"日本語",{"$f":"IF(E16=\"\",\"\",IF(F16=\"\",\"\",work!D11&\" \"&work!E11&\" \"&work!F11))","v":"東京都 大田区 中央"},null,null,"When enter zip code, address will be automatically filled in\n郵便番号を入力すると住所が自動入力されます"]
[null,null,"Street address of Representative Member\n（代表社員の住所の番地）",null,"1-1-11",null,null,"Please enter the street adress of Representative Member.\n代表社員の住所の番地を入力してください。"]
[null,null,"Building name・Room number of Representative Member（代表社員の住所の建物名・部屋番号）","English","Shinsekai Building Room 99",null,null,"Please enter the building name and room number only if required.\n建物名と部屋番号を入力する必要がある場合にのみ入力してください。"]
[{"$nulls":3},"日本語","新世界ビル99号室",null,null,"Japanese will not be automatically entered in this field. If you can write in Japanese, please enter in Japanese.／この欄は日本語が自動併記されません。日本語の記入ができる方は入力してください。"]
[null,null,"Home Country Address of Representative Member\n（設立時代表者の本国の住所）","English",{"$nulls":3},"Please enter home country address of  Representative Menber in English.\n代表社員の本国の住所を英語で入力してください"]
[{"$nulls":3},"日本語",{"$nulls":3},"Japanese will not be automatically entered in this field. If you can write in Japanese, please enter in Japanese.／この欄は日本語が自動併記されません。日本語の記入ができる方は入力してください。"]
[null,"　　Information of Members  / 社員情報"]
[null,null,"Contents / 項目",null,"Value / 値",null,null,"Remarks column / 備考欄"]
[null,null,"number of Members at Incorporation\n (社員の人数)",null,3,null,null,"Please enter the number of people in numbers (you can enter from 1 to 50)\n人数を数字で入力してください（１から50まで入力可能）"]
[]
[null,null,"Name of Members  1\n（社員 1の氏名）","English",{"$f":"IF(E12=\"\",\"\",E12)","v":"Mary Smith"},null,null,"Same as representative Member\n代表社員と同じ"]
[{"$nulls":3},"日本語",{"$f":"IF(E13=\"\",\"\",E13)","v":"メアリー　スミス "},null,null,"Same as above\n同上"]
[null,null,"Contribution of Members 1 （社員 1の出資金）",null,{"$f":"IF(E14=\"\",\"\",E14)","v":{"v":1000000,"d":"¥1,000,000"}},null,null,"Same as above\n同上"]
[null,null,"Zip code of Members at Incorporation 1's address\n（社員 1の住所の郵便番号）",null,{"$f":"IF(E16=\"\",\"\",E16)","v":143},{"$f":"IF(F16=\"\",\"\",F16)","v":"0024"},{"$f":"TEXT(E31,\"000\")&TEXT(F31,\"0000\")","v":"1430024"},"Same as above\n同上"]
[null,null,"Address(Prefectures,City,Ward,Town or Village) of Members at Incorporation 1 \n（社員 1の住所(都道府県市区町村)）","English",{"$f":"IF(E17=\"\",\"\",E17)","v":"Tokyoto Otaku Chuo"},null,null,"Same as above\n同上"]
[{"$nulls":3},"日本語","東京都 大田区 中央",null,null,"Same as above\n同上"]
[null,null,"Street address of Members at Incorporation 1\n（社員 1の住所の番地）",null,"1-1-11",null,null,"Same as above\n同上"]
[null,null,"Building name・Room number of Members at Incorporation 1（社員 1の住所の建物名・部屋番号）","English","Shinsekai Building Room 99",null,null,"Same as above\n同上"]
[{"$nulls":3},"日本語","新世界ビル99号室",null,null,"Same as above\n同上"]
[null,null,"Home Country Address of Members at Incorporation 1\n（社員 1が非居住者の場合、本国の住所）","English","",null,null,"Same as above\n同上"]
[{"$nulls":3},"日本語","",null,null,"Same as above\n同上"]
[]
[null,null,"Name of Members  2\n（社員 2の氏名）","English","Michael Smith",null,null,"Please enter Member at Incorporation 2's name in English.\n社員 2 の氏名を英語で入力してください。\nPlease select the \"Living in Japan/Not Living in Japan\" radio button.\n「日本に住んでいる/日本に住んでいない」ラジオボタンを選択してください。"]
[{"$nulls":3},"日本語","マイケル　スミス",null,null,"Japanese will not be automatically entered in this field. If you can write in Japanese, please enter in Japanese.／この欄は日本語が自動併記されません。日本語の記入ができる方は入力してください。"]
[null,null,"Contribution of Members 2 （社員 2の出資金）",null,{"v":1000000,"d":"¥1,000,000"},null,null,"Please enter Contribution of Members 2 .\n社員 2 の出資金を入力してください。"]
[null,null,"Zip code of Members at Incorporation 2's address\n（社員 2の住所の郵便番号）",{"$nulls":3},{"$f":"TEXT(E43,\"000\")&TEXT(F43,\"0000\")","v":"0000000"},"Please enter the zip code of Member 2's address.\n社員 2 の住所の郵便番号を入力してください。"]
[null,null,"Address(Prefectures,City,Ward,Town or Village) of Members at Incorporation 2\n（社員 2の住所(都道府県市区町村)）","English",{"$f":"IF(E43=\"\", \"\", IF(F43=\"\", \"\", work!D24&\" \"&work!E24&\" \"&work!F24))","v":""},null,null,"When enter zip code, address will be automatically filled in\n郵便番号を入力すると住所が自動入力されます"]
[{"$nulls":3},"日本語",{"$f":"IF(E43=\"\", \"\", IF(F43=\"\", \"\", work!D23&\" \"&work!E23&\" \"&work!F23))","v":""},null,null,"When enter zip code, address will be automatically filled in\n郵便番号を入力すると住所が自動入力されます"]
[null,null,"Street address of Members at Incorporation 2\n（社員 2の住所の番地）",{"$nulls":4},"Please enter  enter the street adress of Member at Incorporation 2.\n社員 2 の住所の番地を入力してください。"]
[null,null,"Building name・Room number of Members at Incorporation 2（社員 2の住所の建物名・部屋番号）","English","Shinsekai Building Room 102",null,null,"Please enter the building name and room number only if required.\n建物名と部屋番号を入力する必要がある場合にのみ入力してください。"]
[{"$nulls":3},"日本語","新世界ビル 102号室",null,null,"Japanese will not be automatically entered in this field. If you can write in Japanese, please enter in Japanese.／この欄は日本語が自動併記されません。日本語の記入ができる方は入力してください。"]
[null,null,"Home Country Address of Director at Incorporation 2\n（社員 2の本国の住所）","English","3 Sunset St, San Francisco, CA USA",null,null,"Please enter home country address of Member at Incorporation 2 in English.\n社員 2 の本国の住所を英語で入力してください"]
[{"$nulls":3},"日本語","アメリカ合衆国カリフォルニア州サンフランシスコ市サンセット通３番地",null,null,"Japanese will not be automatically entered in this field. If you can write in Japanese, please enter in Japanese.／この欄は日本語が自動併記されません。日本語の記入ができる方は入力してください。"]
[]
[null,null,"Name of Members  3\n（社員 3の氏名）","English","Hanako Suzuki",null,null,"Please enter Member at Incorporation 3's name in English.\n社員 3 の氏名を英語で入力してください。\nPlease select the \"Living in Japan/Not Living in Japan\" radio button.\n「日本に住んでいる/日本に住んでいない」ラジオボタンを選択してください。"]
[{"$nulls":3},"日本語","鈴木 花子",null,null,"Japanese will not be automatically entered in this field. If you can write in Japanese, please enter in Japanese.／この欄は日本語が自動併記されません。日本語の記入ができる方は入力してください。"]
[null,null,"Contribution of Members 3 （社員 3の出資金）",null,{"v":1000000,"d":"¥1,000,000"},null,null,"Please enter Contribution of Members 3 .\n社員 3 の出資金を入力してください。"]
[null,null,"Zip code of Members at Incorporation 3's address\n（社員 3の住所の郵便番号）",null,809,"0001",{"$f":"TEXT(E55,\"000\")&TEXT(F55,\"0000\")","v":"8090001"},"Please enter the zip code of Member 3's address.\n社員 3 の住所の郵便番号を入力してください。"]
[null,null,"Address(Prefectures,City,Ward,Town or Village) of Members at Incorporation 3\n（社員 3の住所(都道府県市区町村)）","English",{"$f":"IF(E55=\"\", \"\", IF(F55=\"\", \"\", work!D30&\" \"&work!E30&\" \"&work!F30))","v":"Fukuokaken Nakamashi Habu"},null,null,"When enter zip code, address will be automatically filled in\n郵便番号を入力すると住所が自動入力されます"]
[{"$nulls":3},"日本語",{"$f":"IF(E55=\"\", \"\", IF(F55=\"\", \"\", work!D29&\" \"&work!E29&\" \"&work!F29))","v":"福岡県 中間市 垣生"},null,null,"When enter zip code, address will be automatically filled in\n郵便番号を入力すると住所が自動入力されます"]
[null,null,"Street address of Members at Incorporation 3\n（社員 3の住所の番地）",null,"10-40-80",null,null,"Please enter  enter the street adress of Member at Incorporation 3.\n社員 3 の住所の番地を入力してください。"]
[null,null,"Building name・Room number of Members at Incorporation 3（社員 3の住所の建物名・部屋番号）","English","Shinsekai Building Room 103",null,null,"Please enter the building name and room number only if required.\n建物名と部屋番号を入力する必要がある場合にのみ入力してください。"]
[{"$nulls":3},"日本語","新世界ビル 103号室",null,null,"Japanese will not be automatically entered in this field. If you can write in Japanese, please enter in Japanese.／この欄は日本語が自動併記されません。日本語の記入ができる方は入力してください。"]
[null,null,"Home Country Address of Members at Incorporation 3\n（社員 3が非居住者の場合、本国の住所）","English","\t103 Rosemarie Dr, Arcadia, CA91007,USA",null,null,"Please enter home country address of Member at Incorporation 3 in English.\n社員 3 の本国の住所を英語で入力してください"]
[{"$nulls":3},"日本語","103 ローズマリー Dr、アルカディア、CA91007、米国",null,null,"Japanese will not be automatically entered in this field. If you can write in Japanese, please enter in Japanese.／この欄は日本語が自動併記されません。日本語の記入ができる方は入力してください。"]
[]
[null,null,"Name of Members  4\n（社員 4の氏名）","English",{"$nulls":3},"Please enter Member at Incorporation 4's name in English.\n社員 4 の氏名を英語で入力してください。\nPlease select the \"Living in Japan/Not Living in Japan\" radio button.\n「日本に住んでいる/日本に住んでいない」ラジオボタンを選択してください。"]
[{"$nulls":3},"日本語",{"$nulls":3},"Japanese will not be automatically entered in this field. If you can write in Japanese, please enter in Japanese.／この欄は日本語が自動併記されません。日本語の記入ができる方は入力してください。"]
[null,null,"Contribution of Members 4 （社員 4の出資金）",{"$nulls":4},"Please enter Contribution of Members 4 .\n社員 4 の出資金を入力してください。"]
[null,null,"Zip code of Members at Incorporation 4's address\n（社員 4の住所の郵便番号）",{"$nulls":3},{"$f":"TEXT(E67,\"000\")&TEXT(F67,\"0000\")","v":"0000000"},"Please enter the zip code of Member 4's address.\n社員 4 の住所の郵便番号を入力してください。"]
[null,null,"Address(Prefectures,City,Ward,Town or Village) of Members at Incorporation 4 \n（社員 4の住所(都道府県市区町村)）","English",{"$f":"IF(E67=\"\", \"\", IF(F67=\"\", \"\", work!D36&\" \"&work!E36&\" \"&work!F36))","v":""},null,null,"When enter zip code, address will be automatically filled in\n郵便番号を入力すると住所が自動入力されます"]
[{"$nulls":3},"日本語",{"$f":"IF(E67=\"\", \"\", IF(F67=\"\", \"\", work!D35&\" \"&work!E35&\" \"&work!F35))","v":""},null,null,"When enter zip code, address will be automatically filled in\n郵便番号を入力すると住所が自動入力されます"]
[null,null,"Street address of Members at Incorporation 4\n（社員 4の住所の番地）",{"$nulls":4},"Please enter  enter the street adress of Member at Incorporation 4.\n社員 4 の住所の番地を入力してください。"]
[null,null,"Building name・Room number of Members at Incorporation 4（社員 4の住所の建物名・部屋番号）","English",{"$nulls":3},"Please enter the building name and room number only if required.\n建物名と部屋番号を入力する必要がある場合にのみ入力してください。"]
[{"$nulls":3},"日本語",{"$nulls":3},"Japanese will not be automatically entered in this field. If you can write in Japanese, please enter in Japanese.／この欄は日本語が自動併記されません。日本語の記入ができる方は入力してください。"]
[null,null,"Home Country Address of Member at Incorporation 4\n（社員 4の本国の住所）","English",{"$nulls":3},"Please enter home country address of Member at Incorporation 4 in English.\n社員 4 の本国の住所を英語で入力してください"]
[{"$nulls":3},"日本語",{"$nulls":3},"Japanese will not be automatically entered in this field. If you can write in Japanese, please enter in Japanese.／この欄は日本語が自動併記されません。日本語の記入ができる方は入力してください。"]
[]
[null,null,"Name of Menbers 5\n（社員 5の氏名）","English",{"$nulls":3},"Please enter Member at Incorporation 5's name in English.\n社員 5 の氏名を英語で入力してください。\nPlease select the \"Living in Japan/Not Living in Japan\" radio button.\n「日本に住んでいる/日本に住んでいない」ラジオボタンを選択してください。"]
[{"$nulls":3},"日本語",{"$nulls":3},"Japanese will not be automatically entered in this field. If you can write in Japanese, please enter in Japanese.／この欄は日本語が自動併記されません。日本語の記入ができる方は入力してください。"]
[null,null,"Contribution of Members 5 （社員 5の出資金）",{"$nulls":4},"Please enter Contribution of Members 5 .\n社員 5 の出資金を入力してください。"]
[null,null,"Zip code of Members at Incorporation 5's address\n（社員 5の住所の郵便番号）",{"$nulls":3},{"$f":"TEXT(E79,\"000\")&TEXT(F79,\"0000\")","v":"0000000"},"Please enter the zip code of Member 5's address.\n社員 5 の住所の郵便番号を入力してください。"]
[null,null,"Address(Prefectures,City,Ward,Town or Village) of Members at Incorporation 5 \n（社員 5の住所(都道府県市区町村)）","English",{"$f":"IF(E79=\"\", \"\", IF(F79=\"\", \"\", work!D42&\" \"&work!E42&\" \"&work!F42))","v":""},null,null,"When enter zip code, address will be automatically filled in\n郵便番号を入力すると住所が自動入力されます"]
[{"$nulls":3},"日本語",{"$f":"IF(E79=\"\", \"\", IF(F79=\"\", \"\", work!D41&\" \"&work!E41&\" \"&work!F41))","v":""},null,null,"When enter zip code, address will be automatically filled in\n郵便番号を入力すると住所が自動入力されます"]
[null,null,"Street address of Members at Incorporation 5\n（社員 5の住所の番地）",{"$nulls":4},"Please enter  enter the street adress of Member at Incorporation 5.\n社員 5 の住所の番地を入力してください。"]
[null,null,"Building name・Room number of Members at Incorporation 5（社員 5の住所の建物名・部屋番号）","English",{"$nulls":3},"Please enter the building name and room number only if required.\n建物名と部屋番号を入力する必要がある場合にのみ入力してください。"]
[{"$nulls":3},"日本語",{"$nulls":3},"Japanese will not be automatically entered in this field. If you can write in Japanese, please enter in Japanese.／この欄は日本語が自動併記されません。日本語の記入ができる方は入力してください。"]
[null,null,"Home Country Address of Member at Incorporation 5\n（社員 5の本国の住所）","English",{"$nulls":3},"Please enter home country address of Member at Incorporation 5 in English.\n社員 5 の本国の住所を英語で入力してください"]
[{"$nulls":3},"日本語",{"$nulls":3},"Japanese will not be automatically entered in this field. If you can write in Japanese, please enter in Japanese.／この欄は日本語が自動併記されません。日本語の記入ができる方は入力してください。"]
[]
[null,null,"Name of Menbers 6\n（社員 6の氏名）","English",{"$nulls":3},"Please enter Member at Incorporation 6's name in English.\n社員 6 の氏名を英語で入力してください。\nPlease select the \"Living in Japan/Not Living in Japan\" radio button.\n「日本に住んでいる/日本に住んでいない」ラジオボタンを選択してください。"]
[{"$nulls":3},"日本語",{"$nulls":3},"Japanese will not be automatically entered in this field. If you can write in Japanese, please enter in Japanese.／この欄は日本語が自動併記されません。日本語の記入ができる方は入力してください。"]
[null,null,"Contribution of Members 6 （社員 6の出資金）",{"$nulls":4},"Please enter Contribution of Members 6 .\n社員 6 の出資金を入力してください。"]
[null,null,"Zip code of Members at Incorporation 6's address\n（社員 6の住所の郵便番号）",{"$nulls":3},{"$f":"TEXT(E91,\"000\")&TEXT(F91,\"0000\")","v":"0000000"},"Please enter the zip code of Member 6's address.\n社員 6 の住所の郵便番号を入力してください。"]
[null,null,"Address(Prefectures,City,Ward,Town or Village) of Members at Incorporation 6\n（社員 6の住所(都道府県市区町村)）","English",{"$f":"IF(E91=\"\", \"\", IF(F91=\"\", \"\", work!D48&\" \"&work!E48&\" \"&work!F48))","v":""},null,null,"When enter zip code, address will be automatically filled in\n郵便番号を入力すると住所が自動入力されます"]
[{"$nulls":3},"日本語",{"$f":"IF(E91=\"\", \"\", IF(F91=\"\", \"\", work!D47&\" \"&work!E47&\" \"&work!F47))","v":""},null,null,"When enter zip code, address will be automatically filled in\n郵便番号を入力すると住所が自動入力されます"]
[null,null,"Street address of Members at Incorporation 6\n（社員 6の住所の番地）",{"$nulls":4},"Please enter  enter the street adress of Member at Incorporation 6.\n社員 6 の住所の番地を入力してください。"]
[null,null,"Building name・Room number of Members at Incorporation 6（社員 6の住所の建物名・部屋番号）","English",{"$nulls":3},"Please enter the building name and room number only if required.\n建物名と部屋番号を入力する必要がある場合にのみ入力してください。"]
[{"$nulls":3},"日本語",{"$nulls":3},"Japanese will not be automatically entered in this field. If you can write in Japanese, please enter in Japanese.／この欄は日本語が自動併記されません。日本語の記入ができる方は入力してください。"]
[null,null,"Home Country Address of Member at Incorporation 6\n（社員 6の本国の住所）","English",{"$nulls":3},"Please enter home country address of Member at Incorporation 6 in English.\n社員 6 の本国の住所を英語で入力してください"]
[{"$nulls":3},"日本語",{"$nulls":3},"Japanese will not be automatically entered in this field. If you can write in Japanese, please enter in Japanese.／この欄は日本語が自動併記されません。日本語の記入ができる方は入力してください。"]
[]
[null,null,"Name of Menbers 7\n（社員 7の氏名）","English",{"$nulls":3},"Please enter Member at Incorporation 7's name in English.\n社員 7 の氏名を英語で入力してください。\nPlease select the \"Living in Japan/Not Living in Japan\" radio button.\n「日本に住んでいる/日本に住んでいない」ラジオボタンを選択してください。"]
[{"$nulls":3},"日本語",{"$nulls":3},"Japanese will not be automatically entered in this field. If you can write in Japanese, please enter in Japanese.／この欄は日本語が自動併記されません。日本語の記入ができる方は入力してください。"]
[null,null,"Contribution of Members 7 （社員 7の出資金）",{"$nulls":4},"Please enter Contribution of Members 7 .\n社員 7 の出資金を入力してください。"]
[null,null,"Zip code of Members at Incorporation 7's address\n（社員 7の住所の郵便番号）",{"$nulls":3},{"$f":"TEXT(E103,\"000\")&TEXT(F103,\"0000\")","v":"0000000"},"Please enter the zip code of Member 7's address.\n社員 7 の住所の郵便番号を入力してください。"]
[null,null,"Address(Prefectures,City,Ward,Town or Village) of Members at Incorporation 7\n（社員 7の住所(都道府県市区町村)）","English",{"$f":"IF(E103=\"\", \"\", IF(F103=\"\", \"\", work!D54&\" \"&work!E54&\" \"&work!F54))","v":""},null,null,"When enter zip code, address will be automatically filled in\n郵便番号を入力すると住所が自動入力されます"]
[{"$nulls":3},"日本語",{"$f":"IF(E103=\"\", \"\", IF(F103=\"\", \"\", work!D53&\" \"&work!E53&\" \"&work!F53))","v":""},null,null,"When enter zip code, address will be automatically filled in\n郵便番号を入力すると住所が自動入力されます"]
[null,null,"Street address of Members at Incorporation 7\n（社員 7の住所の番地）",{"$nulls":4},"Please enter  enter the street adress of Member at Incorporation 7.\n社員 7 の住所の番地を入力してください。"]
[null,null,"Building name・Room number of Members at Incorporation 7（社員 7の住所の建物名・部屋番号）","English",{"$nulls":3},"Please enter the building name and room number only if required.\n建物名と部屋番号を入力する必要がある場合にのみ入力してください。"]
[{"$nulls":3},"日本語",{"$nulls":3},"Japanese will not be automatically entered in this field. If you can write in Japanese, please enter in Japanese.／この欄は日本語が自動併記されません。日本語の記入ができる方は入力してください。"]
[null,null,"Home Country Address of Member at Incorporation 7\n（社員 7の本国の住所）","English",{"$nulls":3},"Please enter home country address of Member at Incorporation 7 in English.\n社員 7 の本国の住所を英語で入力してください"]
[{"$nulls":3},"日本語",{"$nulls":3},"Japanese will not be automatically entered in this field. If you can write in Japanese, please enter in Japanese.／この欄は日本語が自動併記されません。日本語の記入ができる方は入力してください。"]
[]
[null,null,"Name of Menbers 8\n（社員 8の氏名）","English",{"$nulls":3},"Please enter Member at Incorporation 8's name in English.\n社員 8 の氏名を英語で入力してください。\nPlease select the \"Living in Japan/Not Living in Japan\" radio button.\n「日本に住んでいる/日本に住んでいない」ラジオボタンを選択してください。"]
[{"$nulls":3},"日本語",{"$nulls":3},"Japanese will not be automatically entered in this field. If you can write in Japanese, please enter in Japanese.／この欄は日本語が自動併記されません。日本語の記入ができる方は入力してください。"]
[null,null,"Contribution of Members 8 （社員 8の出資金）",{"$nulls":4},"Please enter Contribution of Members 8 .\n社員 8 の出資金を入力してください。"]
[null,null,"Zip code of Members at Incorporation 8's address\n（社員 8の住所の郵便番号）",{"$nulls":3},{"$f":"TEXT(E115,\"000\")&TEXT(F115,\"0000\")","v":"0000000"},"Please enter the zip code of Member 8's address.\n社員 8 の住所の郵便番号を入力してください。"]
[null,null,"Address(Prefectures,City,Ward,Town or Village) of Members at Incorporation 8\n（社員 8の住所(都道府県市区町村)）","English",{"$f":"IF(E115=\"\", \"\", IF(F115=\"\", \"\", work!D60&\" \"&work!E60&\" \"&work!F60))","v":""},null,null,"When enter zip code, address will be automatically filled in\n郵便番号を入力すると住所が自動入力されます"]
[{"$nulls":3},"日本語",{"$f":"IF(E115=\"\", \"\", IF(F115=\"\", \"\", work!D59&\" \"&work!E59&\" \"&work!F59))","v":""},null,null,"When enter zip code, address will be automatically filled in\n郵便番号を入力すると住所が自動入力されます"]
[null,null,"Street address of Members at Incorporation 8\n（社員 8の住所の番地）",{"$nulls":4},"Please enter  enter the street adress of Member at Incorporation 8.\n社員 8 の住所の番地を入力してください。"]
[null,null,"Building name・Room number of Members at Incorporation 8（社員 8の住所の建物名・部屋番号）","English",{"$nulls":3},"Please enter the building name and room number only if required.\n建物名と部屋番号を入力する必要がある場合にのみ入力してください。"]
[{"$nulls":3},"日本語",{"$nulls":3},"Japanese will not be automatically entered in this field. If you can write in Japanese, please enter in Japanese.／この欄は日本語が自動併記されません。日本語の記入ができる方は入力してください。"]
[null,null,"Home Country Address of Member at Incorporation 8\n（社員 8の本国の住所）","English",{"$nulls":3},"Please enter home country address of Member at Incorporation 8 in English.\n社員 8 の本国の住所を英語で入力してください"]
[{"$nulls":3},"日本語",{"$nulls":3},"Japanese will not be automatically entered in this field. If you can write in Japanese, please enter in Japanese.／この欄は日本語が自動併記されません。日本語の記入ができる方は入力してください。"]
[]
[null,null,"Name of Menbers 9\n（社員 9の氏名）","English",{"$nulls":3},"Please enter Member at Incorporation 9's name in English.\n社員 9 の氏名を英語で入力してください。\nPlease select the \"Living in Japan/Not Living in Japan\" radio button.\n「日本に住んでいる/日本に住んでいない」ラジオボタンを選択してください。"]
[{"$nulls":3},"日本語",{"$nulls":3},"Japanese will not be automatically entered in this field. If you can write in Japanese, please enter in Japanese.／この欄は日本語が自動併記されません。日本語の記入ができる方は入力してください。"]
[null,null,"Contribution of Members 9 （社員 9の出資金）",{"$nulls":4},"Please enter Contribution of Members 9 .\n社員 9 の出資金を入力してください。"]
[null,null,"Zip code of Members at Incorporation 9's address\n（社員 9の住所の郵便番号）",{"$nulls":3},{"$f":"TEXT(E127,\"000\")&TEXT(F127,\"0000\")","v":"0000000"},"Please enter the zip code of Member 9's address.\n社員 9 の住所の郵便番号を入力してください。"]
[null,null,"Address(Prefectures,City,Ward,Town or Village) of Members at Incorporation 9 \n（社員 9の住所(都道府県市区町村)）","English",{"$f":"IF(E127=\"\", \"\", IF(F127=\"\", \"\", work!D66&\" \"&work!E66&\" \"&work!F66))","v":""},null,null,"When enter zip code, address will be automatically filled in\n郵便番号を入力すると住所が自動入力されます"]
[{"$nulls":3},"日本語",{"$f":"IF(E127=\"\", \"\", IF(F127=\"\", \"\", work!D65&\" \"&work!E65&\" \"&work!F65))","v":""},null,null,"When enter zip code, address will be automatically filled in\n郵便番号を入力すると住所が自動入力されます"]
[null,null,"Street address of Members at Incorporation 9\n（社員 9の住所の番地）",{"$nulls":4},"Please enter  enter the street adress of Member at Incorporation 9.\n社員 9 の住所の番地を入力してください。"]
[null,null,"Building name・Room number of Members at Incorporation 9（社員 9の住所の建物名・部屋番号）","English",{"$nulls":3},"Please enter the building name and room number only if required.\n建物名と部屋番号を入力する必要がある場合にのみ入力してください。"]
[{"$nulls":3},"日本語",{"$nulls":3},"Japanese will not be automatically entered in this field. If you can write in Japanese, please enter in Japanese.／この欄は日本語が自動併記されません。日本語の記入ができる方は入力してください。"]
[null,null,"Home Country Address of Member at Incorporation 9\n（社員 9の本国の住所）","English",{"$nulls":3},"Please enter home country address of Member at Incorporation 9 in English.\n社員 9 の本国の住所を英語で入力してください"]
[{"$nulls":3},"日本語",{"$nulls":3},"Japanese will not be automatically entered in this field. If you can write in Japanese, please enter in Japanese.／この欄は日本語が自動併記されません。日本語の記入ができる方は入力してください。"]
[]
[null,null,"Name of Menbers 10\n（社員 10の氏名）","English",{"$nulls":3},"Please enter Member at Incorporation 10's name in English.\n社員 10 の氏名を英語で入力してください。\nPlease select the \"Living in Japan/Not Living in Japan\" radio button.\n「日本に住んでいる/日本に住んでいない」ラジオボタンを選択してください。"]
[{"$nulls":3},"日本語",{"$nulls":3},"Japanese will not be automatically entered in this field. If you can write in Japanese, please enter in Japanese.／この欄は日本語が自動併記されません。日本語の記入ができる方は入力してください。"]
[null,null,"Contribution of Members 10 （社員 10の出資金）",{"$nulls":4},"Please enter Contribution of Members 10 .\n社員 10 の出資金を入力してください。"]
[null,null,"Zip code of Members at Incorporation 10's address\n（社員 10の住所の郵便番号）",{"$nulls":3},{"$f":"TEXT(E139,\"000\")&TEXT(F139,\"0000\")","v":"0000000"},"Please enter the zip code of Member 10's address.\n社員 10 の住所の郵便番号を入力してください。"]
[null,null,"Address(Prefectures,City,Ward,Town or Village) of Members at Incorporation 10\n（社員 10の住所(都道府県市区町村)）","English",{"$f":"IF(E139=\"\", \"\", IF(F139=\"\", \"\", work!D72&\" \"&work!E72&\" \"&work!F72))","v":""},null,null,"When enter zip code, address will be automatically filled in\n郵便番号を入力すると住所が自動入力されます"]
[{"$nulls":3},"日本語",{"$f":"IF(E139=\"\", \"\", IF(F139=\"\", \"\", work!D71&\" \"&work!E71&\" \"&work!F71))","v":""},null,null,"When enter zip code, address will be automatically filled in\n郵便番号を入力すると住所が自動入力されます"]
[null,null,"Street address of Members at Incorporation 10\n（社員 10の住所の番地）",{"$nulls":4},"Please enter  enter the street adress of Member at Incorporation 10.\n社員 10 の住所の番地を入力してください。"]
[null,null,"Building name・Room number of Members at Incorporation 10（社員 10の住所の建物名・部屋番号）","English",{"$nulls":3},"Please enter the building name and room number only if required.\n建物名と部屋番号を入力する必要がある場合にのみ入力してください。"]
[{"$nulls":3},"日本語",{"$nulls":3},"Japanese will not be automatically entered in this field. If you can write in Japanese, please enter in Japanese.／この欄は日本語が自動併記されません。日本語の記入ができる方は入力してください。"]
[null,null,"Home Country Address of Member at Incorporation 10\n（社員 10の本国の住所）","English",{"$nulls":3},"Please enter home country address of Member at Incorporation 10 in English.\n社員 10 の本国の住所を英語で入力してください"]
[{"$nulls":3},"日本語",{"$nulls":3},"Japanese will not be automatically entered in this field. If you can write in Japanese, please enter in Japanese.／この欄は日本語が自動併記されません。日本語の記入ができる方は入力してください。"]
[]
[null,null,"Name of Menbers 11\n（社員 11の氏名）","English",{"$nulls":3},"Please enter Member at Incorporation 11's name in English.\n社員 11 の氏名を英語で入力してください。\nPlease select the \"Living in Japan/Not Living in Japan\" radio button.\n「日本に住んでいる/日本に住んでいない」ラジオボタンを選択してください。"]
[{"$nulls":3},"日本語",{"$nulls":3},"Japanese will not be automatically entered in this field. If you can write in Japanese, please enter in Japanese.／この欄は日本語が自動併記されません。日本語の記入ができる方は入力してください。"]
[null,null,"Contribution of Members 11 （社員 11の出資金）",{"$nulls":4},"Please enter Contribution of Members 11 .\n社員 11 の出資金を入力してください。"]
[null,null,"Zip code of Members at Incorporation 11's address\n（社員 11の住所の郵便番号）",{"$nulls":3},{"$f":"TEXT(E151,\"000\")&TEXT(F151,\"0000\")","v":"0000000"},"Please enter the zip code of Member 11's address.\n社員 11 の住所の郵便番号を入力してください。"]
[null,null,"Address(Prefectures,City,Ward,Town or Village) of Members at Incorporation 11\n（社員 11の住所(都道府県市区町村)）","English",{"$f":"IF(E151=\"\", \"\", IF(F151=\"\", \"\", work!D78&\" \"&work!E78&\" \"&work!F78))","v":""},null,null,"When enter zip code, address will be automatically filled in\n郵便番号を入力すると住所が自動入力されます"]
[{"$nulls":3},"日本語",{"$f":"IF(E151=\"\", \"\", IF(F151=\"\", \"\", work!D77&\" \"&work!E77&\" \"&work!F77))","v":""},null,null,"When enter zip code, address will be automatically filled in\n郵便番号を入力すると住所が自動入力されます"]
[null,null,"Street address of Members at Incorporation 11\n（社員 11の住所の番地）",{"$nulls":4},"Please enter  enter the street adress of Member at Incorporation 11.\n社員 11 の住所の番地を入力してください。"]
[null,null,"Building name・Room number of Members at Incorporation 11（社員 11の住所の建物名・部屋番号）","English",{"$nulls":3},"Please enter the building name and room number only if required.\n建物名と部屋番号を入力する必要がある場合にのみ入力してください。"]
[{"$nulls":3},"日本語",{"$nulls":3},"Japanese will not be automatically entered in this field. If you can write in Japanese, please enter in Japanese.／この欄は日本語が自動併記されません。日本語の記入ができる方は入力してください。"]
[null,null,"Home Country Address of Member at Incorporation 11\n（社員 11の本国の住所）","English",{"$nulls":3},"Please enter home country address of Member at Incorporation 11 in English.\n社員 11 の本国の住所を英語で入力してください"]
[{"$nulls":3},"日本語",{"$nulls":3},"Japanese will not be automatically entered in this field. If you can write in Japanese, please enter in Japanese.／この欄は日本語が自動併記されません。日本語の記入ができる方は入力してください。"]
[]
[null,null,"Name of Menbers 12\n（社員 12の氏名）","English",{"$nulls":3},"Please enter Member at Incorporation 12's name in English.\n社員 12 の氏名を英語で入力してください。\nPlease select the \"Living in Japan/Not Living in Japan\" radio button.\n「日本に住んでいる/日本に住んでいない」ラジオボタンを選択してください。"]
[{"$nulls":3},"日本語",{"$nulls":3},"Japanese will not be automatically entered in this field. If you can write in Japanese, please enter in Japanese.／この欄は日本語が自動併記されません。日本語の記入ができる方は入力してください。"]
[null,null,"Contribution of Members 12 （社員 12の出資金）",{"$nulls":4},"Please enter Contribution of Members 12 .\n社員 12 の出資金を入力してください。"]
[null,null,"Zip code of Members at Incorporation 12's address\n（社員 12の住所の郵便番号）",{"$nulls":3},{"$f":"TEXT(E163,\"000\")&TEXT(F163,\"0000\")","v":"0000000"},"Please enter the zip code of Member 12's address.\n社員 12 の住所の郵便番号を入力してください。"]
[null,null,"Address(Prefectures,City,Ward,Town or Village) of Members at Incorporation 12\n（社員 12の住所(都道府県市区町村)）","English",{"$f":"IF(E163=\"\", \"\", IF(F163=\"\", \"\", work!D84&\" \"&work!E84&\" \"&work!F84))","v":""},null,null,"When enter zip code, address will be automatically filled in\n郵便番号を入力すると住所が自動入力されます"]
[{"$nulls":3},"日本語",{"$f":"IF(E163=\"\", \"\", IF(F163=\"\", \"\", work!D83&\" \"&work!E83&\" \"&work!F83))","v":""},null,null,"When enter zip code, address will be automatically filled in\n郵便番号を入力すると住所が自動入力されます"]
[null,null,"Street address of Members at Incorporation 12\n（社員 12の住所の番地）",{"$nulls":4},"Please enter  enter the street adress of Member at Incorporation 12.\n社員 12 の住所の番地を入力してください。"]
[null,null,"Building name・Room number of Members at Incorporation 12（社員 12の住所の建物名・部屋番号）","English",{"$nulls":3},"Please enter the building name and room number only if required.\n建物名と部屋番号を入力する必要がある場合にのみ入力してください。"]
[{"$nulls":3},"日本語",{"$nulls":3},"Japanese will not be automatically entered in this field. If you can write in Japanese, please enter in Japanese.／この欄は日本語が自動併記されません。日本語の記入ができる方は入力してください。"]
[null,null,"Home Country Address of Member at Incorporation 12\n（社員 12の本国の住所）","English",{"$nulls":3},"Please enter home country address of Member at Incorporation 12 in English.\n社員 12 の本国の住所を英語で入力してください"]
[{"$nulls":3},"日本語",{"$nulls":3},"Japanese will not be automatically entered in this field. If you can write in Japanese, please enter in Japanese.／この欄は日本語が自動併記されません。日本語の記入ができる方は入力してください。"]
[]
[null,null,"Name of Menbers 13\n（社員 13の氏名）","English",{"$nulls":3},"Please enter Member at Incorporation 13's name in English.\n社員 13 の氏名を英語で入力してください。\nPlease select the \"Living in Japan/Not Living in Japan\" radio button.\n「日本に住んでいる/日本に住んでいない」ラジオボタンを選択してください。"]
[{"$nulls":3},"日本語",{"$nulls":3},"Japanese will not be automatically entered in this field. If you can write in Japanese, please enter in Japanese.／この欄は日本語が自動併記されません。日本語の記入ができる方は入力してください。"]
[null,null,"Contribution of Members 13 （社員 13の出資金）",{"$nulls":4},"Please enter Contribution of Members 13 .\n社員 13 の出資金を入力してください。"]
[null,null,"Zip code of Members at Incorporation 13's address\n（社員 13の住所の郵便番号）",{"$nulls":3},{"$f":"TEXT(E175,\"000\")&TEXT(F175,\"0000\")","v":"0000000"},"Please enter the zip code of Member 13's address.\n社員 13 の住所の郵便番号を入力してください。"]
[null,null,"Address(Prefectures,City,Ward,Town or Village) of Members at Incorporation 13\n（社員 13の住所(都道府県市区町村)）","English",{"$f":"IF(E175=\"\", \"\", IF(F175=\"\", \"\", work!D90&\" \"&work!E90&\" \"&work!F90))","v":""},null,null,"When enter zip code, address will be automatically filled in\n郵便番号を入力すると住所が自動入力されます"]
[{"$nulls":3},"日本語",{"$f":"IF(E175=\"\", \"\", IF(F175=\"\", \"\", work!D89&\" \"&work!E89&\" \"&work!F89))","v":""},null,null,"When enter zip code, address will be automatically filled in\n郵便番号を入力すると住所が自動入力されます"]
[null,null,"Street address of Members at Incorporation 13\n（社員 13の住所の番地）",{"$nulls":4},"Please enter  enter the street adress of Member at Incorporation 13.\n社員 13 の住所の番地を入力してください。"]
[null,null,"Building name・Room number of Members at Incorporation 13（社員 13の住所の建物名・部屋番号）","English",{"$nulls":3},"Please enter the building name and room number only if required.\n建物名と部屋番号を入力する必要がある場合にのみ入力してください。"]
[{"$nulls":3},"日本語",{"$nulls":3},"Japanese will not be automatically entered in this field. If you can write in Japanese, please enter in Japanese.／この欄は日本語が自動併記されません。日本語の記入ができる方は入力してください。"]
[null,null,"Home Country Address of Member at Incorporation 13\n（社員 13の本国の住所）","English",{"$nulls":3},"Please enter home country address of Member at Incorporation 13 in English.\n社員 13 の本国の住所を英語で入力してください"]
[{"$nulls":3},"日本語",{"$nulls":3},"Japanese will not be automatically entered in this field. If you can write in Japanese, please enter in Japanese.／この欄は日本語が自動併記されません。日本語の記入ができる方は入力してください。"]
[]
[null,null,"Name of Menbers 14\n（社員 14の氏名）","English",{"$nulls":3},"Please enter Member at Incorporation 14's name in English.\n社員 14 の氏名を英語で入力してください。\nPlease select the \"Living in Japan/Not Living in Japan\" radio button.\n「日本に住んでいる/日本に住んでいない」ラジオボタンを選択してください。"]
[{"$nulls":3},"日本語",{"$nulls":3},"Japanese will not be automatically entered in this field. If you can write in Japanese, please enter in Japanese.／この欄は日本語が自動併記されません。日本語の記入ができる方は入力してください。"]
[null,null,"Contribution of Members 14 （社員 14の出資金）",{"$nulls":4},"Please enter Contribution of Members 14 .\n社員 14 の出資金を入力してください。"]
[null,null,"Zip code of Members at Incorporation 14's address\n（社員 14の住所の郵便番号）",{"$nulls":3},{"$f":"TEXT(E187,\"000\")&TEXT(F187,\"0000\")","v":"0000000"},"Please enter the zip code of Member 14's address.\n社員 14 の住所の郵便番号を入力してください。"]
[null,null,"Address(Prefectures,City,Ward,Town or Village) of Members at Incorporation 14\n（社員 14の住所(都道府県市区町村)）","English",{"$f":"IF(E187=\"\", \"\", IF(F187=\"\", \"\", work!D96&\" \"&work!E96&\" \"&work!F96))","v":""},null,null,"When enter zip code, address will be automatically filled in\n郵便番号を入力すると住所が自動入力されます"]
[{"$nulls":3},"日本語",{"$f":"IF(E187=\"\", \"\", IF(F187=\"\", \"\", work!D95&\" \"&work!E95&\" \"&work!F95))","v":""},null,null,"When enter zip code, address will be automatically filled in\n郵便番号を入力すると住所が自動入力されます"]
[null,null,"Street address of Members at Incorporation 14\n（社員 14の住所の番地）",{"$nulls":4},"Please enter  enter the street adress of Member at Incorporation 14.\n社員 14 の住所の番地を入力してください。"]
[null,null,"Building name・Room number of Members at Incorporation 14（社員 14の住所の建物名・部屋番号）","English",{"$nulls":3},"Please enter the building name and room number only if required.\n建物名と部屋番号を入力する必要がある場合にのみ入力してください。"]
[{"$nulls":3},"日本語",{"$nulls":3},"Japanese will not be automatically entered in this field. If you can write in Japanese, please enter in Japanese.／この欄は日本語が自動併記されません。日本語の記入ができる方は入力してください。"]
[null,null,"Home Country Address of Member at Incorporation 14\n（社員 14の本国の住所）","English",{"$nulls":3},"Please enter home country address of Member at Incorporation 14 in English.\n社員 14 の本国の住所を英語で入力してください"]
[{"$nulls":3},"日本語",{"$nulls":3},"Japanese will not be automatically entered in this field. If you can write in Japanese, please enter in Japanese.／この欄は日本語が自動併記されません。日本語の記入ができる方は入力してください。"]
[]
[null,null,"Name of Menbers 15\n（社員 15の氏名）","English",{"$nulls":3},"Please enter Member at Incorporation 15's name in English.\n社員 15 の氏名を英語で入力してください。\nPlease select the \"Living in Japan/Not Living in Japan\" radio button.\n「日本に住んでいる/日本に住んでいない」ラジオボタンを選択してください。"]
[{"$nulls":3},"日本語",{"$nulls":3},"Japanese will not be automatically entered in this field. If you can write in Japanese, please enter in Japanese.／この欄は日本語が自動併記されません。日本語の記入ができる方は入力してください。"]
[null,null,"Contribution of Members 15 （社員 15の出資金）",{"$nulls":4},"Please enter Contribution of Members 15 .\n社員 15 の出資金を入力してください。"]
[null,null,"Zip code of Members at Incorporation 15's address\n（社員 15の住所の郵便番号）",{"$nulls":3},{"$f":"TEXT(E199,\"000\")&TEXT(F199,\"0000\")","v":"0000000"},"Please enter the zip code of Member 15's address.\n社員 15 の住所の郵便番号を入力してください。"]
[null,null,"Address(Prefectures,City,Ward,Town or Village) of Members at Incorporation 15\n（社員 15の住所(都道府県市区町村)）","English",{"$f":"IF(E199=\"\", \"\", IF(F199=\"\", \"\", work!D102&\" \"&work!E102&\" \"&work!F102))","v":""},null,null,"When enter zip code, address will be automatically filled in\n郵便番号を入力すると住所が自動入力されます"]
[{"$nulls":3},"日本語",{"$f":"IF(E199=\"\", \"\", IF(F199=\"\", \"\", work!D101&\" \"&work!E101&\" \"&work!F101))","v":""},null,null,"When enter zip code, address will be automatically filled in\n郵便番号を入力すると住所が自動入力されます"]
[null,null,"Street address of Members at Incorporation 15\n（社員 15の住所の番地）",{"$nulls":4},"Please enter  enter the street adress of Member at Incorporation 15.\n社員 15 の住所の番地を入力してください。"]
[null,null,"Building name・Room number of Members at Incorporation 15（社員 15の住所の建物名・部屋番号）","English",{"$nulls":3},"Please enter the building name and room number only if required.\n建物名と部屋番号を入力する必要がある場合にのみ入力してください。"]
[{"$nulls":3},"日本語",{"$nulls":3},"Japanese will not be automatically entered in this field. If you can write in Japanese, please enter in Japanese.／この欄は日本語が自動併記されません。日本語の記入ができる方は入力してください。"]
[null,null,"Home Country Address of Member at Incorporation 15\n（社員 15の本国の住所）","English",{"$nulls":3},"Please enter home country address of Member at Incorporation 15 in English.\n社員 15 の本国の住所を英語で入力してください"]
[{"$nulls":3},"日本語",{"$nulls":3},"Japanese will not be automatically entered in this field. If you can write in Japanese, please enter in Japanese.／この欄は日本語が自動併記されません。日本語の記入ができる方は入力してください。"]
[]
[null,null,"Name of Menbers 16\n（社員 16の氏名）","English",{"$nulls":3},"Please enter Member at Incorporation 16's name in English.\n社員 16 の氏名を英語で入力してください。\nPlease select the \"Living in Japan/Not Living in Japan\" radio button.\n「日本に住んでいる/日本に住んでいない」ラジオボタンを選択してください。"]
[{"$nulls":3},"日本語",{"$nulls":3},"Japanese will not be automatically entered in this field. If you can write in Japanese, please enter in Japanese.／この欄は日本語が自動併記されません。日本語の記入ができる方は入力してください。"]
[null,null,"Contribution of Members 16 （社員 16の出資金）",{"$nulls":4},"Please enter Contribution of Members 16 .\n社員 16 の出資金を入力してください。"]
[null,null,"Zip code of Members at Incorporation 16's address\n（社員 16の住所の郵便番号）",{"$nulls":3},{"$f":"TEXT(E211,\"000\")&TEXT(F211,\"0000\")","v":"0000000"},"Please enter the zip code of Member 16's address.\n社員 16 の住所の郵便番号を入力してください。"]
[null,null,"Address(Prefectures,City,Ward,Town or Village) of Members at Incorporation 16\n（社員 16の住所(都道府県市区町村)）","English",{"$f":"IF(E211=\"\", \"\", IF(F211=\"\", \"\", work!D108&\" \"&work!E108&\" \"&work!F108))","v":""},null,null,"When enter zip code, address will be automatically filled in\n郵便番号を入力すると住所が自動入力されます"]
[{"$nulls":3},"日本語",{"$f":"IF(E211=\"\", \"\", IF(F211=\"\", \"\", work!D107&\" \"&work!E107&\" \"&work!F107))","v":""},null,null,"When enter zip code, address will be automatically filled in\n郵便番号を入力すると住所が自動入力されます"]
[null,null,"Street address of Members at Incorporation 16\n（社員 16の住所の番地）",{"$nulls":4},"Please enter  enter the street adress of Member at Incorporation 16.\n社員 16 の住所の番地を入力してください。"]
[null,null,"Building name・Room number of Members at Incorporation 16（社員 16の住所の建物名・部屋番号）","English",{"$nulls":3},"Please enter the building name and room number only if required.\n建物名と部屋番号を入力する必要がある場合にのみ入力してください。"]
[{"$nulls":3},"日本語",{"$nulls":3},"Japanese will not be automatically entered in this field. If you can write in Japanese, please enter in Japanese.／この欄は日本語が自動併記されません。日本語の記入ができる方は入力してください。"]
[null,null,"Home Country Address of Member at Incorporation 16\n（社員 16の本国の住所）","English",{"$nulls":3},"Please enter home country address of Member at Incorporation 16 in English.\n社員 16 の本国の住所を英語で入力してください"]
[{"$nulls":3},"日本語",{"$nulls":3},"Japanese will not be automatically entered in this field. If you can write in Japanese, please enter in Japanese.／この欄は日本語が自動併記されません。日本語の記入ができる方は入力してください。"]
[]
[null,null,"Name of Menbers 17\n（社員 17の氏名）","English",{"$nulls":3},"Please enter Member at Incorporation 17's name in English.\n社員 17 の氏名を英語で入力してください。\nPlease select the \"Living in Japan/Not Living in Japan\" radio button.\n「日本に住んでいる/日本に住んでいない」ラジオボタンを選択してください。"]
[{"$nulls":3},"日本語",{"$nulls":3},"Japanese will not be automatically entered in this field. If you can write in Japanese, please enter in Japanese.／この欄は日本語が自動併記されません。日本語の記入ができる方は入力してください。"]
[null,null,"Contribution of Members 17 （社員 17の出資金）",{"$nulls":4},"Please enter Contribution of Members 17 .\n社員 17 の出資金を入力してください。"]
[null,null,"Zip code of Members at Incorporation 17's address\n（社員 17の住所の郵便番号）",{"$nulls":3},{"$f":"TEXT(E223,\"000\")&TEXT(F223,\"0000\")","v":"0000000"},"Please enter the zip code of Member 17's address.\n社員 17 の住所の郵便番号を入力してください。"]
[null,null,"Address(Prefectures,City,Ward,Town or Village) of Members at Incorporation 17 \n（社員 17の住所(都道府県市区町村)）","English",{"$f":"IF(E223=\"\", \"\", IF(F223=\"\", \"\", work!D114&\" \"&work!E114&\" \"&work!F114))","v":""},null,null,"When enter zip code, address will be automatically filled in\n郵便番号を入力すると住所が自動入力されます"]
[{"$nulls":3},"日本語",{"$f":"IF(E223=\"\", \"\", IF(F223=\"\", \"\", work!D113&\" \"&work!E113&\" \"&work!F113))","v":""},null,null,"When enter zip code, address will be automatically filled in\n郵便番号を入力すると住所が自動入力されます"]
[null,null,"Street address of Members at Incorporation 17\n（社員 17の住所の番地）",{"$nulls":4},"Please enter  enter the street adress of Member at Incorporation 17.\n社員 17 の住所の番地を入力してください。"]
[null,null,"Building name・Room number of Members at Incorporation 17（社員 17の住所の建物名・部屋番号）","English",{"$nulls":3},"Please enter the building name and room number only if required.\n建物名と部屋番号を入力する必要がある場合にのみ入力してください。"]
[{"$nulls":3},"日本語",{"$nulls":3},"Japanese will not be automatically entered in this field. If you can write in Japanese, please enter in Japanese.／この欄は日本語が自動併記されません。日本語の記入ができる方は入力してください。"]
[null,null,"Home Country Address of Member at Incorporation 17\n（社員 17の本国の住所）","English",{"$nulls":3},"Please enter home country address of Member at Incorporation 17 in English.\n社員 17 の本国の住所を英語で入力してください"]
[{"$nulls":3},"日本語",{"$nulls":3},"Japanese will not be automatically entered in this field. If you can write in Japanese, please enter in Japanese.／この欄は日本語が自動併記されません。日本語の記入ができる方は入力してください。"]
[]
[null,null,"Name of Menbers 18\n（社員 18の氏名）","English",{"$nulls":3},"Please enter Member at Incorporation 18's name in English.\n社員 18 の氏名を英語で入力してください。\nPlease select the \"Living in Japan/Not Living in Japan\" radio button.\n「日本に住んでいる/日本に住んでいない」ラジオボタンを選択してください。"]
[{"$nulls":3},"日本語",{"$nulls":3},"Japanese will not be automatically entered in this field. If you can write in Japanese, please enter in Japanese.／この欄は日本語が自動併記されません。日本語の記入ができる方は入力してください。"]
[null,null,"Contribution of Members 18 （社員 2の出資金）",{"$nulls":4},"Please enter Contribution of Members 18 .\n社員 18 の出資金を入力してください。"]
[null,null,"Zip code of Members at Incorporation 18's address\n（社員 18の住所の郵便番号）",{"$nulls":3},{"$f":"TEXT(E235,\"000\")&TEXT(F235,\"0000\")","v":"0000000"},"Please enter the zip code of Member 18's address.\n社員 18 の住所の郵便番号を入力してください。"]
[null,null,"Address(Prefectures,City,Ward,Town or Village) of Members at Incorporation 18 \n（社員 18の住所(都道府県市区町村)）","English",{"$f":"IF(E235=\"\", \"\", IF(F235=\"\", \"\", work!D120&\" \"&work!E120&\" \"&work!F120))","v":""},null,null,"When enter zip code, address will be automatically filled in\n郵便番号を入力すると住所が自動入力されます"]
[{"$nulls":3},"日本語",{"$f":"IF(E235=\"\", \"\", IF(F235=\"\", \"\", work!D119&\" \"&work!E119&\" \"&work!F119))","v":""},null,null,"When enter zip code, address will be automatically filled in\n郵便番号を入力すると住所が自動入力されます"]
[null,null,"Street address of Members at Incorporation 18\n（社員 18の住所の番地）",{"$nulls":4},"Please enter  enter the street adress of Member at Incorporation 18.\n社員 18 の住所の番地を入力してください。"]
[null,null,"Building name・Room number of Members at Incorporation 18（社員 18の住所の建物名・部屋番号）","English",{"$nulls":3},"Please enter the building name and room number only if required.\n建物名と部屋番号を入力する必要がある場合にのみ入力してください。"]
[{"$nulls":3},"日本語",{"$nulls":3},"Japanese will not be automatically entered in this field. If you can write in Japanese, please enter in Japanese.／この欄は日本語が自動併記されません。日本語の記入ができる方は入力してください。"]
[null,null,"Home Country Address of Member at Incorporation 18\n（社員 18の本国の住所）","English",{"$nulls":3},"Please enter home country address of Member at Incorporation 18 in English.\n社員 18 の本国の住所を英語で入力してください"]
[{"$nulls":3},"日本語",{"$nulls":3},"Japanese will not be automatically entered in this field. If you can write in Japanese, please enter in Japanese.／この欄は日本語が自動併記されません。日本語の記入ができる方は入力してください。"]
[]
[null,null,"Name of Menbers 19\n（社員 19の氏名）","English",{"$nulls":3},"Please enter Member at Incorporation 19's name in English.\n社員 19 の氏名を英語で入力してください。\nPlease select the \"Living in Japan/Not Living in Japan\" radio button.\n「日本に住んでいる/日本に住んでいない」ラジオボタンを選択してください。"]
[{"$nulls":3},"日本語",{"$nulls":3},"Japanese will not be automatically entered in this field. If you can write in Japanese, please enter in Japanese.／この欄は日本語が自動併記されません。日本語の記入ができる方は入力してください。"]
[null,null,"Contribution of Members 19 （社員 19の出資金）",{"$nulls":4},"Please enter Contribution of Members 19 .\n社員 19 の出資金を入力してください。"]
[null,null,"Zip code of Members at Incorporation 19's address\n（社員 19の住所の郵便番号）",{"$nulls":3},{"$f":"TEXT(E247,\"000\")&TEXT(F247,\"0000\")","v":"0000000"},"Please enter the zip code of Member 19's address.\n社員 19 の住所の郵便番号を入力してください。"]
[null,null,"Address(Prefectures,City,Ward,Town or Village) of Members at Incorporation 19 \n（社員 19の住所(都道府県市区町村)）","English",{"$f":"IF(E247=\"\", \"\", IF(F247=\"\", \"\", work!D126&\" \"&work!E126&\" \"&work!F126))","v":""},null,null,"When enter zip code, address will be automatically filled in\n郵便番号を入力すると住所が自動入力されます"]
[{"$nulls":3},"日本語",{"$f":"IF(E247=\"\", \"\", IF(F247=\"\", \"\", work!D125&\" \"&work!E125&\" \"&work!F125))","v":""},null,null,"When enter zip code, address will be automatically filled in\n郵便番号を入力すると住所が自動入力されます"]
[null,null,"Street address of Members at Incorporation 19\n（社員 19の住所の番地）",{"$nulls":4},"Please enter  enter the street adress of Member at Incorporation 19.\n社員 19 の住所の番地を入力してください。"]
[null,null,"Building name・Room number of Members at Incorporation 19（社員 19の住所の建物名・部屋番号）","English",{"$nulls":3},"Please enter the building name and room number only if required.\n建物名と部屋番号を入力する必要がある場合にのみ入力してください。"]
[{"$nulls":3},"日本語",{"$nulls":3},"Japanese will not be automatically entered in this field. If you can write in Japanese, please enter in Japanese.／この欄は日本語が自動併記されません。日本語の記入ができる方は入力してください。"]
[null,null,"Home Country Address of Member at Incorporation 19\n（社員 19の本国の住所）","English",{"$nulls":3},"Please enter home country address of Member at Incorporation 19 in English.\n社員 19 の本国の住所を英語で入力してください"]
[{"$nulls":3},"日本語",{"$nulls":3},"Japanese will not be automatically entered in this field. If you can write in Japanese, please enter in Japanese.／この欄は日本語が自動併記されません。日本語の記入ができる方は入力してください。"]
[]
[null,null,"Name of Menbers 20\n（社員 20の氏名）","English",{"$nulls":3},"Please enter Member at Incorporation 20's name in English.\n社員 20 の氏名を英語で入力してください。\nPlease select the \"Living in Japan/Not Living in Japan\" radio button.\n「日本に住んでいる/日本に住んでいない」ラジオボタンを選択してください。"]
[{"$nulls":3},"日本語",{"$nulls":3},"Japanese will not be automatically entered in this field. If you can write in Japanese, please enter in Japanese.／この欄は日本語が自動併記されません。日本語の記入ができる方は入力してください。"]
[null,null,"Contribution of Members 20 （社員 20の出資金）",{"$nulls":4},"Please enter Contribution of Members 20 .\n社員 20 の出資金を入力してください。"]
[null,null,"Zip code of Members at Incorporation 20's address\n（社員 20の住所の郵便番号）",{"$nulls":3},{"$f":"TEXT(E259,\"000\")&TEXT(F259,\"0000\")","v":"0000000"},"Please enter the zip code of Member 20's address.\n社員 20 の住所の郵便番号を入力してください。"]
[null,null,"Address(Prefectures,City,Ward,Town or Village) of Members at Incorporation 20\n（社員 20の住所(都道府県市区町村)）","English",{"$f":"IF(E259=\"\", \"\", IF(F259=\"\", \"\", work!D132&\" \"&work!E132&\" \"&work!F132))","v":""},null,null,"When enter zip code, address will be automatically filled in\n郵便番号を入力すると住所が自動入力されます"]
[{"$nulls":3},"日本語",{"$f":"IF(E259=\"\", \"\", IF(F259=\"\", \"\", work!D131&\" \"&work!E131&\" \"&work!F131))","v":""},null,null,"When enter zip code, address will be automatically filled in\n郵便番号を入力すると住所が自動入力されます"]
[null,null,"Street address of Members at Incorporation 20\n（社員 20の住所の番地）",{"$nulls":4},"Please enter  enter the street adress of Member at Incorporation 20.\n社員 20 の住所の番地を入力してください。"]
[null,null,"Building name・Room number of Members at Incorporation 20（社員 20の住所の建物名・部屋番号）","English",{"$nulls":3},"Please enter the building name and room number only if required.\n建物名と部屋番号を入力する必要がある場合にのみ入力してください。"]
[{"$nulls":3},"日本語",{"$nulls":3},"Japanese will not be automatically entered in this field. If you can write in Japanese, please enter in Japanese.／この欄は日本語が自動併記されません。日本語の記入ができる方は入力してください。"]
[null,null,"Home Country Address of Member at Incorporation 20\n（社員 20の本国の住所）","English",{"$nulls":3},"Please enter home country address of Member at Incorporation 20 in English.\n社員 20 の本国の住所を英語で入力してください"]
[{"$nulls":3},"日本語",{"$nulls":3},"Japanese will not be automatically entered in this field. If you can write in Japanese, please enter in Japanese.／この欄は日本語が自動併記されません。日本語の記入ができる方は入力してください。"]
[]
[null,null,"Name of Menbers 21\n（社員 21の氏名）","English",{"$nulls":3},"Please enter Member at Incorporation 21's name in English.\n社員 21 の氏名を英語で入力してください。\nPlease select the \"Living in Japan/Not Living in Japan\" radio button.\n「日本に住んでいる/日本に住んでいない」ラジオボタンを選択してください。"]
[{"$nulls":3},"日本語",{"$nulls":3},"Japanese will not be automatically entered in this field. If you can write in Japanese, please enter in Japanese.／この欄は日本語が自動併記されません。日本語の記入ができる方は入力してください。"]
[null,null,"Contribution of Members 1 （社員 1の出資金）",{"$nulls":4},"Please enter Contribution of Members 21 .\n社員 21 の出資金を入力してください。"]
[null,null,"Zip code of Members at Incorporation 21's address\n（社員 21の住所の郵便番号）",{"$nulls":3},{"$f":"TEXT(E271,\"000\")&TEXT(F271,\"0000\")","v":"0000000"},"Please enter the zip code of Member 21's address.\n社員 21 の住所の郵便番号を入力してください。"]
[null,null,"Address(Prefectures,City,Ward,Town or Village) of Members at Incorporation 21 \n（社員 21の住所(都道府県市区町村)）","English",{"$f":"IF(E271=\"\", \"\", IF(F271=\"\", \"\", work!D138&\" \"&work!E138&\" \"&work!F138))","v":""},null,null,"When enter zip code, address will be automatically filled in\n郵便番号を入力すると住所が自動入力されます"]
[{"$nulls":3},"日本語",{"$f":"IF(E271=\"\", \"\", IF(F271=\"\", \"\", work!D137&\" \"&work!E137&\" \"&work!F137))","v":""},null,null,"When enter zip code, address will be automatically filled in\n郵便番号を入力すると住所が自動入力されます"]
[null,null,"Street address of Members at Incorporation 21\n（社員 21の住所の番地）",{"$nulls":4},"Please enter  enter the street adress of Member at Incorporation 21.\n社員 21 の住所の番地を入力してください。"]
[null,null,"Building name・Room number of Members at Incorporation 21（社員 21の住所の建物名・部屋番号）","English",{"$nulls":3},"Please enter the building name and room number only if required.\n建物名と部屋番号を入力する必要がある場合にのみ入力してください。"]
[{"$nulls":3},"日本語",{"$nulls":3},"Japanese will not be automatically entered in this field. If you can write in Japanese, please enter in Japanese.／この欄は日本語が自動併記されません。日本語の記入ができる方は入力してください。"]
[null,null,"Home Country Address of Member at Incorporation 21\n（社員 21の本国の住所）","English",{"$nulls":3},"Please enter home country address of Member at Incorporation 21 in English.\n社員 21 の本国の住所を英語で入力してください"]
[{"$nulls":3},"日本語",{"$nulls":3},"Japanese will not be automatically entered in this field. If you can write in Japanese, please enter in Japanese.／この欄は日本語が自動併記されません。日本語の記入ができる方は入力してください。"]
[]
[null,null,"Name of Menbers 22\n（社員 22の氏名）","English",{"$nulls":3},"Please enter Member at Incorporation 22's name in English.\n社員 22 の氏名を英語で入力してください。\nPlease select the \"Living in Japan/Not Living in Japan\" radio button.\n「日本に住んでいる/日本に住んでいない」ラジオボタンを選択してください。"]
[{"$nulls":3},"日本語",{"$nulls":3},"Japanese will not be automatically entered in this field. If you can write in Japanese, please enter in Japanese.／この欄は日本語が自動併記されません。日本語の記入ができる方は入力してください。"]
[null,null,"Contribution of Members 22 （社員 22の出資金）",{"$nulls":4},"Please enter Contribution of Members 22 .\n社員 22 の出資金を入力してください。"]
[null,null,"Zip code of Members at Incorporation 22's address\n（社員 22の住所の郵便番号）",{"$nulls":3},{"$f":"TEXT(E283,\"000\")&TEXT(F283,\"0000\")","v":"0000000"},"Please enter the zip code of Member 22's address.\n社員 22 の住所の郵便番号を入力してください。"]
[null,null,"Address(Prefectures,City,Ward,Town or Village) of Members at Incorporation 22 \n（社員 22の住所(都道府県市区町村)）","English",{"$f":"IF(E283=\"\", \"\", IF(F283=\"\", \"\", work!D144&\" \"&work!E144&\" \"&work!F144))","v":""},null,null,"When enter zip code, address will be automatically filled in\n郵便番号を入力すると住所が自動入力されます"]
[{"$nulls":3},"日本語",{"$f":"IF(E283=\"\", \"\", IF(F283=\"\", \"\", work!D143&\" \"&work!E143&\" \"&work!F143))","v":""},null,null,"When enter zip code, address will be automatically filled in\n郵便番号を入力すると住所が自動入力されます"]
[null,null,"Street address of Members at Incorporation 22\n（社員 22の住所の番地）",{"$nulls":4},"Please enter  enter the street adress of Member at Incorporation 22.\n社員 22 の住所の番地を入力してください。"]
[null,null,"Building name・Room number of Members at Incorporation 22（社員 22の住所の建物名・部屋番号）","English",{"$nulls":3},"Please enter the building name and room number only if required.\n建物名と部屋番号を入力する必要がある場合にのみ入力してください。"]
[{"$nulls":3},"日本語",{"$nulls":3},"Japanese will not be automatically entered in this field. If you can write in Japanese, please enter in Japanese.／この欄は日本語が自動併記されません。日本語の記入ができる方は入力してください。"]
[null,null,"Home Country Address of Member at Incorporation 22\n（社員 22の本国の住所）","English",{"$nulls":3},"Please enter home country address of Member at Incorporation 22 in English.\n社員 22 の本国の住所を英語で入力してください"]
[{"$nulls":3},"日本語",{"$nulls":3},"Japanese will not be automatically entered in this field. If you can write in Japanese, please enter in Japanese.／この欄は日本語が自動併記されません。日本語の記入ができる方は入力してください。"]
[]
[null,null,"Name of Menbers 23\n（社員 23の氏名）","English",{"$nulls":3},"Please enter Member at Incorporation 23's name in English.\n社員 23 の氏名を英語で入力してください。\nPlease select the \"Living in Japan/Not Living in Japan\" radio button.\n「日本に住んでいる/日本に住んでいない」ラジオボタンを選択してください。"]
[{"$nulls":3},"日本語",{"$nulls":3},"Japanese will not be automatically entered in this field. If you can write in Japanese, please enter in Japanese.／この欄は日本語が自動併記されません。日本語の記入ができる方は入力してください。"]
[null,null,"Contribution of Members 23 （社員 23の出資金）",{"$nulls":4},"Please enter Contribution of Members 23 .\n社員 23 の出資金を入力してください。"]
[null,null,"Zip code of Members at Incorporation 23's address\n（社員 23の住所の郵便番号）",{"$nulls":3},{"$f":"TEXT(E295,\"000\")&TEXT(F295,\"0000\")","v":"0000000"},"Please enter the zip code of Member 23's address.\n社員 23 の住所の郵便番号を入力してください。"]
[null,null,"Address(Prefectures,City,Ward,Town or Village) of Members at Incorporation 23 \n（社員 23の住所(都道府県市区町村)）","English",{"$f":"IF(E295=\"\", \"\", IF(F295=\"\", \"\", work!D150&\" \"&work!E150&\" \"&work!F150))","v":""},null,null,"When enter zip code, address will be automatically filled in\n郵便番号を入力すると住所が自動入力されます"]
[{"$nulls":3},"日本語",{"$f":"IF(E295=\"\", \"\", IF(F295=\"\", \"\", work!D149&\" \"&work!E149&\" \"&work!F149))","v":""},null,null,"When enter zip code, address will be automatically filled in\n郵便番号を入力すると住所が自動入力されます"]
[null,null,"Street address of Members at Incorporation 23\n（社員 23の住所の番地）",{"$nulls":4},"Please enter  enter the street adress of Member at Incorporation 23.\n社員 23 の住所の番地を入力してください。"]
[null,null,"Building name・Room number of Members at Incorporation 23（社員 23の住所の建物名・部屋番号）","English",{"$nulls":3},"Please enter the building name and room number only if required.\n建物名と部屋番号を入力する必要がある場合にのみ入力してください。"]
[{"$nulls":3},"日本語",{"$nulls":3},"Japanese will not be automatically entered in this field. If you can write in Japanese, please enter in Japanese.／この欄は日本語が自動併記されません。日本語の記入ができる方は入力してください。"]
[null,null,"Home Country Address of Member at Incorporation 23\n（社員 23の本国の住所）","English",{"$nulls":3},"Please enter home country address of Member at Incorporation 23 in English.\n社員 23 の本国の住所を英語で入力してください"]
[{"$nulls":3},"日本語",{"$nulls":3},"Japanese will not be automatically entered in this field. If you can write in Japanese, please enter in Japanese.／この欄は日本語が自動併記されません。日本語の記入ができる方は入力してください。"]
[]
[null,null,"Name of Menbers 24\n（社員 24の氏名）","English",{"$nulls":3},"Please enter Member at Incorporation 24's name in English.\n社員 24 の氏名を英語で入力してください。\nPlease select the \"Living in Japan/Not Living in Japan\" radio button.\n「日本に住んでいる/日本に住んでいない」ラジオボタンを選択してください。"]
[{"$nulls":3},"日本語",{"$nulls":3},"Japanese will not be automatically entered in this field. If you can write in Japanese, please enter in Japanese.／この欄は日本語が自動併記されません。日本語の記入ができる方は入力してください。"]
[null,null,"Contribution of Members 24 （社員24の出資金）",{"$nulls":4},"Please enter Contribution of Members 24 .\n社員 24 の出資金を入力してください。"]
[null,null,"Zip code of Members at Incorporation 24's address\n（社員 24の住所の郵便番号）",{"$nulls":3},{"$f":"TEXT(E307,\"000\")&TEXT(F307,\"0000\")","v":"0000000"},"Please enter the zip code of Member 24's address.\n社員 24 の住所の郵便番号を入力してください。"]
[null,null,"Address(Prefectures,City,Ward,Town or Village) of Members at Incorporation 24 \n（社員 24の住所(都道府県市区町村)）","English",{"$f":"IF(E307=\"\", \"\", IF(F307=\"\", \"\", work!D156&\" \"&work!E156&\" \"&work!F156))","v":""},null,null,"When enter zip code, address will be automatically filled in\n郵便番号を入力すると住所が自動入力されます"]
[{"$nulls":3},"日本語",{"$f":"IF(E307=\"\", \"\", IF(F307=\"\", \"\", work!D155&\" \"&work!E155&\" \"&work!F155))","v":""},null,null,"When enter zip code, address will be automatically filled in\n郵便番号を入力すると住所が自動入力されます"]
[null,null,"Street address of Members at Incorporation 24\n（社員 24の住所の番地）",{"$nulls":4},"Please enter  enter the street adress of Member at Incorporation 24.\n社員 24 の住所の番地を入力してください。"]
[null,null,"Building name・Room number of Members at Incorporation 24（社員 24の住所の建物名・部屋番号）","English",{"$nulls":3},"Please enter the building name and room number only if required.\n建物名と部屋番号を入力する必要がある場合にのみ入力してください。"]
[{"$nulls":3},"日本語",{"$nulls":3},"Japanese will not be automatically entered in this field. If you can write in Japanese, please enter in Japanese.／この欄は日本語が自動併記されません。日本語の記入ができる方は入力してください。"]
[null,null,"Home Country Address of Member at Incorporation 24\n（社員 24の本国の住所）","English",{"$nulls":3},"Please enter home country address of Member at Incorporation 24 in English.\n社員 24 の本国の住所を英語で入力してください"]
[{"$nulls":3},"日本語",{"$nulls":3},"Japanese will not be automatically entered in this field. If you can write in Japanese, please enter in Japanese.／この欄は日本語が自動併記されません。日本語の記入ができる方は入力してください。"]
[]
[null,null,"Name of Menbers 25\n（社員 25の氏名）","English",{"$nulls":3},"Please enter Member at Incorporation 25's name in English.\n社員 25 の氏名を英語で入力してください。\nPlease select the \"Living in Japan/Not Living in Japan\" radio button.\n「日本に住んでいる/日本に住んでいない」ラジオボタンを選択してください。"]
[{"$nulls":3},"日本語",{"$nulls":3},"Japanese will not be automatically entered in this field. If you can write in Japanese, please enter in Japanese.／この欄は日本語が自動併記されません。日本語の記入ができる方は入力してください。"]
[null,null,"Contribution of Members 25 （社員 25の出資金）",{"$nulls":4},"Please enter Contribution of Members 25 .\n社員 25 の出資金を入力してください。"]
[null,null,"Zip code of Members at Incorporation 25's address\n（社員 25の住所の郵便番号）",{"$nulls":3},{"$f":"TEXT(E319,\"000\")&TEXT(F319,\"0000\")","v":"0000000"},"Please enter the zip code of Member 25's address.\n社員 25 の住所の郵便番号を入力してください。"]
[null,null,"Address(Prefectures,City,Ward,Town or Village) of Members at Incorporation 25 \n（社員 25の住所(都道府県市区町村)）","English",{"$f":"IF(E319=\"\", \"\", IF(F319=\"\", \"\", work!D162&\" \"&work!E162&\" \"&work!F162))","v":""},null,null,"When enter zip code, address will be automatically filled in\n郵便番号を入力すると住所が自動入力されます"]
[{"$nulls":3},"日本語",{"$f":"IF(E319=\"\", \"\", IF(F319=\"\", \"\", work!D161&\" \"&work!E161&\" \"&work!F161))","v":""},null,null,"When enter zip code, address will be automatically filled in\n郵便番号を入力すると住所が自動入力されます"]
[null,null,"Street address of Members at Incorporation 25\n（社員 25の住所の番地）",{"$nulls":4},"Please enter  enter the street adress of Member at Incorporation 25.\n社員 25 の住所の番地を入力してください。"]
[null,null,"Building name・Room number of Members at Incorporation 25（社員 25の住所の建物名・部屋番号）","English",{"$nulls":3},"Please enter the building name and room number only if required.\n建物名と部屋番号を入力する必要がある場合にのみ入力してください。"]
[{"$nulls":3},"日本語",{"$nulls":3},"Japanese will not be automatically entered in this field. If you can write in Japanese, please enter in Japanese.／この欄は日本語が自動併記されません。日本語の記入ができる方は入力してください。"]
[null,null,"Home Country Address of Member at Incorporation 25\n（社員 25の本国の住所）","English",{"$nulls":3},"Please enter home country address of Member at Incorporation 25 in English.\n社員 25 の本国の住所を英語で入力してください"]
[{"$nulls":3},"日本語",{"$nulls":3},"Japanese will not be automatically entered in this field. If you can write in Japanese, please enter in Japanese.／この欄は日本語が自動併記されません。日本語の記入ができる方は入力してください。"]
[]
[null,null,"Name of Menbers 26\n（社員 26の氏名）","English",{"$nulls":3},"Please enter Member at Incorporation 26's name in English.\n社員 26 の氏名を英語で入力してください。\nPlease select the \"Living in Japan/Not Living in Japan\" radio button.\n「日本に住んでいる/日本に住んでいない」ラジオボタンを選択してください。"]
[{"$nulls":3},"日本語",{"$nulls":3},"Japanese will not be automatically entered in this field. If you can write in Japanese, please enter in Japanese.／この欄は日本語が自動併記されません。日本語の記入ができる方は入力してください。"]
[null,null,"Contribution of Members 26 （社員 26の出資金）",{"$nulls":4},"Please enter Contribution of Members 26 .\n社員 26 の出資金を入力してください。"]
[null,null,"Zip code of Members at Incorporation 26's address\n（社員 26の住所の郵便番号）",{"$nulls":3},{"$f":"TEXT(E331,\"000\")&TEXT(F331,\"0000\")","v":"0000000"},"Please enter the zip code of Member 26's address.\n社員 26 の住所の郵便番号を入力してください。"]
[null,null,"Address(Prefectures,City,Ward,Town or Village) of Members at Incorporation 26 \n（社員 26の住所(都道府県市区町村)）","English",{"$f":"IF(E331=\"\", \"\", IF(F331=\"\", \"\", work!D168&\" \"&work!E168&\" \"&work!F168))","v":""},null,null,"When enter zip code, address will be automatically filled in\n郵便番号を入力すると住所が自動入力されます"]
[{"$nulls":3},"日本語",{"$f":"IF(E331=\"\", \"\", IF(F331=\"\", \"\", work!D167&\" \"&work!E167&\" \"&work!F167))","v":""},null,null,"When enter zip code, address will be automatically filled in\n郵便番号を入力すると住所が自動入力されます"]
[null,null,"Street address of Members at Incorporation 26\n（社員 26の住所の番地）",{"$nulls":4},"Please enter  enter the street adress of Member at Incorporation 26.\n社員 26 の住所の番地を入力してください。"]
[null,null,"Building name・Room number of Members at Incorporation 26（社員 26の住所の建物名・部屋番号）","English",{"$nulls":3},"Please enter the building name and room number only if required.\n建物名と部屋番号を入力する必要がある場合にのみ入力してください。"]
[{"$nulls":3},"日本語",{"$nulls":3},"Japanese will not be automatically entered in this field. If you can write in Japanese, please enter in Japanese.／この欄は日本語が自動併記されません。日本語の記入ができる方は入力してください。"]
[null,null,"Home Country Address of Member at Incorporation 26\n（社員 26の本国の住所）","English",{"$nulls":3},"Please enter home country address of Member at Incorporation 26 in English.\n社員 26 の本国の住所を英語で入力してください"]
[{"$nulls":3},"日本語",{"$nulls":3},"Japanese will not be automatically entered in this field. If you can write in Japanese, please enter in Japanese.／この欄は日本語が自動併記されません。日本語の記入ができる方は入力してください。"]
[]
[null,null,"Name of Menbers 27\n（社員 27の氏名）","English",{"$nulls":3},"Please enter Member at Incorporation 27's name in English.\n社員 27 の氏名を英語で入力してください。\nPlease select the \"Living in Japan/Not Living in Japan\" radio button.\n「日本に住んでいる/日本に住んでいない」ラジオボタンを選択してください。"]
[{"$nulls":3},"日本語",{"$nulls":3},"Japanese will not be automatically entered in this field. If you can write in Japanese, please enter in Japanese.／この欄は日本語が自動併記されません。日本語の記入ができる方は入力してください。"]
[null,null,"Contribution of Members 27 （社員 27の出資金）",{"$nulls":4},"Please enter Contribution of Members 27 .\n社員 27 の出資金を入力してください。"]
[null,null,"Zip code of Members at Incorporation 27's address\n（社員 27の住所の郵便番号）",{"$nulls":3},{"$f":"TEXT(E343,\"000\")&TEXT(F343,\"0000\")","v":"0000000"},"Please enter the zip code of Member 27's address.\n社員 27 の住所の郵便番号を入力してください。"]
[null,null,"Address(Prefectures,City,Ward,Town or Village) of Members at Incorporation 27 \n（社員 27の住所(都道府県市区町村)）","English",{"$f":"IF(E343=\"\", \"\", IF(F343=\"\", \"\", work!D174&\" \"&work!E174&\" \"&work!F174))","v":""},null,null,"When enter zip code, address will be automatically filled in\n郵便番号を入力すると住所が自動入力されます"]
[{"$nulls":3},"日本語",{"$f":"IF(E343=\"\", \"\", IF(F343=\"\", \"\", work!D173&\" \"&work!E173&\" \"&work!F173))","v":""},null,null,"When enter zip code, address will be automatically filled in\n郵便番号を入力すると住所が自動入力されます"]
[null,null,"Street address of Members at Incorporation 27\n（社員 27の住所の番地）",{"$nulls":4},"Please enter  enter the street adress of Member at Incorporation 27.\n社員 27 の住所の番地を入力してください。"]
[null,null,"Building name・Room number of Members at Incorporation 27（社員 27の住所の建物名・部屋番号）","English",{"$nulls":3},"Please enter the building name and room number only if required.\n建物名と部屋番号を入力する必要がある場合にのみ入力してください。"]
[{"$nulls":3},"日本語",{"$nulls":3},"Japanese will not be automatically entered in this field. If you can write in Japanese, please enter in Japanese.／この欄は日本語が自動併記されません。日本語の記入ができる方は入力してください。"]
[null,null,"Home Country Address of Member at Incorporation 27\n（社員 27の本国の住所）","English",{"$nulls":3},"Please enter home country address of Member at Incorporation 27 in English.\n社員 27 の本国の住所を英語で入力してください"]
[{"$nulls":3},"日本語",{"$nulls":3},"Japanese will not be automatically entered in this field. If you can write in Japanese, please enter in Japanese.／この欄は日本語が自動併記されません。日本語の記入ができる方は入力してください。"]
[]
[null,null,"Name of Menbers 28\n（社員 28の氏名）","English",{"$nulls":3},"Please enter Member at Incorporation 28's name in English.\n社員 28 の氏名を英語で入力してください。\nPlease select the \"Living in Japan/Not Living in Japan\" radio button.\n「日本に住んでいる/日本に住んでいない」ラジオボタンを選択してください。"]
[{"$nulls":3},"日本語",{"$nulls":3},"Japanese will not be automatically entered in this field. If you can write in Japanese, please enter in Japanese.／この欄は日本語が自動併記されません。日本語の記入ができる方は入力してください。"]
[null,null,"Contribution of Members 28 （社員 28の出資金）",{"$nulls":4},"Please enter Contribution of Members 28 .\n社員 28 の出資金を入力してください。"]
[null,null,"Zip code of Members at Incorporation 28's address\n（社員 28の住所の郵便番号）",{"$nulls":3},{"$f":"TEXT(E355,\"000\")&TEXT(F355,\"0000\")","v":"0000000"},"Please enter the zip code of Member 28's address.\n社員 28 の住所の郵便番号を入力してください。"]
[null,null,"Address(Prefectures,City,Ward,Town or Village) of Members at Incorporation 28 \n（社員 28の住所(都道府県市区町村)）","English",{"$f":"IF(E355=\"\", \"\", IF(F355=\"\", \"\", work!D180&\" \"&work!E180&\" \"&work!F180))","v":""},null,null,"When enter zip code, address will be automatically filled in\n郵便番号を入力すると住所が自動入力されます"]
[{"$nulls":3},"日本語",{"$f":"IF(E355=\"\", \"\", IF(F355=\"\", \"\", work!D179&\" \"&work!E179&\" \"&work!F179))","v":""},null,null,"When enter zip code, address will be automatically filled in\n郵便番号を入力すると住所が自動入力されます"]
[null,null,"Street address of Members at Incorporation 28\n（社員 28の住所の番地）",{"$nulls":4},"Please enter  enter the street adress of Member at Incorporation 28.\n社員 28 の住所の番地を入力してください。"]
[null,null,"Building name・Room number of Members at Incorporation 28（社員 28の住所の建物名・部屋番号）","English",{"$nulls":3},"Please enter the building name and room number only if required.\n建物名と部屋番号を入力する必要がある場合にのみ入力してください。"]
[{"$nulls":3},"日本語",{"$nulls":3},"Japanese will not be automatically entered in this field. If you can write in Japanese, please enter in Japanese.／この欄は日本語が自動併記されません。日本語の記入ができる方は入力してください。"]
[null,null,"Home Country Address of Member at Incorporation 28\n（社員 28の本国の住所）","English",{"$nulls":3},"Please enter home country address of Member at Incorporation 28 in English.\n社員 28 の本国の住所を英語で入力してください"]
[{"$nulls":3},"日本語",{"$nulls":3},"Japanese will not be automatically entered in this field. If you can write in Japanese, please enter in Japanese.／この欄は日本語が自動併記されません。日本語の記入ができる方は入力してください。"]
[]
[null,null,"Name of Menbers 29\n（社員 29の氏名）","English",{"$nulls":3},"Please enter Member at Incorporation 29's name in English.\n社員 29 の氏名を英語で入力してください。\nPlease select the \"Living in Japan/Not Living in Japan\" radio button.\n「日本に住んでいる/日本に住んでいない」ラジオボタンを選択してください。"]
[{"$nulls":3},"日本語",{"$nulls":3},"Japanese will not be automatically entered in this field. If you can write in Japanese, please enter in Japanese.／この欄は日本語が自動併記されません。日本語の記入ができる方は入力してください。"]
[null,null,"Contribution of Members 29 （社員 29の出資金）",{"$nulls":4},"Please enter Contribution of Members 29 .\n社員 29 の出資金を入力してください。"]
[null,null,"Zip code of Members at Incorporation 29's address\n（社員 29の住所の郵便番号）",{"$nulls":3},{"$f":"TEXT(E367,\"000\")&TEXT(F367,\"0000\")","v":"0000000"},"Please enter the zip code of Member 29's address.\n社員 29 の住所の郵便番号を入力してください。"]
[null,null,"Address(Prefectures,City,Ward,Town or Village) of Members at Incorporation 29 \n（社員 29の住所(都道府県市区町村)）","English",{"$f":"IF(E367=\"\", \"\", IF(F367=\"\", \"\", work!D186&\" \"&work!E186&\" \"&work!F186))","v":""},null,null,"When enter zip code, address will be automatically filled in\n郵便番号を入力すると住所が自動入力されます"]
[{"$nulls":3},"日本語",{"$f":"IF(E367=\"\", \"\", IF(F367=\"\", \"\", work!D185&\" \"&work!E185&\" \"&work!F185))","v":""},null,null,"When enter zip code, address will be automatically filled in\n郵便番号を入力すると住所が自動入力されます"]
[null,null,"Street address of Members at Incorporation 29\n（社員 29の住所の番地）",{"$nulls":4},"Please enter  enter the street adress of Member at Incorporation 29.\n社員 29 の住所の番地を入力してください。"]
[null,null,"Building name・Room number of Members at Incorporation 29（社員 29の住所の建物名・部屋番号）","English",{"$nulls":3},"Please enter the building name and room number only if required.\n建物名と部屋番号を入力する必要がある場合にのみ入力してください。"]
[{"$nulls":3},"日本語",{"$nulls":3},"Japanese will not be automatically entered in this field. If you can write in Japanese, please enter in Japanese.／この欄は日本語が自動併記されません。日本語の記入ができる方は入力してください。"]
[null,null,"Home Country Address of Member at Incorporation 29\n（社員 29の本国の住所）","English",{"$nulls":3},"Please enter home country address of Member at Incorporation 29 in English.\n社員 29 の本国の住所を英語で入力してください"]
[{"$nulls":3},"日本語",{"$nulls":3},"Japanese will not be automatically entered in this field. If you can write in Japanese, please enter in Japanese.／この欄は日本語が自動併記されません。日本語の記入ができる方は入力してください。"]
[]
[null,null,"Name of Menbers 30\n（社員 30の氏名）","English",{"$nulls":3},"Please enter Member at Incorporation 30's name in English.\n社員 30 の氏名を英語で入力してください。\nPlease select the \"Living in Japan/Not Living in Japan\" radio button.\n「日本に住んでいる/日本に住んでいない」ラジオボタンを選択してください。"]
[{"$nulls":3},"日本語",{"$nulls":3},"Japanese will not be automatically entered in this field. If you can write in Japanese, please enter in Japanese.／この欄は日本語が自動併記されません。日本語の記入ができる方は入力してください。"]
[null,null,"Contribution of Members 30 （社員 30の出資金）",{"$nulls":4},"Please enter Contribution of Members 30 .\n社員 30 の出資金を入力してください。"]
[null,null,"Zip code of Members at Incorporation 30's address\n（社員 30の住所の郵便番号）",{"$nulls":3},{"$f":"TEXT(E379,\"000\")&TEXT(F379,\"0000\")","v":"0000000"},"Please enter the zip code of Member 30's address.\n社員 30 の住所の郵便番号を入力してください。"]
[null,null,"Address(Prefectures,City,Ward,Town or Village) of Members at Incorporation 30 \n（社員 30の住所(都道府県市区町村)）","English",{"$f":"IF(E379=\"\", \"\", IF(F379=\"\", \"\", work!D192&\" \"&work!E192&\" \"&work!F192))","v":""},null,null,"When enter zip code, address will be automatically filled in\n郵便番号を入力すると住所が自動入力されます"]
[{"$nulls":3},"日本語",{"$f":"IF(E379=\"\", \"\", IF(F379=\"\", \"\", work!D191&\" \"&work!E191&\" \"&work!F191))","v":""},null,null,"When enter zip code, address will be automatically filled in\n郵便番号を入力すると住所が自動入力されます"]
[null,null,"Street address of Members at Incorporation 30\n（社員 30の住所の番地）",{"$nulls":4},"Please enter  enter the street adress of Member at Incorporation 30.\n社員 30 の住所の番地を入力してください。"]
[null,null,"Building name・Room number of Members at Incorporation 30（社員 30の住所の建物名・部屋番号）","English",{"$nulls":3},"Please enter the building name and room number only if required.\n建物名と部屋番号を入力する必要がある場合にのみ入力してください。"]
[{"$nulls":3},"日本語",{"$nulls":3},"Japanese will not be automatically entered in this field. If you can write in Japanese, please enter in Japanese.／この欄は日本語が自動併記されません。日本語の記入ができる方は入力してください。"]
[null,null,"Home Country Address of Member at Incorporation 30\n（社員 30の本国の住所）","English",{"$nulls":3},"Please enter home country address of Member at Incorporation 30 in English.\n社員 30 の本国の住所を英語で入力してください"]
[{"$nulls":3},"日本語",{"$nulls":3},"Japanese will not be automatically entered in this field. If you can write in Japanese, please enter in Japanese.／この欄は日本語が自動併記されません。日本語の記入ができる方は入力してください。"]
[]
[null,null,"Name of Menbers 31\n（社員 31の氏名）","English",{"$nulls":3},"Please enter Member at Incorporation 31's name in English.\n社員 31 の氏名を英語で入力してください。\nPlease select the \"Living in Japan/Not Living in Japan\" radio button.\n「日本に住んでいる/日本に住んでいない」ラジオボタンを選択してください。"]
[{"$nulls":3},"日本語",{"$nulls":3},"Japanese will not be automatically entered in this field. If you can write in Japanese, please enter in Japanese.／この欄は日本語が自動併記されません。日本語の記入ができる方は入力してください。"]
[null,null,"Contribution of Members 31 （社員 31の出資金）",{"$nulls":4},"Please enter Contribution of Members 31 .\n社員 31 の出資金を入力してください。"]
[null,null,"Zip code of Members at Incorporation 31's address\n（社員 31の住所の郵便番号）",{"$nulls":3},{"$f":"TEXT(E391,\"000\")&TEXT(F391,\"0000\")","v":"0000000"},"Please enter the zip code of Member 31's address.\n社員 31 の住所の郵便番号を入力してください。"]
[null,null,"Address(Prefectures,City,Ward,Town or Village) of Members at Incorporation 31 \n（社員 31の住所(都道府県市区町村)）","English",{"$f":"IF(E391=\"\", \"\", IF(F391=\"\", \"\", work!D198&\" \"&work!E198&\" \"&work!F198))","v":""},null,null,"When enter zip code, address will be automatically filled in\n郵便番号を入力すると住所が自動入力されます"]
[{"$nulls":3},"日本語",{"$f":"IF(E391=\"\", \"\", IF(F391=\"\", \"\", work!D197&\" \"&work!E197&\" \"&work!F197))","v":""},null,null,"When enter zip code, address will be automatically filled in\n郵便番号を入力すると住所が自動入力されます"]
[null,null,"Street address of Members at Incorporation 31\n（社員 31の住所の番地）",{"$nulls":4},"Please enter  enter the street adress of Member at Incorporation 31.\n社員 31 の住所の番地を入力してください。"]
[null,null,"Building name・Room number of Members at Incorporation 31（社員 31の住所の建物名・部屋番号）","English",{"$nulls":3},"Please enter the building name and room number only if required.\n建物名と部屋番号を入力する必要がある場合にのみ入力してください。"]
[{"$nulls":3},"日本語",{"$nulls":3},"Japanese will not be automatically entered in this field. If you can write in Japanese, please enter in Japanese.／この欄は日本語が自動併記されません。日本語の記入ができる方は入力してください。"]
[null,null,"Home Country Address of Member at Incorporation 31\n（社員 31の本国の住所）","English",{"$nulls":3},"Please enter home country address of Member at Incorporation 31 in English.\n社員 31 の本国の住所を英語で入力してください"]
[{"$nulls":3},"日本語",{"$nulls":3},"Japanese will not be automatically entered in this field. If you can write in Japanese, please enter in Japanese.／この欄は日本語が自動併記されません。日本語の記入ができる方は入力してください。"]
[]
[null,null,"Name of Menbers 32\n（社員 32の氏名）","English",{"$nulls":3},"Please enter Member at Incorporation 32's name in English.\n社員 32 の氏名を英語で入力してください。\nPlease select the \"Living in Japan/Not Living in Japan\" radio button.\n「日本に住んでいる/日本に住んでいない」ラジオボタンを選択してください。"]
[{"$nulls":3},"日本語",{"$nulls":3},"Japanese will not be automatically entered in this field. If you can write in Japanese, please enter in Japanese.／この欄は日本語が自動併記されません。日本語の記入ができる方は入力してください。"]
[null,null,"Contribution of Members 32 （社員 32の出資金）",{"$nulls":4},"Please enter Contribution of Members 32 .\n社員 32 の出資金を入力してください。"]
[null,null,"Zip code of Members at Incorporation 32's address\n（社員 32の住所の郵便番号）",{"$nulls":3},{"$f":"TEXT(E403,\"000\")&TEXT(F403,\"0000\")","v":"0000000"},"Please enter the zip code of Member 32's address.\n社員 32 の住所の郵便番号を入力してください。"]
[null,null,"Address(Prefectures,City,Ward,Town or Village) of Members at Incorporation 32 \n（社員 32の住所(都道府県市区町村)）","English",{"$f":"IF(E403=\"\", \"\", IF(F403=\"\", \"\", work!D204&\" \"&work!E204&\" \"&work!F204))","v":""},null,null,"When enter zip code, address will be automatically filled in\n郵便番号を入力すると住所が自動入力されます"]
[{"$nulls":3},"日本語",{"$f":"IF(E403=\"\", \"\", IF(F403=\"\", \"\", work!D203&\" \"&work!E203&\" \"&work!F203))","v":""},null,null,"When enter zip code, address will be automatically filled in\n郵便番号を入力すると住所が自動入力されます"]
[null,null,"Street address of Members at Incorporation 32\n（社員 32の住所の番地）",{"$nulls":4},"Please enter  enter the street adress of Member at Incorporation 32.\n社員 32 の住所の番地を入力してください。"]
[null,null,"Building name・Room number of Members at Incorporation 32（社員 32の住所の建物名・部屋番号）","English",{"$nulls":3},"Please enter the building name and room number only if required.\n建物名と部屋番号を入力する必要がある場合にのみ入力してください。"]
[{"$nulls":3},"日本語",{"$nulls":3},"Japanese will not be automatically entered in this field. If you can write in Japanese, please enter in Japanese.／この欄は日本語が自動併記されません。日本語の記入ができる方は入力してください。"]
[null,null,"Home Country Address of Member at Incorporation 32\n（社員 32の本国の住所）","English",{"$nulls":3},"Please enter home country address of Member at Incorporation 32 in English.\n社員 32 の本国の住所を英語で入力してください"]
[{"$nulls":3},"日本語",{"$nulls":3},"Japanese will not be automatically entered in this field. If you can write in Japanese, please enter in Japanese.／この欄は日本語が自動併記されません。日本語の記入ができる方は入力してください。"]
[]
[null,null,"Name of Menbers 33\n（社員 33の氏名）","English",{"$nulls":3},"Please enter Member at Incorporation 33's name in English.\n社員 33 の氏名を英語で入力してください。\nPlease select the \"Living in Japan/Not Living in Japan\" radio button.\n「日本に住んでいる/日本に住んでいない」ラジオボタンを選択してください。"]
[{"$nulls":3},"日本語",{"$nulls":3},"Japanese will not be automatically entered in this field. If you can write in Japanese, please enter in Japanese.／この欄は日本語が自動併記されません。日本語の記入ができる方は入力してください。"]
[null,null,"Contribution of Members 33 （社員 33の出資金）",{"$nulls":4},"Please enter Contribution of Members 33 .\n社員 33 の出資金を入力してください。"]
[null,null,"Zip code of Members at Incorporation 33's address\n（社員 33の住所の郵便番号）",{"$nulls":3},{"$f":"TEXT(E415,\"000\")&TEXT(F415,\"0000\")","v":"0000000"},"Please enter the zip code of Member 33's address.\n社員 33 の住所の郵便番号を入力してください。"]
[null,null,"Address(Prefectures,City,Ward,Town or Village) of Members at Incorporation 33 \n（社員 33の住所(都道府県市区町村)）","English",{"$f":"IF(E415=\"\", \"\", IF(F415=\"\", \"\", work!D210&\" \"&work!E210&\" \"&work!F210))","v":""},null,null,"When enter zip code, address will be automatically filled in\n郵便番号を入力すると住所が自動入力されます"]
[{"$nulls":3},"日本語",{"$f":"IF(E415=\"\", \"\", IF(F415=\"\", \"\", work!D209&\" \"&work!E209&\" \"&work!F209))","v":""},null,null,"When enter zip code, address will be automatically filled in\n郵便番号を入力すると住所が自動入力されます"]
[null,null,"Street address of Members at Incorporation 33\n（社員 33の住所の番地）",{"$nulls":4},"Please enter  enter the street adress of Member at Incorporation 33.\n社員 33 の住所の番地を入力してください。"]
[null,null,"Building name・Room number of Members at Incorporation 33（社員 33の住所の建物名・部屋番号）","English",{"$nulls":3},"Please enter the building name and room number only if required.\n建物名と部屋番号を入力する必要がある場合にのみ入力してください。"]
[{"$nulls":3},"日本語",{"$nulls":3},"Japanese will not be automatically entered in this field. If you can write in Japanese, please enter in Japanese.／この欄は日本語が自動併記されません。日本語の記入ができる方は入力してください。"]
[null,null,"Home Country Address of Member at Incorporation 33\n（社員 33の本国の住所）","English",{"$nulls":3},"Please enter home country address of Member at Incorporation 33 in English.\n社員 33 の本国の住所を英語で入力してください"]
[{"$nulls":3},"日本語",{"$nulls":3},"Japanese will not be automatically entered in this field. If you can write in Japanese, please enter in Japanese.／この欄は日本語が自動併記されません。日本語の記入ができる方は入力してください。"]
[]
[null,null,"Name of Menbers 34\n（社員 34の氏名）","English",{"$nulls":3},"Please enter Member at Incorporation 34's name in English.\n社員 34 の氏名を英語で入力してください。\nPlease select the \"Living in Japan/Not Living in Japan\" radio button.\n「日本に住んでいる/日本に住んでいない」ラジオボタンを選択してください。"]
[{"$nulls":3},"日本語",{"$nulls":3},"Japanese will not be automatically entered in this field. If you can write in Japanese, please enter in Japanese.／この欄は日本語が自動併記されません。日本語の記入ができる方は入力してください。"]
[null,null,"Contribution of Members 34 （社員 34の出資金）",{"$nulls":4},"Please enter Contribution of Members 34 .\n社員 34 の出資金を入力してください。"]
[null,null,"Zip code of Members at Incorporation 34's address\n（社員 34の住所の郵便番号）",{"$nulls":3},{"$f":"TEXT(E427,\"000\")&TEXT(F427,\"0000\")","v":"0000000"},"Please enter the zip code of Member 34's address.\n社員 34 の住所の郵便番号を入力してください。"]
[null,null,"Address(Prefectures,City,Ward,Town or Village) of Members at Incorporation 34 \n（社員 34の住所(都道府県市区町村)）","English",{"$f":"IF(E427=\"\", \"\", IF(F427=\"\", \"\", work!D216&\" \"&work!E216&\" \"&work!F216))","v":""},null,null,"When enter zip code, address will be automatically filled in\n郵便番号を入力すると住所が自動入力されます"]
[{"$nulls":3},"日本語",{"$f":"IF(E427=\"\", \"\", IF(F427=\"\", \"\", work!D215&\" \"&work!E215&\" \"&work!F215))","v":""},null,null,"When enter zip code, address will be automatically filled in\n郵便番号を入力すると住所が自動入力されます"]
[null,null,"Street address of Members at Incorporation 34\n（社員 34の住所の番地）",{"$nulls":4},"Please enter  enter the street adress of Member at Incorporation 34.\n社員 34 の住所の番地を入力してください。"]
[null,null,"Building name・Room number of Members at Incorporation 34（社員 34の住所の建物名・部屋番号）","English",{"$nulls":3},"Please enter the building name and room number only if required.\n建物名と部屋番号を入力する必要がある場合にのみ入力してください。"]
[{"$nulls":3},"日本語",{"$nulls":3},"Japanese will not be automatically entered in this field. If you can write in Japanese, please enter in Japanese.／この欄は日本語が自動併記されません。日本語の記入ができる方は入力してください。"]
[null,null,"Home Country Address of Member at Incorporation 34\n（社員 34の本国の住所）","English",{"$nulls":3},"Please enter home country address of Member at Incorporation 34 in English.\n社員 34 の本国の住所を英語で入力してください"]
[{"$nulls":3},"日本語",{"$nulls":3},"Japanese will not be automatically entered in this field. If you can write in Japanese, please enter in Japanese.／この欄は日本語が自動併記されません。日本語の記入ができる方は入力してください。"]
[]
[null,null,"Name of Menbers 35\n（社員 35の氏名）","English",{"$nulls":3},"Please enter Member at Incorporation 35's name in English.\n社員 35 の氏名を英語で入力してください。\nPlease select the \"Living in Japan/Not Living in Japan\" radio button.\n「日本に住んでいる/日本に住んでいない」ラジオボタンを選択してください。"]
[{"$nulls":3},"日本語",{"$nulls":3},"Japanese will not be automatically entered in this field. If you can write in Japanese, please enter in Japanese.／この欄は日本語が自動併記されません。日本語の記入ができる方は入力してください。"]
[null,null,"Contribution of Members 35 （社員 35の出資金）",{"$nulls":4},"Please enter Contribution of Members 35 .\n社員 35 の出資金を入力してください。"]
[null,null,"Zip code of Members at Incorporation 35's address\n（社員 35の住所の郵便番号）",{"$nulls":3},{"$f":"TEXT(E439,\"000\")&TEXT(F439,\"0000\")","v":"0000000"},"Please enter the zip code of Member 35's address.\n社員 35 の住所の郵便番号を入力してください。"]
[null,null,"Address(Prefectures,City,Ward,Town or Village) of Members at Incorporation 35\n（社員 35の住所(都道府県市区町村)）","English",{"$f":"IF(E439=\"\", \"\", IF(F439=\"\", \"\", work!D222&\" \"&work!E222&\" \"&work!F222))","v":""},null,null,"When enter zip code, address will be automatically filled in\n郵便番号を入力すると住所が自動入力されます"]
[{"$nulls":3},"日本語",{"$f":"IF(E439=\"\", \"\", IF(F439=\"\", \"\", work!D221&\" \"&work!E221&\" \"&work!F221))","v":""},null,null,"When enter zip code, address will be automatically filled in\n郵便番号を入力すると住所が自動入力されます"]
[null,null,"Street address of Members at Incorporation 35\n（社員 35の住所の番地）",{"$nulls":4},"Please enter  enter the street adress of Member at Incorporation 35.\n社員 35 の住所の番地を入力してください。"]
[null,null,"Building name・Room number of Members at Incorporation 35（社員 35の住所の建物名・部屋番号）","English",{"$nulls":3},"Please enter the building name and room number only if required.\n建物名と部屋番号を入力する必要がある場合にのみ入力してください。"]
[{"$nulls":3},"日本語",{"$nulls":3},"Japanese will not be automatically entered in this field. If you can write in Japanese, please enter in Japanese.／この欄は日本語が自動併記されません。日本語の記入ができる方は入力してください。"]
[null,null,"Home Country Address of Member at Incorporation 35\n（社員 35の本国の住所）","English",{"$nulls":3},"Please enter home country address of Member at Incorporation 35 in English.\n社員 35 の本国の住所を英語で入力してください"]
[{"$nulls":3},"日本語",{"$nulls":3},"Japanese will not be automatically entered in this field. If you can write in Japanese, please enter in Japanese.／この欄は日本語が自動併記されません。日本語の記入ができる方は入力してください。"]
[]
[null,null,"Name of Menbers 36\n（社員 36の氏名）","English",{"$nulls":3},"Please enter Member at Incorporation 36's name in English.\n社員 36 の氏名を英語で入力してください。\nPlease select the \"Living in Japan/Not Living in Japan\" radio button.\n「日本に住んでいる/日本に住んでいない」ラジオボタンを選択してください。"]
[{"$nulls":3},"日本語",{"$nulls":3},"Japanese will not be automatically entered in this field. If you can write in Japanese, please enter in Japanese.／この欄は日本語が自動併記されません。日本語の記入ができる方は入力してください。"]
[null,null,"Contribution of Members 36 （社員 36の出資金）",{"$nulls":4},"Please enter Contribution of Members 36 .\n社員 36 の出資金を入力してください。"]
[null,null,"Zip code of Members at Incorporation 36's address\n（社員 36の住所の郵便番号）",{"$nulls":3},{"$f":"TEXT(E451,\"000\")&TEXT(F451,\"0000\")","v":"0000000"},"Please enter the zip code of Member 36's address.\n社員 36 の住所の郵便番号を入力してください。"]
[null,null,"Address(Prefectures,City,Ward,Town or Village) of Members at Incorporation 36\n（社員 36の住所(都道府県市区町村)）","English",{"$f":"IF(E451=\"\", \"\", IF(F451=\"\", \"\", work!D228&\" \"&work!E228&\" \"&work!F228))","v":""},null,null,"When enter zip code, address will be automatically filled in\n郵便番号を入力すると住所が自動入力されます"]
[{"$nulls":3},"日本語",{"$f":"IF(E451=\"\", \"\", IF(F451=\"\", \"\", work!D227&\" \"&work!E227&\" \"&work!F227))","v":""},null,null,"When enter zip code, address will be automatically filled in\n郵便番号を入力すると住所が自動入力されます"]
[null,null,"Street address of Members at Incorporation 36\n（社員 36の住所の番地）",{"$nulls":4},"Please enter  enter the street adress of Member at Incorporation 36.\n社員 36 の住所の番地を入力してください。"]
[null,null,"Building name・Room number of Members at Incorporation 36（社員 36の住所の建物名・部屋番号）","English",{"$nulls":3},"Please enter the building name and room number only if required.\n建物名と部屋番号を入力する必要がある場合にのみ入力してください。"]
[{"$nulls":3},"日本語",{"$nulls":3},"Japanese will not be automatically entered in this field. If you can write in Japanese, please enter in Japanese.／この欄は日本語が自動併記されません。日本語の記入ができる方は入力してください。"]
[null,null,"Home Country Address of Member at Incorporation 36\n（社員 36の本国の住所）","English",{"$nulls":3},"Please enter home country address of Member at Incorporation 36 in English.\n社員 36 の本国の住所を英語で入力してください"]
[{"$nulls":3},"日本語",{"$nulls":3},"Japanese will not be automatically entered in this field. If you can write in Japanese, please enter in Japanese.／この欄は日本語が自動併記されません。日本語の記入ができる方は入力してください。"]
[]
[null,null,"Name of Menbers 37\n（社員 37の氏名）","English",{"$nulls":3},"Please enter Member at Incorporation 37's name in English.\n社員 37 の氏名を英語で入力してください。\nPlease select the \"Living in Japan/Not Living in Japan\" radio button.\n「日本に住んでいる/日本に住んでいない」ラジオボタンを選択してください。"]
[{"$nulls":3},"日本語",{"$nulls":3},"Japanese will not be automatically entered in this field. If you can write in Japanese, please enter in Japanese.／この欄は日本語が自動併記されません。日本語の記入ができる方は入力してください。"]
[null,null,"Contribution of Members 37 （社員 37の出資金）",{"$nulls":4},"Please enter Contribution of Members 37 .\n社員 37 の出資金を入力してください。"]
[null,null,"Zip code of Members at Incorporation 37's address\n（社員 37の住所の郵便番号）",{"$nulls":3},{"$f":"TEXT(E463,\"000\")&TEXT(F463,\"0000\")","v":"0000000"},"Please enter the zip code of Member 37's address.\n社員 37 の住所の郵便番号を入力してください。"]
[null,null,"Address(Prefectures,City,Ward,Town or Village) of Members at Incorporation 37\n（社員 37の住所(都道府県市区町村)）","English",{"$f":"IF(E463=\"\", \"\", IF(F463=\"\", \"\", work!D234&\" \"&work!E234&\" \"&work!F234))","v":""},null,null,"When enter zip code, address will be automatically filled in\n郵便番号を入力すると住所が自動入力されます"]
[{"$nulls":3},"日本語",{"$f":"IF(E463=\"\", \"\", IF(F463=\"\", \"\", work!D233&\" \"&work!E233&\" \"&work!F233))","v":""},null,null,"When enter zip code, address will be automatically filled in\n郵便番号を入力すると住所が自動入力されます"]
[null,null,"Street address of Members at Incorporation 37\n（社員 37の住所の番地）",{"$nulls":4},"Please enter  enter the street adress of Member at Incorporation 37.\n社員 37 の住所の番地を入力してください。"]
[null,null,"Building name・Room number of Members at Incorporation 37（社員 37の住所の建物名・部屋番号）","English",{"$nulls":3},"Please enter the building name and room number only if required.\n建物名と部屋番号を入力する必要がある場合にのみ入力してください。"]
[{"$nulls":3},"日本語",{"$nulls":3},"Japanese will not be automatically entered in this field. If you can write in Japanese, please enter in Japanese.／この欄は日本語が自動併記されません。日本語の記入ができる方は入力してください。"]
[null,null,"Home Country Address of Member at Incorporation 37\n（社員 37の本国の住所）","English",{"$nulls":3},"Please enter home country address of Member at Incorporation 37 in English.\n社員 37 の本国の住所を英語で入力してください"]
[{"$nulls":3},"日本語",{"$nulls":3},"Japanese will not be automatically entered in this field. If you can write in Japanese, please enter in Japanese.／この欄は日本語が自動併記されません。日本語の記入ができる方は入力してください。"]
[]
[null,null,"Name of Menbers 38\n（社員 38の氏名）","English",{"$nulls":3},"Please enter Member at Incorporation 38's name in English.\n社員 38 の氏名を英語で入力してください。\nPlease select the \"Living in Japan/Not Living in Japan\" radio button.\n「日本に住んでいる/日本に住んでいない」ラジオボタンを選択してください。"]
[{"$nulls":3},"日本語",{"$nulls":3},"Japanese will not be automatically entered in this field. If you can write in Japanese, please enter in Japanese.／この欄は日本語が自動併記されません。日本語の記入ができる方は入力してください。"]
[null,null,"Contribution of Members 38 （社員 38の出資金）",{"$nulls":4},"Please enter Contribution of Members 38 .\n社員 38 の出資金を入力してください。"]
[null,null,"Zip code of Members at Incorporation 38's address\n（社員 38の住所の郵便番号）",{"$nulls":3},{"$f":"TEXT(E475,\"000\")&TEXT(F475,\"0000\")","v":"0000000"},"Please enter the zip code of Member 38's address.\n社員 38 の住所の郵便番号を入力してください。"]
[null,null,"Address(Prefectures,City,Ward,Town or Village) of Members at Incorporation 38 \n（社員 38の住所(都道府県市区町村)）","English",{"$f":"IF(E475=\"\", \"\", IF(F475=\"\", \"\", work!D240&\" \"&work!E240&\" \"&work!F240))","v":""},null,null,"When enter zip code, address will be automatically filled in\n郵便番号を入力すると住所が自動入力されます"]
[{"$nulls":3},"日本語",{"$f":"IF(E475=\"\", \"\", IF(F475=\"\", \"\", work!D239&\" \"&work!E239&\" \"&work!F239))","v":""},null,null,"When enter zip code, address will be automatically filled in\n郵便番号を入力すると住所が自動入力されます"]
[null,null,"Street address of Members at Incorporation 38\n（社員 38の住所の番地）",{"$nulls":4},"Please enter  enter the street adress of Member at Incorporation 38.\n社員 38 の住所の番地を入力してください。"]
[null,null,"Building name・Room number of Members at Incorporation 38（社員 38の住所の建物名・部屋番号）","English",{"$nulls":3},"Please enter the building name and room number only if required.\n建物名と部屋番号を入力する必要がある場合にのみ入力してください。"]
[{"$nulls":3},"日本語",{"$nulls":3},"Japanese will not be automatically entered in this field. If you can write in Japanese, please enter in Japanese.／この欄は日本語が自動併記されません。日本語の記入ができる方は入力してください。"]
[null,null,"Home Country Address of Member at Incorporation 38\n（社員 38の本国の住所）","English",{"$nulls":3},"Please enter home country address of Member at Incorporation 38 in English.\n社員 38 の本国の住所を英語で入力してください"]
[{"$nulls":3},"日本語",{"$nulls":3},"Japanese will not be automatically entered in this field. If you can write in Japanese, please enter in Japanese.／この欄は日本語が自動併記されません。日本語の記入ができる方は入力してください。"]
[]
[null,null,"Name of Menbers 39\n（社員 39の氏名）","English",{"$nulls":3},"Please enter Member at Incorporation 39's name in English.\n社員 39 の氏名を英語で入力してください。\nPlease select the \"Living in Japan/Not Living in Japan\" radio button.\n「日本に住んでいる/日本に住んでいない」ラジオボタンを選択してください。"]
[{"$nulls":3},"日本語",{"$nulls":3},"Japanese will not be automatically entered in this field. If you can write in Japanese, please enter in Japanese.／この欄は日本語が自動併記されません。日本語の記入ができる方は入力してください。"]
[null,null,"Contribution of Members 39 （社員 39の出資金）",{"$nulls":4},"Please enter Contribution of Members 39 .\n社員 39 の出資金を入力してください。"]
[null,null,"Zip code of Members at Incorporation 39's address\n（社員 39の住所の郵便番号）",{"$nulls":3},{"$f":"TEXT(E487,\"000\")&TEXT(F487,\"0000\")","v":"0000000"},"Please enter the zip code of Member 39's address.\n社員 39 の住所の郵便番号を入力してください。"]
[null,null,"Address(Prefectures,City,Ward,Town or Village) of Members at Incorporation 39 \n（社員 39の住所(都道府県市区町村)）","English",{"$f":"IF(E487=\"\", \"\", IF(F487=\"\", \"\", work!D246&\" \"&work!E246&\" \"&work!F246))","v":""},null,null,"When enter zip code, address will be automatically filled in\n郵便番号を入力すると住所が自動入力されます"]
[{"$nulls":3},"日本語",{"$f":"IF(E487=\"\", \"\", IF(F487=\"\", \"\", work!D245&\" \"&work!E245&\" \"&work!F245))","v":""},null,null,"When enter zip code, address will be automatically filled in\n郵便番号を入力すると住所が自動入力されます"]
[null,null,"Street address of Members at Incorporation 39\n（社員 39の住所の番地）",{"$nulls":4},"Please enter  enter the street adress of Member at Incorporation 39.\n社員 39 の住所の番地を入力してください。"]
[null,null,"Building name・Room number of Members at Incorporation 39（社員 39の住所の建物名・部屋番号）","English",{"$nulls":3},"Please enter the building name and room number only if required.\n建物名と部屋番号を入力する必要がある場合にのみ入力してください。"]
[{"$nulls":3},"日本語",{"$nulls":3},"Japanese will not be automatically entered in this field. If you can write in Japanese, please enter in Japanese.／この欄は日本語が自動併記されません。日本語の記入ができる方は入力してください。"]
[null,null,"Home Country Address of Member at Incorporation 39\n（社員 39の本国の住所）","English",{"$nulls":3},"Please enter home country address of Member at Incorporation 39 in English.\n社員 39 の本国の住所を英語で入力してください"]
[{"$nulls":3},"日本語",{"$nulls":3},"Japanese will not be automatically entered in this field. If you can write in Japanese, please enter in Japanese.／この欄は日本語が自動併記されません。日本語の記入ができる方は入力してください。"]
[]
[null,null,"Name of Menbers 40\n（社員 40の氏名）","English",{"$nulls":3},"Please enter Member at Incorporation 40's name in English.\n社員 40 の氏名を英語で入力してください。\nPlease select the \"Living in Japan/Not Living in Japan\" radio button.\n「日本に住んでいる/日本に住んでいない」ラジオボタンを選択してください。"]
[{"$nulls":3},"日本語",{"$nulls":3},"Japanese will not be automatically entered in this field. If you can write in Japanese, please enter in Japanese.／この欄は日本語が自動併記されません。日本語の記入ができる方は入力してください。"]
[null,null,"Contribution of Members 40 （社員 40の出資金）",{"$nulls":4},"Please enter Contribution of Members 40 .\n社員 40 の出資金を入力してください。"]
[null,null,"Zip code of Members at Incorporation 40's address\n（社員 40の住所の郵便番号）",{"$nulls":3},{"$f":"TEXT(E499,\"000\")&TEXT(F499,\"0000\")","v":"0000000"},"Please enter the zip code of Member 40's address.\n社員 40 の住所の郵便番号を入力してください。"]
[null,null,"Address(Prefectures,City,Ward,Town or Village) of Members at Incorporation 40 \n（社員 40の住所(都道府県市区町村)）","English",{"$f":"IF(E499=\"\", \"\", IF(F499=\"\", \"\", work!D252&\" \"&work!E252&\" \"&work!F252))","v":""},null,null,"When enter zip code, address will be automatically filled in\n郵便番号を入力すると住所が自動入力されます"]
[{"$nulls":3},"日本語",{"$f":"IF(E499=\"\", \"\", IF(F499=\"\", \"\", work!D251&\" \"&work!E251&\" \"&work!F251))","v":""},null,null,"When enter zip code, address will be automatically filled in\n郵便番号を入力すると住所が自動入力されます"]
[null,null,"Street address of Members at Incorporation 40\n（社員 40の住所の番地）",{"$nulls":4},"Please enter  enter the street adress of Member at Incorporation 40.\n社員 40 の住所の番地を入力してください。"]
[null,null,"Building name・Room number of Members at Incorporation 40（社員 40の住所の建物名・部屋番号）","English",{"$nulls":3},"Please enter the building name and room number only if required.\n建物名と部屋番号を入力する必要がある場合にのみ入力してください。"]
[{"$nulls":3},"日本語",{"$nulls":3},"Japanese will not be automatically entered in this field. If you can write in Japanese, please enter in Japanese.／この欄は日本語が自動併記されません。日本語の記入ができる方は入力してください。"]
[null,null,"Home Country Address of Member at Incorporation 40\n（社員 40の本国の住所）","English",{"$nulls":3},"Please enter home country address of Member at Incorporation 40 in English.\n社員 40 の本国の住所を英語で入力してください"]
[{"$nulls":3},"日本語",{"$nulls":3},"Japanese will not be automatically entered in this field. If you can write in Japanese, please enter in Japanese.／この欄は日本語が自動併記されません。日本語の記入ができる方は入力してください。"]
[]
[null,null,"Name of Menbers 41\n（社員 41の氏名）","English",{"$nulls":3},"Please enter Member at Incorporation 41's name in English.\n社員 41 の氏名を英語で入力してください。\nPlease select the \"Living in Japan/Not Living in Japan\" radio button.\n「日本に住んでいる/日本に住んでいない」ラジオボタンを選択してください。"]
[{"$nulls":3},"日本語",{"$nulls":3},"Japanese will not be automatically entered in this field. If you can write in Japanese, please enter in Japanese.／この欄は日本語が自動併記されません。日本語の記入ができる方は入力してください。"]
[null,null,"Contribution of Members 41 （社員 41の出資金）",{"$nulls":4},"Please enter Contribution of Members 41 .\n社員 41 の出資金を入力してください。"]
[null,null,"Zip code of Members at Incorporation 41's address\n（社員 41の住所の郵便番号）",{"$nulls":3},{"$f":"TEXT(E511,\"000\")&TEXT(F511,\"0000\")","v":"0000000"},"Please enter the zip code of Member 41's address.\n社員 41 の住所の郵便番号を入力してください。"]
[null,null,"Address(Prefectures,City,Ward,Town or Village) of Members at Incorporation 41 \n（社員 41の住所(都道府県市区町村)）","English",{"$f":"IF(E511=\"\", \"\", IF(F511=\"\", \"\", work!D258&\" \"&work!E258&\" \"&work!F258))","v":""},null,null,"When enter zip code, address will be automatically filled in\n郵便番号を入力すると住所が自動入力されます"]
[{"$nulls":3},"日本語",{"$f":"IF(E511=\"\", \"\", IF(F511=\"\", \"\", work!D257&\" \"&work!E257&\" \"&work!F257))","v":""},null,null,"When enter zip code, address will be automatically filled in\n郵便番号を入力すると住所が自動入力されます"]
[null,null,"Street address of Members at Incorporation 41\n（社員 41の住所の番地）",{"$nulls":4},"Please enter  enter the street adress of Member at Incorporation 41.\n社員 41 の住所の番地を入力してください。"]
[null,null,"Building name・Room number of Members at Incorporation 41（社員 41の住所の建物名・部屋番号）","English",{"$nulls":3},"Please enter the building name and room number only if required.\n建物名と部屋番号を入力する必要がある場合にのみ入力してください。"]
[{"$nulls":3},"日本語",{"$nulls":3},"Japanese will not be automatically entered in this field. If you can write in Japanese, please enter in Japanese.／この欄は日本語が自動併記されません。日本語の記入ができる方は入力してください。"]
[null,null,"Home Country Address of Member at Incorporation 41\n（社員 41の本国の住所）","English",{"$nulls":3},"Please enter home country address of Member at Incorporation 41 in English.\n社員 41 の本国の住所を英語で入力してください"]
[{"$nulls":3},"日本語",{"$nulls":3},"Japanese will not be automatically entered in this field. If you can write in Japanese, please enter in Japanese.／この欄は日本語が自動併記されません。日本語の記入ができる方は入力してください。"]
[]
[null,null,"Name of Menbers 42\n（社員 42の氏名）","English",{"$nulls":3},"Please enter Member at Incorporation 42's name in English.\n社員 42 の氏名を英語で入力してください。\nPlease select the \"Living in Japan/Not Living in Japan\" radio button.\n「日本に住んでいる/日本に住んでいない」ラジオボタンを選択してください。"]
[{"$nulls":3},"日本語",{"$nulls":3},"Japanese will not be automatically entered in this field. If you can write in Japanese, please enter in Japanese.／この欄は日本語が自動併記されません。日本語の記入ができる方は入力してください。"]
[null,null,"Contribution of Members 42 （社員 42の出資金）",{"$nulls":4},"Please enter Contribution of Members 42 .\n社員 42 の出資金を入力してください。"]
[null,null,"Zip code of Members at Incorporation 42's address\n（社員 42の住所の郵便番号）",{"$nulls":3},{"$f":"TEXT(E523,\"000\")&TEXT(F523,\"0000\")","v":"0000000"},"Please enter the zip code of Member 42's address.\n社員 42 の住所の郵便番号を入力してください。"]
[null,null,"Address(Prefectures,City,Ward,Town or Village) of Members at Incorporation 42 \n（社員 42の住所(都道府県市区町村)）","English",{"$f":"IF(E523=\"\", \"\", IF(F523=\"\", \"\", work!D264&\" \"&work!E264&\" \"&work!F264))","v":""},null,null,"When enter zip code, address will be automatically filled in\n郵便番号を入力すると住所が自動入力されます"]
[{"$nulls":3},"日本語",{"$f":"IF(E523=\"\", \"\", IF(F523=\"\", \"\", work!D263&\" \"&work!E263&\" \"&work!F263))","v":""},null,null,"When enter zip code, address will be automatically filled in\n郵便番号を入力すると住所が自動入力されます"]
[null,null,"Street address of Members at Incorporation 42\n（社員 42の住所の番地）",{"$nulls":4},"Please enter  enter the street adress of Member at Incorporation 42.\n社員 42 の住所の番地を入力してください。"]
[null,null,"Building name・Room number of Members at Incorporation 42（社員 42の住所の建物名・部屋番号）","English",{"$nulls":3},"Please enter the building name and room number only if required.\n建物名と部屋番号を入力する必要がある場合にのみ入力してください。"]
[{"$nulls":3},"日本語",{"$nulls":3},"Japanese will not be automatically entered in this field. If you can write in Japanese, please enter in Japanese.／この欄は日本語が自動併記されません。日本語の記入ができる方は入力してください。"]
[null,null,"Home Country Address of Member at Incorporation 42\n（社員 42の本国の住所）","English",{"$nulls":3},"Please enter home country address of Member at Incorporation 42 in English.\n社員 42 の本国の住所を英語で入力してください"]
[{"$nulls":3},"日本語",{"$nulls":3},"Japanese will not be automatically entered in this field. If you can write in Japanese, please enter in Japanese.／この欄は日本語が自動併記されません。日本語の記入ができる方は入力してください。"]
[]
[null,null,"Name of Menbers 43\n（社員 43の氏名）","English",{"$nulls":3},"Please enter Member at Incorporation 43's name in English.\n社員 43 の氏名を英語で入力してください。\nPlease select the \"Living in Japan/Not Living in Japan\" radio button.\n「日本に住んでいる/日本に住んでいない」ラジオボタンを選択してください。"]
[{"$nulls":3},"日本語",{"$nulls":3},"Japanese will not be automatically entered in this field. If you can write in Japanese, please enter in Japanese.／この欄は日本語が自動併記されません。日本語の記入ができる方は入力してください。"]
[null,null,"Contribution of Members 43 （社員 43の出資金）",{"$nulls":4},"Please enter Contribution of Members 43 .\n社員 43 の出資金を入力してください。"]
[null,null,"Zip code of Members at Incorporation 43's address\n（社員 43の住所の郵便番号）",{"$nulls":3},{"$f":"TEXT(E535,\"000\")&TEXT(F535,\"0000\")","v":"0000000"},"Please enter the zip code of Member 43's address.\n社員 43 の住所の郵便番号を入力してください。"]
[null,null,"Address(Prefectures,City,Ward,Town or Village) of Members at Incorporation 43\n（社員 43の住所(都道府県市区町村)）","English",{"$f":"IF(E535=\"\", \"\", IF(F535=\"\", \"\", work!D270&\" \"&work!E270&\" \"&work!F270))","v":""},null,null,"When enter zip code, address will be automatically filled in\n郵便番号を入力すると住所が自動入力されます"]
[{"$nulls":3},"日本語",{"$f":"IF(E535=\"\", \"\", IF(F535=\"\", \"\", work!D269&\" \"&work!E269&\" \"&work!F269))","v":""},null,null,"When enter zip code, address will be automatically filled in\n郵便番号を入力すると住所が自動入力されます"]
[null,null,"Street address of Members at Incorporation 43\n（社員 43の住所の番地）",{"$nulls":4},"Please enter  enter the street adress of Member at Incorporation 43.\n社員 43 の住所の番地を入力してください。"]
[null,null,"Building name・Room number of Members at Incorporation 43（社員 43の住所の建物名・部屋番号）","English",{"$nulls":3},"Please enter the building name and room number only if required.\n建物名と部屋番号を入力する必要がある場合にのみ入力してください。"]
[{"$nulls":3},"日本語",{"$nulls":3},"Japanese will not be automatically entered in this field. If you can write in Japanese, please enter in Japanese.／この欄は日本語が自動併記されません。日本語の記入ができる方は入力してください。"]
[null,null,"Home Country Address of Member at Incorporation 43\n（社員 43の本国の住所）","English",{"$nulls":3},"Please enter home country address of Member at Incorporation 43 in English.\n社員 43 の本国の住所を英語で入力してください"]
[{"$nulls":3},"日本語",{"$nulls":3},"Japanese will not be automatically entered in this field. If you can write in Japanese, please enter in Japanese.／この欄は日本語が自動併記されません。日本語の記入ができる方は入力してください。"]
[]
[null,null,"Name of Menbers 44\n（社員 44の氏名）","English",{"$nulls":3},"Please enter Member at Incorporation 44's name in English.\n社員 44 の氏名を英語で入力してください。\nPlease select the \"Living in Japan/Not Living in Japan\" radio button.\n「日本に住んでいる/日本に住んでいない」ラジオボタンを選択してください。"]
[{"$nulls":3},"日本語",{"$nulls":3},"Japanese will not be automatically entered in this field. If you can write in Japanese, please enter in Japanese.／この欄は日本語が自動併記されません。日本語の記入ができる方は入力してください。"]
[null,null,"Contribution of Members 44 （社員 44の出資金）",{"$nulls":4},"Please enter Contribution of Members 44 .\n社員 44 の出資金を入力してください。"]
[null,null,"Zip code of Members at Incorporation 44's address\n（社員 44の住所の郵便番号）",{"$nulls":3},{"$f":"TEXT(E547,\"000\")&TEXT(F547,\"0000\")","v":"0000000"},"Please enter the zip code of Member 44's address.\n社員 44 の住所の郵便番号を入力してください。"]
[null,null,"Address(Prefectures,City,Ward,Town or Village) of Members at Incorporation 44\n（社員 44の住所(都道府県市区町村)）","English",{"$f":"IF(E547=\"\", \"\", IF(F547=\"\", \"\", work!D276&\" \"&work!E276&\" \"&work!F276))","v":""},null,null,"When enter zip code, address will be automatically filled in\n郵便番号を入力すると住所が自動入力されます"]
[{"$nulls":3},"日本語",{"$f":"IF(E547=\"\", \"\", IF(F547=\"\", \"\", work!D275&\" \"&work!E275&\" \"&work!F275))","v":""},null,null,"When enter zip code, address will be automatically filled in\n郵便番号を入力すると住所が自動入力されます"]
[null,null,"Street address of Members at Incorporation 44\n（社員 44の住所の番地）",{"$nulls":4},"Please enter  enter the street adress of Member at Incorporation 44.\n社員 44 の住所の番地を入力してください。"]
[null,null,"Building name・Room number of Members at Incorporation 44（社員 44の住所の建物名・部屋番号）","English",{"$nulls":3},"Please enter the building name and room number only if required.\n建物名と部屋番号を入力する必要がある場合にのみ入力してください。"]
[{"$nulls":3},"日本語",{"$nulls":3},"Japanese will not be automatically entered in this field. If you can write in Japanese, please enter in Japanese.／この欄は日本語が自動併記されません。日本語の記入ができる方は入力してください。"]
[null,null,"Home Country Address of Member at Incorporation 44\n（社員 44の本国の住所）","English",{"$nulls":3},"Please enter home country address of Member at Incorporation 44 in English.\n社員 44 の本国の住所を英語で入力してください"]
[{"$nulls":3},"日本語",{"$nulls":3},"Japanese will not be automatically entered in this field. If you can write in Japanese, please enter in Japanese.／この欄は日本語が自動併記されません。日本語の記入ができる方は入力してください。"]
[]
[null,null,"Name of Menbers 45\n（社員 45の氏名）","English",{"$nulls":3},"Please enter Member at Incorporation 45's name in English.\n社員 45 の氏名を英語で入力してください。\nPlease select the \"Living in Japan/Not Living in Japan\" radio button.\n「日本に住んでいる/日本に住んでいない」ラジオボタンを選択してください。"]
[{"$nulls":3},"日本語",{"$nulls":3},"Japanese will not be automatically entered in this field. If you can write in Japanese, please enter in Japanese.／この欄は日本語が自動併記されません。日本語の記入ができる方は入力してください。"]
[null,null,"Contribution of Members 45 （社員 45の出資金）",{"$nulls":4},"Please enter Contribution of Members 45 .\n社員 45 の出資金を入力してください。"]
[null,null,"Zip code of Members at Incorporation 45's address\n（社員 45の住所の郵便番号）",{"$nulls":3},{"$f":"TEXT(E559,\"000\")&TEXT(F559,\"0000\")","v":"0000000"},"Please enter the zip code of Member 45's address.\n社員 45 の住所の郵便番号を入力してください。"]
[null,null,"Address(Prefectures,City,Ward,Town or Village) of Members at Incorporation 45\n（社員 45の住所(都道府県市区町村)）","English",{"$f":"IF(E559=\"\", \"\", IF(F559=\"\", \"\", work!D282&\" \"&work!E282&\" \"&work!F282))","v":""},null,null,"When enter zip code, address will be automatically filled in\n郵便番号を入力すると住所が自動入力されます"]
[{"$nulls":3},"日本語",{"$f":"IF(E559=\"\", \"\", IF(F559=\"\", \"\", work!D281&\" \"&work!E281&\" \"&work!F281))","v":""},null,null,"When enter zip code, address will be automatically filled in\n郵便番号を入力すると住所が自動入力されます"]
[null,null,"Street address of Members at Incorporation 45\n（社員 45の住所の番地）",{"$nulls":4},"Please enter  enter the street adress of Member at Incorporation 45.\n社員 45 の住所の番地を入力してください。"]
[null,null,"Building name・Room number of Members at Incorporation 45（社員 45の住所の建物名・部屋番号）","English",{"$nulls":3},"Please enter the building name and room number only if required.\n建物名と部屋番号を入力する必要がある場合にのみ入力してください。"]
[{"$nulls":3},"日本語",{"$nulls":3},"Japanese will not be automatically entered in this field. If you can write in Japanese, please enter in Japanese.／この欄は日本語が自動併記されません。日本語の記入ができる方は入力してください。"]
[null,null,"Home Country Address of Member at Incorporation 45\n（社員 45の本国の住所）","English",{"$nulls":3},"Please enter home country address of Member at Incorporation 45 in English.\n社員 45 の本国の住所を英語で入力してください"]
[{"$nulls":3},"日本語",{"$nulls":3},"Japanese will not be automatically entered in this field. If you can write in Japanese, please enter in Japanese.／この欄は日本語が自動併記されません。日本語の記入ができる方は入力してください。"]
[]
[null,null,"Name of Menbers 46\n（社員 46の氏名）","English",{"$nulls":3},"Please enter Member at Incorporation 46's name in English.\n社員 46 の氏名を英語で入力してください。\nPlease select the \"Living in Japan/Not Living in Japan\" radio button.\n「日本に住んでいる/日本に住んでいない」ラジオボタンを選択してください。"]
[{"$nulls":3},"日本語",{"$nulls":3},"Japanese will not be automatically entered in this field. If you can write in Japanese, please enter in Japanese.／この欄は日本語が自動併記されません。日本語の記入ができる方は入力してください。"]
[null,null,"Contribution of Members 46 （社員 46の出資金）",{"$nulls":4},"Please enter Contribution of Members 46 .\n社員 46 の出資金を入力してください。"]
[null,null,"Zip code of Members at Incorporation 46's address\n（社員 46の住所の郵便番号）",{"$nulls":3},{"$f":"TEXT(E571,\"000\")&TEXT(F571,\"0000\")","v":"0000000"},"Please enter the zip code of Member 46's address.\n社員 46 の住所の郵便番号を入力してください。"]
[null,null,"Address(Prefectures,City,Ward,Town or Village) of Members at Incorporation 46 \n（社員 46の住所(都道府県市区町村)）","English",{"$f":"IF(E571=\"\", \"\", IF(F571=\"\", \"\", work!D288&\" \"&work!E288&\" \"&work!F288))","v":""},null,null,"When enter zip code, address will be automatically filled in\n郵便番号を入力すると住所が自動入力されます"]
[{"$nulls":3},"日本語",{"$f":"IF(E571=\"\", \"\", IF(F571=\"\", \"\", work!D287&\" \"&work!E287&\" \"&work!F287))","v":""},null,null,"When enter zip code, address will be automatically filled in\n郵便番号を入力すると住所が自動入力されます"]
[null,null,"Street address of Members at Incorporation 46\n（社員 46の住所の番地）",{"$nulls":4},"Please enter  enter the street adress of Member at Incorporation 46.\n社員 46 の住所の番地を入力してください。"]
[null,null,"Building name・Room number of Members at Incorporation 46（社員 46の住所の建物名・部屋番号）","English",{"$nulls":3},"Please enter the building name and room number only if required.\n建物名と部屋番号を入力する必要がある場合にのみ入力してください。"]
[{"$nulls":3},"日本語",{"$nulls":3},"Japanese will not be automatically entered in this field. If you can write in Japanese, please enter in Japanese.／この欄は日本語が自動併記されません。日本語の記入ができる方は入力してください。"]
[null,null,"Home Country Address of Member at Incorporation 46\n（社員 46の本国の住所）","English",{"$nulls":3},"Please enter home country address of Member at Incorporation 46 in English.\n社員 46 の本国の住所を英語で入力してください"]
[{"$nulls":3},"日本語",{"$nulls":3},"Japanese will not be automatically entered in this field. If you can write in Japanese, please enter in Japanese.／この欄は日本語が自動併記されません。日本語の記入ができる方は入力してください。"]
[]
[null,null,"Name of Menbers 47\n（社員 47の氏名）","English",{"$nulls":3},"Please enter Member at Incorporation 47's name in English.\n社員 47 の氏名を英語で入力してください。\nPlease select the \"Living in Japan/Not Living in Japan\" radio button.\n「日本に住んでいる/日本に住んでいない」ラジオボタンを選択してください。"]
[{"$nulls":3},"日本語",{"$nulls":3},"Japanese will not be automatically entered in this field. If you can write in Japanese, please enter in Japanese.／この欄は日本語が自動併記されません。日本語の記入ができる方は入力してください。"]
[null,null,"Contribution of Members 47 （社員 47の出資金）",{"$nulls":4},"Please enter Contribution of Members 47 .\n社員 47 の出資金を入力してください。"]
[null,null,"Zip code of Members at Incorporation 47's address\n（社員 47の住所の郵便番号）",{"$nulls":3},{"$f":"TEXT(E583,\"000\")&TEXT(F583,\"0000\")","v":"0000000"},"Please enter the zip code of Member 47's address.\n社員 47 の住所の郵便番号を入力してください。"]
[null,null,"Address(Prefectures,City,Ward,Town or Village) of Members at Incorporation 47 \n（社員 47の住所(都道府県市区町村)）","English",{"$f":"IF(E583=\"\", \"\", IF(F583=\"\", \"\", work!D294&\" \"&work!E294&\" \"&work!F294))","v":""},null,null,"When enter zip code, address will be automatically filled in\n郵便番号を入力すると住所が自動入力されます"]
[{"$nulls":3},"日本語",{"$f":"IF(E583=\"\", \"\", IF(F583=\"\", \"\", work!D293&\" \"&work!E293&\" \"&work!F293))","v":""},null,null,"When enter zip code, address will be automatically filled in\n郵便番号を入力すると住所が自動入力されます"]
[null,null,"Street address of Members at Incorporation 47\n（社員 47の住所の番地）",{"$nulls":4},"Please enter  enter the street adress of Member at Incorporation 47.\n社員 47 の住所の番地を入力してください。"]
[null,null,"Building name・Room number of Members at Incorporation 47（社員 47の住所の建物名・部屋番号）","English",{"$nulls":3},"Please enter the building name and room number only if required.\n建物名と部屋番号を入力する必要がある場合にのみ入力してください。"]
[{"$nulls":3},"日本語",{"$nulls":3},"Japanese will not be automatically entered in this field. If you can write in Japanese, please enter in Japanese.／この欄は日本語が自動併記されません。日本語の記入ができる方は入力してください。"]
[null,null,"Home Country Address of Member at Incorporation 47\n（社員 47の本国の住所）","English",{"$nulls":3},"Please enter home country address of Member at Incorporation 47 in English.\n社員 47 の本国の住所を英語で入力してください"]
[{"$nulls":3},"日本語",{"$nulls":3},"Japanese will not be automatically entered in this field. If you can write in Japanese, please enter in Japanese.／この欄は日本語が自動併記されません。日本語の記入ができる方は入力してください。"]
[]
[null,null,"Name of Menbers 48\n（社員 48の氏名）","English",{"$nulls":3},"Please enter Member at Incorporation 48's name in English.\n社員 48 の氏名を英語で入力してください。\nPlease select the \"Living in Japan/Not Living in Japan\" radio button.\n「日本に住んでいる/日本に住んでいない」ラジオボタンを選択してください。"]
[{"$nulls":3},"日本語",{"$nulls":3},"Japanese will not be automatically entered in this field. If you can write in Japanese, please enter in Japanese.／この欄は日本語が自動併記されません。日本語の記入ができる方は入力してください。"]
[null,null,"Contribution of Members 48 （社員 48の出資金）",{"$nulls":4},"Please enter Contribution of Members 48 .\n社員 48 の出資金を入力してください。"]
[null,null,"Zip code of Members at Incorporation 48's address\n（社員 48の住所の郵便番号）",{"$nulls":3},{"$f":"TEXT(E595,\"000\")&TEXT(F595,\"0000\")","v":"0000000"},"Please enter the zip code of Member 48's address.\n社員 48 の住所の郵便番号を入力してください。"]
[null,null,"Address(Prefectures,City,Ward,Town or Village) of Members at Incorporation 48 \n（社員 48の住所(都道府県市区町村)）","English",{"$f":"IF(E595=\"\", \"\", IF(F595=\"\", \"\", work!D300&\" \"&work!E300&\" \"&work!F300))","v":""},null,null,"When enter zip code, address will be automatically filled in\n郵便番号を入力すると住所が自動入力されます"]
[{"$nulls":3},"日本語",{"$f":"IF(E595=\"\", \"\", IF(F595=\"\", \"\", work!D299&\" \"&work!E299&\" \"&work!F299))","v":""},null,null,"When enter zip code, address will be automatically filled in\n郵便番号を入力すると住所が自動入力されます"]
[null,null,"Street address of Members at Incorporation 48\n（社員 48の住所の番地）",{"$nulls":4},"Please enter  enter the street adress of Member at Incorporation 48.\n社員 48 の住所の番地を入力してください。"]
[null,null,"Building name・Room number of Members at Incorporation 48（社員 48の住所の建物名・部屋番号）","English",{"$nulls":3},"Please enter the building name and room number only if required.\n建物名と部屋番号を入力する必要がある場合にのみ入力してください。"]
[{"$nulls":3},"日本語",{"$nulls":3},"Japanese will not be automatically entered in this field. If you can write in Japanese, please enter in Japanese.／この欄は日本語が自動併記されません。日本語の記入ができる方は入力してください。"]
[null,null,"Home Country Address of Member at Incorporation 48\n（社員 48の本国の住所）","English",{"$nulls":3},"Please enter home country address of Member at Incorporation 48 in English.\n社員 48 の本国の住所を英語で入力してください"]
[{"$nulls":3},"日本語",{"$nulls":3},"Japanese will not be automatically entered in this field. If you can write in Japanese, please enter in Japanese.／この欄は日本語が自動併記されません。日本語の記入ができる方は入力してください。"]
[]
[null,null,"Name of Menbers 49\n（社員 49の氏名）","English",{"$nulls":3},"Please enter Member at Incorporation 49's name in English.\n社員 49 の氏名を英語で入力してください。\nPlease select the \"Living in Japan/Not Living in Japan\" radio button.\n「日本に住んでいる/日本に住んでいない」ラジオボタンを選択してください。"]
[{"$nulls":3},"日本語",{"$nulls":3},"Japanese will not be automatically entered in this field. If you can write in Japanese, please enter in Japanese.／この欄は日本語が自動併記されません。日本語の記入ができる方は入力してください。"]
[null,null,"Contribution of Members 49 （社員 49の出資金）",{"$nulls":4},"Please enter Contribution of Members 49 .\n社員 49 の出資金を入力してください。"]
[null,null,"Zip code of Members at Incorporation 49's address\n（社員 49の住所の郵便番号）",{"$nulls":3},{"$f":"TEXT(E607,\"000\")&TEXT(F607,\"0000\")","v":"0000000"},"Please enter the zip code of Member 49's address.\n社員 49 の住所の郵便番号を入力してください。"]
[null,null,"Address(Prefectures,City,Ward,Town or Village) of Members at Incorporation 49 \n（社員 49の住所(都道府県市区町村)）","English",{"$f":"IF(E607=\"\", \"\", IF(F607=\"\", \"\", work!D306&\" \"&work!E306&\" \"&work!F306))","v":""},null,null,"When enter zip code, address will be automatically filled in\n郵便番号を入力すると住所が自動入力されます"]
[{"$nulls":3},"日本語",{"$f":"IF(E607=\"\", \"\", IF(F607=\"\", \"\", work!D305&\" \"&work!E305&\" \"&work!F305))","v":""},null,null,"When enter zip code, address will be automatically filled in\n郵便番号を入力すると住所が自動入力されます"]
[null,null,"Street address of Members at Incorporation 49\n（社員 49の住所の番地）",{"$nulls":4},"Please enter  enter the street adress of Member at Incorporation 49.\n社員 49 の住所の番地を入力してください。"]
[null,null,"Building name・Room number of Members at Incorporation 49（社員 49の住所の建物名・部屋番号）","English",{"$nulls":3},"Please enter the building name and room number only if required.\n建物名と部屋番号を入力する必要がある場合にのみ入力してください。"]
[{"$nulls":3},"日本語",{"$nulls":3},"Japanese will not be automatically entered in this field. If you can write in Japanese, please enter in Japanese.／この欄は日本語が自動併記されません。日本語の記入ができる方は入力してください。"]
[null,null,"Home Country Address of Member at Incorporation 49\n（社員 49の本国の住所）","English",{"$nulls":3},"Please enter home country address of Member at Incorporation 49 in English.\n社員 49 の本国の住所を英語で入力してください"]
[{"$nulls":3},"日本語",{"$nulls":3},"Japanese will not be automatically entered in this field. If you can write in Japanese, please enter in Japanese.／この欄は日本語が自動併記されません。日本語の記入ができる方は入力してください。"]
[]
[null,null,"Name of Menbers 50\n（社員 50の氏名）","English",{"$nulls":3},"Please enter Member at Incorporation 50's name in English.\n社員 50 の氏名を英語で入力してください。\nPlease select the \"Living in Japan/Not Living in Japan\" radio button.\n「日本に住んでいる/日本に住んでいない」ラジオボタンを選択してください。"]
[{"$nulls":3},"日本語",{"$nulls":3},"Japanese will not be automatically entered in this field. If you can write in Japanese, please enter in Japanese.／この欄は日本語が自動併記されません。日本語の記入ができる方は入力してください。"]
[null,null,"Contribution of Members 50 （社員 50の出資金）",{"$nulls":4},"Please enter Contribution of Members 50 .\n社員 50 の出資金を入力してください。"]
[null,null,"Zip code of Members at Incorporation 50's address\n（社員 50の住所の郵便番号）",{"$nulls":3},{"$f":"TEXT(E619,\"000\")&TEXT(F619,\"0000\")","v":"0000000"},"Please enter the zip code of Member 50's address.\n社員 50 の住所の郵便番号を入力してください。"]
[null,null,"Address(Prefectures,City,Ward,Town or Village) of Members at Incorporation 50 \n（社員 50の住所(都道府県市区町村)）","English",{"$f":"IF(E619=\"\", \"\", IF(F619=\"\", \"\", work!D312&\" \"&work!E312&\" \"&work!F312))","v":""},null,null,"When enter zip code, address will be automatically filled in\n郵便番号を入力すると住所が自動入力されます"]
[{"$nulls":3},"日本語",{"$f":"IF(E619=\"\", \"\", IF(F619=\"\", \"\", work!D311&\" \"&work!E311&\" \"&work!F311))","v":""},null,null,"When enter zip code, address will be automatically filled in\n郵便番号を入力すると住所が自動入力されます"]
[null,null,"Street address of Members at Incorporation 50\n（社員 50の住所の番地）",{"$nulls":4},"Please enter  enter the street adress of Member at Incorporation 50.\n社員 50 の住所の番地を入力してください。"]
[null,null,"Building name・Room number of Members at Incorporation 50（社員 50の住所の建物名・部屋番号）","English",{"$nulls":3},"Please enter the building name and room number only if required.\n建物名と部屋番号を入力する必要がある場合にのみ入力してください。"]
[{"$nulls":3},"日本語",{"$nulls":3},"Japanese will not be automatically entered in this field. If you can write in Japanese, please enter in Japanese.／この欄は日本語が自動併記されません。日本語の記入ができる方は入力してください。"]
[null,null,"Home Country Address of Member at Incorporation 50\n（社員 50の本国の住所）","English",{"$nulls":3},"Please enter home country address of Member at Incorporation 50 in English.\n社員 50 の本国の住所を英語で入力してください"]
[{"$nulls":3},"日本語",{"$nulls":3},"Japanese will not be automatically entered in this field. If you can write in Japanese, please enter in Japanese.／この欄は日本語が自動併記されません。日本語の記入ができる方は入力してください。"]
[]
[]
[null,"　１－②　Information of Company / 会社の情報"]
[null,null,"Contents / 項目",null,"Value / 値",null,null,"Remarks column / 備考欄"]
[null,null,"Zip code of Head Office\n（本店の所在地の郵便番号）",null,143,"0024",{"$f":"TEXT(E631,\"000\")&TEXT(F631,\"0000\")","v":"1430024"},"Please enter the zip code of Head Office.\n本店の住所の郵便番号を入力してください。"]
[null,null,"Address(Prefectures,City,Ward,Town or Village) of Head Office\n（本店の所在地(都道府県市区町村)）","English",{"$f":"IF(E631=\"\", \"\", IF(F631=\"\", \"\", work!D6&\" \"&work!E6&\" \"&work!F6))","v":"Tokyoto Otaku Chuo"},null,null,"When enter zip code, address will be automatically filled in\n郵便番号を入力すると住所が自動入力されます"]
[{"$nulls":3},"日本語",{"$f":"IF(E631=\"\", \"\", IF(F631=\"\", \"\", work!D5&\" \"&work!E5&\" \"&work!F5))","v":"東京都 大田区 中央"},null,null,"When enter zip code, address will be automatically filled in\n郵便番号を入力すると住所が自動入力されます"]
[null,null,"Street address of Head Office\n（本店の所在地の番地）",null,"22-33-44",null,null,"Please enter the street adress of Head Office.\n本店の所在地の番地を入力してください。"]
[null,null,"Building name・Room number of Head Office\n（本店の所在地の建物名・部屋番号）","English","Shinsekai Building Room 101",null,null,"Please enter the building name and room number only if required.\n建物名と部屋番号を入力する必要がある場合にのみ入力してください。"]
[{"$nulls":3},"日本語","新世界ビル101号室",null,null,"Japanese will not be automatically entered in this field. If you can write in Japanese, please enter in Japanese.／この欄は日本語が自動併記されません。日本語の記入ができる方は入力してください。"]
[null,null,"Method of Public Notice\n（公告をする方法）",null,"electronic public notice",null,null,"Please select from dropbox.\nドロップボックスから選択してください。"]
[{"$nulls":4},{"$f":"IF(入力情報!E637 = \"\", \"\",IF(ISERROR(VLOOKUP(入力情報!E637,work!K3:L12,2,FALSE)),\"\", VLOOKUP(入力情報!E637,work!K3:L12,2,FALSE)))","v":"電子公告"},null,null,"Japanese will be entered automatically.\n日本語が自動で併記されます。"]
[null,null,"URL of electronic public notice\n電子公告のURL",null,"https://samplename.co.jp",null,null,"Please enter the URL of electronic public notice.\n電子公告のURLを入力してください。"]
[null,null,"The Amount of Stated Capital （資本金の額）",null,{"v":3000000,"d":"¥3,000,000"},null,null,"Example 1000000.\n例 1000000。"]
[null,null,"The First Business Year（最初の事業年度）",null,2025]
[]
[null,null,"number of Purpose (目的数)",null,10,null,null,"Please enter the number of Purpose. (you can enter from 1 to 50) \n目的数を入力してください（１から50まで入力可能）"]
[]
[null,null,"Purpose1（目的1）","English","Finance・Insurance industry","Business concerning finance",{"$f":"IF(E645 = \"\", \"All_Industry\", SUBSTITUTE(SUBSTITUTE(E645 & \"_\" & E646, \"・\", \"_\"), \" \", \"_\"))","v":"Finance_Insurance_industry_金融_保険業"},"Please select from dropbox or free input using keyboard\nドロップボックスから選択する、またはキーボードで入力してください"]
[{"$nulls":3},"日本語",{"$f":"IF(ISERROR(VLOOKUP(E645,work!AH:AJ,2,FALSE)),\"\", VLOOKUP(E645,work!AH:AJ,2,FALSE))","v":"金融・保険業"},"金融に関する事業",null,"Japanese will not be automatically entered in this field when free input. If you can write in Japanese, please enter in Japanese.／自由入力の場合、この欄は日本語が自動併記されません。日本語の記入ができる方は入力してください。"]
[null,null,"Purpose2（目的2）","English","Various goods sales industry","Sales of daily necessities, sports equipment, etc.",{"$f":"IF(E647 = \"\", \"All_Industry\", SUBSTITUTE(SUBSTITUTE(E647 & \"_\" & E648, \"・\", \"_\"), \" \", \"_\"))","v":"Various_goods_sales_industry_各種物品販売業"},"Please select from dropbox or free input using keyboard\nドロップボックスから選択する、またはキーボードで入力してください"]
[{"$nulls":3},"日本語",{"$f":"IF(ISERROR(VLOOKUP(E647,work!AH:AJ,2,FALSE)),\"\", VLOOKUP(E647,work!AH:AJ,2,FALSE))","v":"各種物品販売業"},"日用雑貨、スポーツ用品等の販売",null,"Japanese will not be automatically entered in this field when free input. If you can write in Japanese, please enter in Japanese.／自由入力の場合、この欄は日本語が自動併記されません。日本語の記入ができる方は入力してください。"]
[null,null,"Purpose3（目的3）","English","Food and Drink","Manufacture of various kinds of food products",{"$f":"IF(E649 = \"\", \"All_Industry\", SUBSTITUTE(SUBSTITUTE(E649 & \"_\" & E650, \"・\", \"_\"), \" \", \"_\"))","v":"Food_and_Drink_飲食料品"},"Please select from dropbox or free input using keyboard\nドロップボックスから選択する、またはキーボードで入力してください"]
[{"$nulls":3},"日本語",{"$f":"IF(ISERROR(VLOOKUP(E649,work!AH:AJ,2,FALSE)),\"\", VLOOKUP(E649,work!AH:AJ,2,FALSE))","v":"飲食料品"},"各種食品の製造",null,"Japanese will not be automatically entered in this field when free input. If you can write in Japanese, please enter in Japanese.／自由入力の場合、この欄は日本語が自動併記されません。日本語の記入ができる方は入力してください。"]
[null,null,"Purpose4（目的4）","English","Transportation・Warehousing","Cargo transportation by automobiles",{"$f":"IF(E651 = \"\", \"All_Industry\", SUBSTITUTE(SUBSTITUTE(E651 & \"_\" & E652, \"・\", \"_\"), \" \", \"_\"))","v":"Transportation_Warehousing_運輸_倉庫"},"Please select from dropbox or free input using keyboard\nドロップボックスから選択する、またはキーボードで入力してください"]
[{"$nulls":3},"日本語",{"$f":"IF(ISERROR(VLOOKUP(E651,work!AH:AJ,2,FALSE)),\"\", VLOOKUP(E651,work!AH:AJ,2,FALSE))","v":"運輸・倉庫"},"貨物自動車運送事業",null,"Japanese will not be automatically entered in this field when free input. If you can write in Japanese, please enter in Japanese.／自由入力の場合、この欄は日本語が自動併記されません。日本語の記入ができる方は入力してください。"]
[null,null,"Purpose5（目的5）","English","Medical care","Provision of various services relating to the medical field",{"$f":"IF(E653 = \"\", \"All_Industry\", SUBSTITUTE(SUBSTITUTE(E653 & \"_\" & E654, \"・\", \"_\"), \" \", \"_\"))","v":"Medical_care_医療"},"Please select from dropbox or free input using keyboard\nドロップボックスから選択する、またはキーボードで入力してください"]
[{"$nulls":3},"日本語",{"$f":"IF(ISERROR(VLOOKUP(E653,work!AH:AJ,2,FALSE)),\"\", VLOOKUP(E653,work!AH:AJ,2,FALSE))","v":"医療"},"医療に関連する各種サービスの提供",null,"Japanese will not be automatically entered in this field when free input. If you can write in Japanese, please enter in Japanese.／自由入力の場合、この欄は日本語が自動併記されません。日本語の記入ができる方は入力してください。"]
[null,null,"Purpose6（目的6）","English","Management・Consultancy・Information","Investment consulting services",{"$f":"IF(E655 = \"\", \"All_Industry\", SUBSTITUTE(SUBSTITUTE(E655 & \"_\" & E656, \"・\", \"_\"), \" \", \"_\"))","v":"Management_Consultancy_Information_経営_コンサルタント_情報"},"Please select from dropbox or free input using keyboard\nドロップボックスから選択する、またはキーボードで入力してください"]
[{"$nulls":3},"日本語",{"$f":"IF(ISERROR(VLOOKUP(E655,work!AH:AJ,2,FALSE)),\"\", VLOOKUP(E655,work!AH:AJ,2,FALSE))","v":"経営・コンサルタント・情報"},"投資コンサルティング業務",null,"Japanese will not be automatically entered in this field when free input. If you can write in Japanese, please enter in Japanese.／自由入力の場合、この欄は日本語が自動併記されません。日本語の記入ができる方は入力してください。"]
[null,null,"Purpose7（目的7）","English","Others","Business related to ocean resources development",{"$f":"IF(E657 = \"\", \"All_Industry\", SUBSTITUTE(SUBSTITUTE(E657 & \"_\" & E658, \"・\", \"_\"), \" \", \"_\"))","v":"Others_その他"},"Please select from dropbox or free input using keyboard\nドロップボックスから選択する、またはキーボードで入力してください"]
[{"$nulls":3},"日本語",{"$f":"IF(ISERROR(VLOOKUP(E657,work!AH:AJ,2,FALSE)),\"\", VLOOKUP(E657,work!AH:AJ,2,FALSE))","v":"その他"},"海洋資源開発に関する事業",null,"Japanese will not be automatically entered in this field when free input. If you can write in Japanese, please enter in Japanese.／自由入力の場合、この欄は日本語が自動併記されません。日本語の記入ができる方は入力してください。"]
[null,null,"Purpose8（目的8）","English","Others","All businesses incidental to the preceding items.",{"$f":"IF(E659 = \"\", \"All_Industry\", SUBSTITUTE(SUBSTITUTE(E659 & \"_\" & E660, \"・\", \"_\"), \" \", \"_\"))","v":"Others_その他"},"Please select from dropbox or free input using keyboard\nドロップボックスから選択する、またはキーボードで入力してください"]
[{"$nulls":3},"日本語",{"$f":"IF(ISERROR(VLOOKUP(E659,work!AH:AJ,2,FALSE)),\"\", VLOOKUP(E659,work!AH:AJ,2,FALSE))","v":"その他"},"前各号に付帯する一切の事業",null,"Japanese will not be automatically entered in this field when free input. If you can write in Japanese, please enter in Japanese.／自由入力の場合、この欄は日本語が自動併記されません。日本語の記入ができる方は入力してください。"]
[null,null,"Purpose9（目的9）","English",null,null,{"$f":"IF(E661 = \"\", \"All_Industry\", SUBSTITUTE(SUBSTITUTE(E661 & \"_\" & E662, \"・\", \"_\"), \" \", \"_\"))","v":"All_Industry"},"Please select from dropbox or free input using keyboard\nドロップボックスから選択する、またはキーボードで入力してください"]
[{"$nulls":3},"日本語",{"$f":"IF(ISERROR(VLOOKUP(E661,work!AH:AJ,2,FALSE)),\"\", VLOOKUP(E661,work!AH:AJ,2,FALSE))","v":""},null,null,"Japanese will not be automatically entered in this field when free input. If you can write in Japanese, please enter in Japanese.／自由入力の場合、この欄は日本語が自動併記されません。日本語の記入ができる方は入力してください。"]
[null,null,"Purpose10（目的10）","English",null,null,{"$f":"IF(E663 = \"\", \"All_Industry\", SUBSTITUTE(SUBSTITUTE(E663 & \"_\" & E664, \"・\", \"_\"), \" \", \"_\"))","v":"All_Industry"},"Please select from dropbox or free input using keyboard\nドロップボックスから選択する、またはキーボードで入力してください"]
[{"$nulls":3},"日本語",{"$f":"IF(ISERROR(VLOOKUP(E663,work!AH:AJ,2,FALSE)),\"\", VLOOKUP(E663,work!AH:AJ,2,FALSE))","v":""},null,null,"Japanese will not be automatically entered in this field when free input. If you can write in Japanese, please enter in Japanese.／自由入力の場合、この欄は日本語が自動併記されません。日本語の記入ができる方は入力してください。"]
[null,null,"Purpose11（目的11）","English",null,null,{"$f":"IF(E665 = \"\", \"All_Industry\", SUBSTITUTE(SUBSTITUTE(E665 & \"_\" & E666, \"・\", \"_\"), \" \", \"_\"))","v":"All_Industry"},"Please select from dropbox or free input using keyboard\nドロップボックスから選択する、またはキーボードで入力してください"]
[{"$nulls":3},"日本語",{"$f":"IF(ISERROR(VLOOKUP(E665,work!AH:AJ,2,FALSE)),\"\", VLOOKUP(E665,work!AH:AJ,2,FALSE))","v":""},null,null,"Japanese will not be automatically entered in this field when free input. If you can write in Japanese, please enter in Japanese.／自由入力の場合、この欄は日本語が自動併記されません。日本語の記入ができる方は入力してください。"]
[null,null,"Purpose12（目的12）","English",null,null,{"$f":"IF(E667 = \"\", \"All_Industry\", SUBSTITUTE(SUBSTITUTE(E667 & \"_\" & E668, \"・\", \"_\"), \" \", \"_\"))","v":"All_Industry"},"Please select from dropbox or free input using keyboard\nドロップボックスから選択する、またはキーボードで入力してください"]
[{"$nulls":3},"日本語",{"$f":"IF(ISERROR(VLOOKUP(E667,work!AH:AJ,2,FALSE)),\"\", VLOOKUP(E667,work!AH:AJ,2,FALSE))","v":""},null,null,"Japanese will not be automatically entered in this field when free input. If you can write in Japanese, please enter in Japanese.／自由入力の場合、この欄は日本語が自動併記されません。日本語の記入ができる方は入力してください。"]
[null,null,"Purpose13（目的13）","English",null,null,{"$f":"IF(E669 = \"\", \"All_Industry\", SUBSTITUTE(SUBSTITUTE(E669 & \"_\" & E670, \"・\", \"_\"), \" \", \"_\"))","v":"All_Industry"},"Please select from dropbox or free input using keyboard\nドロップボックスから選択する、またはキーボードで入力してください"]
[{"$nulls":3},"日本語",{"$f":"IF(ISERROR(VLOOKUP(E669,work!AH:AJ,2,FALSE)),\"\", VLOOKUP(E669,work!AH:AJ,2,FALSE))","v":""},null,null,"Japanese will not be automatically entered in this field when free input. If you can write in Japanese, please enter in Japanese.／自由入力の場合、この欄は日本語が自動併記されません。日本語の記入ができる方は入力してください。"]
[null,null,"Purpose14（目的14）","English",null,null,{"$f":"IF(E671 = \"\", \"All_Industry\", SUBSTITUTE(SUBSTITUTE(E671 & \"_\" & E672, \"・\", \"_\"), \" \", \"_\"))","v":"All_Industry"},"Please select from dropbox or free input using keyboard\nドロップボックスから選択する、またはキーボードで入力してください"]
[{"$nulls":3},"日本語",{"$f":"IF(ISERROR(VLOOKUP(E671,work!AH:AJ,2,FALSE)),\"\", VLOOKUP(E671,work!AH:AJ,2,FALSE))","v":""},null,null,"Japanese will not be automatically entered in this field when free input. If you can write in Japanese, please enter in Japanese.／自由入力の場合、この欄は日本語が自動併記されません。日本語の記入ができる方は入力してください。"]
[null,null,"Purpose15（目的15）","English",null,null,{"$f":"IF(E673 = \"\", \"All_Industry\", SUBSTITUTE(SUBSTITUTE(E673 & \"_\" & E674, \"・\", \"_\"), \" \", \"_\"))","v":"All_Industry"},"Please select from dropbox or free input using keyboard\nドロップボックスから選択する、またはキーボードで入力してください"]
[{"$nulls":3},"日本語",{"$f":"IF(ISERROR(VLOOKUP(E673,work!AH:AJ,2,FALSE)),\"\", VLOOKUP(E673,work!AH:AJ,2,FALSE))","v":""},null,null,"Japanese will not be automatically entered in this field when free input. If you can write in Japanese, please enter in Japanese.／自由入力の場合、この欄は日本語が自動併記されません。日本語の記入ができる方は入力してください。"]
[null,null,"Purpose16（目的16）","English",null,null,{"$f":"IF(E675 = \"\", \"All_Industry\", SUBSTITUTE(SUBSTITUTE(E675 & \"_\" & E676, \"・\", \"_\"), \" \", \"_\"))","v":"All_Industry"},"Please select from dropbox or free input using keyboard\nドロップボックスから選択する、またはキーボードで入力してください"]
[{"$nulls":3},"日本語",{"$f":"IF(ISERROR(VLOOKUP(E675,work!AH:AJ,2,FALSE)),\"\", VLOOKUP(E675,work!AH:AJ,2,FALSE))","v":""},null,null,"Japanese will not be automatically entered in this field when free input. If you can write in Japanese, please enter in Japanese.／自由入力の場合、この欄は日本語が自動併記されません。日本語の記入ができる方は入力してください。"]
[null,null,"Purpose17（目的17）","English",null,null,{"$f":"IF(E677 = \"\", \"All_Industry\", SUBSTITUTE(SUBSTITUTE(E677 & \"_\" & E678, \"・\", \"_\"), \" \", \"_\"))","v":"All_Industry"},"Please select from dropbox or free input using keyboard\nドロップボックスから選択する、またはキーボードで入力してください"]
[{"$nulls":3},"日本語",{"$f":"IF(ISERROR(VLOOKUP(E677,work!AH:AJ,2,FALSE)),\"\", VLOOKUP(E677,work!AH:AJ,2,FALSE))","v":""},null,null,"Japanese will not be automatically entered in this field when free input. If you can write in Japanese, please enter in Japanese.／自由入力の場合、この欄は日本語が自動併記されません。日本語の記入ができる方は入力してください。"]
[null,null,"Purpose18（目的18）","English",null,null,{"$f":"IF(E679 = \"\", \"All_Industry\", SUBSTITUTE(SUBSTITUTE(E679 & \"_\" & E680, \"・\", \"_\"), \" \", \"_\"))","v":"All_Industry"},"Please select from dropbox or free input using keyboard\nドロップボックスから選択する、またはキーボードで入力してください"]
[{"$nulls":3},"日本語",{"$f":"IF(ISERROR(VLOOKUP(E679,work!AH:AJ,2,FALSE)),\"\", VLOOKUP(E679,work!AH:AJ,2,FALSE))","v":""},null,null,"Japanese will not be automatically entered in this field when free input. If you can write in Japanese, please enter in Japanese.／自由入力の場合、この欄は日本語が自動併記されません。日本語の記入ができる方は入力してください。"]
[null,null,"Purpose19（目的19）","English",null,null,{"$f":"IF(E681 = \"\", \"All_Industry\", SUBSTITUTE(SUBSTITUTE(E681 & \"_\" & E682, \"・\", \"_\"), \" \", \"_\"))","v":"All_Industry"},"Please select from dropbox or free input using keyboard\nドロップボックスから選択する、またはキーボードで入力してください"]
[{"$nulls":3},"日本語",{"$f":"IF(ISERROR(VLOOKUP(E681,work!AH:AJ,2,FALSE)),\"\", VLOOKUP(E681,work!AH:AJ,2,FALSE))","v":""},null,null,"Japanese will not be automatically entered in this field when free input. If you can write in Japanese, please enter in Japanese.／自由入力の場合、この欄は日本語が自動併記されません。日本語の記入ができる方は入力してください。"]
[null,null,"Purpose20（目的20）","English",null,null,{"$f":"IF(E683 = \"\", \"All_Industry\", SUBSTITUTE(SUBSTITUTE(E683 & \"_\" & E684, \"・\", \"_\"), \" \", \"_\"))","v":"All_Industry"},"Please select from dropbox or free input using keyboard\nドロップボックスから選択する、またはキーボードで入力してください"]
[{"$nulls":3},"日本語",{"$f":"IF(ISERROR(VLOOKUP(E683,work!AH:AJ,2,FALSE)),\"\", VLOOKUP(E683,work!AH:AJ,2,FALSE))","v":""},null,null,"Japanese will not be automatically entered in this field when free input. If you can write in Japanese, please enter in Japanese.／自由入力の場合、この欄は日本語が自動併記されません。日本語の記入ができる方は入力してください。"]
[null,null,"Purpose21（目的21）","English",null,null,{"$f":"IF(E685 = \"\", \"All_Industry\", SUBSTITUTE(SUBSTITUTE(E685 & \"_\" & E686, \"・\", \"_\"), \" \", \"_\"))","v":"All_Industry"},"Please select from dropbox or free input using keyboard\nドロップボックスから選択する、またはキーボードで入力してください"]
[{"$nulls":3},"日本語",{"$f":"IF(ISERROR(VLOOKUP(E685,work!AH:AJ,2,FALSE)),\"\", VLOOKUP(E685,work!AH:AJ,2,FALSE))","v":""},null,null,"Japanese will not be automatically entered in this field when free input. If you can write in Japanese, please enter in Japanese.／自由入力の場合、この欄は日本語が自動併記されません。日本語の記入ができる方は入力してください。"]
[null,null,"Purpose22（目的22）","English",null,null,{"$f":"IF(E687 = \"\", \"All_Industry\", SUBSTITUTE(SUBSTITUTE(E687 & \"_\" & E688, \"・\", \"_\"), \" \", \"_\"))","v":"All_Industry"},"Please select from dropbox or free input using keyboard\nドロップボックスから選択する、またはキーボードで入力してください"]
[{"$nulls":3},"日本語",{"$f":"IF(ISERROR(VLOOKUP(E687,work!AH:AJ,2,FALSE)),\"\", VLOOKUP(E687,work!AH:AJ,2,FALSE))","v":""},null,null,"Japanese will not be automatically entered in this field when free input. If you can write in Japanese, please enter in Japanese.／自由入力の場合、この欄は日本語が自動併記されません。日本語の記入ができる方は入力してください。"]
[null,null,"Purpose23（目的23）","English",null,null,{"$f":"IF(E689 = \"\", \"All_Industry\", SUBSTITUTE(SUBSTITUTE(E689 & \"_\" & E690, \"・\", \"_\"), \" \", \"_\"))","v":"All_Industry"},"Please select from dropbox or free input using keyboard\nドロップボックスから選択する、またはキーボードで入力してください"]
[{"$nulls":3},"日本語",{"$f":"IF(ISERROR(VLOOKUP(E689,work!AH:AJ,2,FALSE)),\"\", VLOOKUP(E689,work!AH:AJ,2,FALSE))","v":""},null,null,"Japanese will not be automatically entered in this field when free input. If you can write in Japanese, please enter in Japanese.／自由入力の場合、この欄は日本語が自動併記されません。日本語の記入ができる方は入力してください。"]
[null,null,"Purpose24（目的24）","English",null,null,{"$f":"IF(E691 = \"\", \"All_Industry\", SUBSTITUTE(SUBSTITUTE(E691 & \"_\" & E692, \"・\", \"_\"), \" \", \"_\"))","v":"All_Industry"},"Please select from dropbox or free input using keyboard\nドロップボックスから選択する、またはキーボードで入力してください"]
[{"$nulls":3},"日本語",{"$f":"IF(ISERROR(VLOOKUP(E691,work!AH:AJ,2,FALSE)),\"\", VLOOKUP(E691,work!AH:AJ,2,FALSE))","v":""},null,null,"Japanese will not be automatically entered in this field when free input. If you can write in Japanese, please enter in Japanese.／自由入力の場合、この欄は日本語が自動併記されません。日本語の記入ができる方は入力してください。"]
[null,null,"Purpose25（目的25）","English",null,null,{"$f":"IF(E693 = \"\", \"All_Industry\", SUBSTITUTE(SUBSTITUTE(E693 & \"_\" & E694, \"・\", \"_\"), \" \", \"_\"))","v":"All_Industry"},"Please select from dropbox or free input using keyboard\nドロップボックスから選択する、またはキーボードで入力してください"]
[{"$nulls":3},"日本語",{"$f":"IF(ISERROR(VLOOKUP(E693,work!AH:AJ,2,FALSE)),\"\", VLOOKUP(E693,work!AH:AJ,2,FALSE))","v":""},null,null,"Japanese will not be automatically entered in this field when free input. If you can write in Japanese, please enter in Japanese.／自由入力の場合、この欄は日本語が自動併記されません。日本語の記入ができる方は入力してください。"]
[null,null,"Purpose26（目的26）","English",null,null,{"$f":"IF(E695 = \"\", \"All_Industry\", SUBSTITUTE(SUBSTITUTE(E695 & \"_\" & E696, \"・\", \"_\"), \" \", \"_\"))","v":"All_Industry"},"Please select from dropbox or free input using keyboard\nドロップボックスから選択する、またはキーボードで入力してください"]
[{"$nulls":3},"日本語",{"$f":"IF(ISERROR(VLOOKUP(E695,work!AH:AJ,2,FALSE)),\"\", VLOOKUP(E695,work!AH:AJ,2,FALSE))","v":""},null,null,"Japanese will not be automatically entered in this field when free input. If you can write in Japanese, please enter in Japanese.／自由入力の場合、この欄は日本語が自動併記されません。日本語の記入ができる方は入力してください。"]
[null,null,"Purpose27（目的27）","English",null,null,{"$f":"IF(E697 = \"\", \"All_Industry\", SUBSTITUTE(SUBSTITUTE(E697 & \"_\" & E698, \"・\", \"_\"), \" \", \"_\"))","v":"All_Industry"},"Please select from dropbox or free input using keyboard\nドロップボックスから選択する、またはキーボードで入力してください"]
[{"$nulls":3},"日本語",{"$f":"IF(ISERROR(VLOOKUP(E697,work!AH:AJ,2,FALSE)),\"\", VLOOKUP(E697,work!AH:AJ,2,FALSE))","v":""},null,null,"Japanese will not be automatically entered in this field when free input. If you can write in Japanese, please enter in Japanese.／自由入力の場合、この欄は日本語が自動併記されません。日本語の記入ができる方は入力してください。"]
[null,null,"Purpose28（目的28）","English",null,null,{"$f":"IF(E699 = \"\", \"All_Industry\", SUBSTITUTE(SUBSTITUTE(E699 & \"_\" & E700, \"・\", \"_\"), \" \", \"_\"))","v":"All_Industry"},"Please select from dropbox or free input using keyboard\nドロップボックスから選択する、またはキーボードで入力してください"]
[{"$nulls":3},"日本語",{"$f":"IF(ISERROR(VLOOKUP(E699,work!AH:AJ,2,FALSE)),\"\", VLOOKUP(E699,work!AH:AJ,2,FALSE))","v":""},null,null,"Japanese will not be automatically entered in this field when free input. If you can write in Japanese, please enter in Japanese.／自由入力の場合、この欄は日本語が自動併記されません。日本語の記入ができる方は入力してください。"]
[null,null,"Purpose29（目的29）","English",null,null,{"$f":"IF(E701 = \"\", \"All_Industry\", SUBSTITUTE(SUBSTITUTE(E701 & \"_\" & E702, \"・\", \"_\"), \" \", \"_\"))","v":"All_Industry"},"Please select from dropbox or free input using keyboard\nドロップボックスから選択する、またはキーボードで入力してください"]
[{"$nulls":3},"日本語",{"$f":"IF(ISERROR(VLOOKUP(E701,work!AH:AJ,2,FALSE)),\"\", VLOOKUP(E701,work!AH:AJ,2,FALSE))","v":""},null,null,"Japanese will not be automatically entered in this field when free input. If you can write in Japanese, please enter in Japanese.／自由入力の場合、この欄は日本語が自動併記されません。日本語の記入ができる方は入力してください。"]
[null,null,"Purpose30（目的30）","English",null,null,{"$f":"IF(E703 = \"\", \"All_Industry\", SUBSTITUTE(SUBSTITUTE(E703 & \"_\" & E704, \"・\", \"_\"), \" \", \"_\"))","v":"All_Industry"},"Please select from dropbox or free input using keyboard\nドロップボックスから選択する、またはキーボードで入力してください"]
[{"$nulls":3},"日本語",{"$f":"IF(ISERROR(VLOOKUP(E703,work!AH:AJ,2,FALSE)),\"\", VLOOKUP(E703,work!AH:AJ,2,FALSE))","v":""},null,null,"Japanese will not be automatically entered in this field when free input. If you can write in Japanese, please enter in Japanese.／自由入力の場合、この欄は日本語が自動併記されません。日本語の記入ができる方は入力してください。"]
[null,null,"Purpose31（目的31）","English",null,null,{"$f":"IF(E705 = \"\", \"All_Industry\", SUBSTITUTE(SUBSTITUTE(E705 & \"_\" & E706, \"・\", \"_\"), \" \", \"_\"))","v":"All_Industry"},"Please select from dropbox or free input using keyboard\nドロップボックスから選択する、またはキーボードで入力してください"]
[{"$nulls":3},"日本語",{"$f":"IF(ISERROR(VLOOKUP(E705,work!AH:AJ,2,FALSE)),\"\", VLOOKUP(E705,work!AH:AJ,2,FALSE))","v":""},null,null,"Japanese will not be automatically entered in this field when free input. If you can write in Japanese, please enter in Japanese.／自由入力の場合、この欄は日本語が自動併記されません。日本語の記入ができる方は入力してください。"]
[null,null,"Purpose32（目的32）","English",null,null,{"$f":"IF(E707 = \"\", \"All_Industry\", SUBSTITUTE(SUBSTITUTE(E707 & \"_\" & E708, \"・\", \"_\"), \" \", \"_\"))","v":"All_Industry"},"Please select from dropbox or free input using keyboard\nドロップボックスから選択する、またはキーボードで入力してください"]
[{"$nulls":3},"日本語",{"$f":"IF(ISERROR(VLOOKUP(E707,work!AH:AJ,2,FALSE)),\"\", VLOOKUP(E707,work!AH:AJ,2,FALSE))","v":""},null,null,"Japanese will not be automatically entered in this field when free input. If you can write in Japanese, please enter in Japanese.／自由入力の場合、この欄は日本語が自動併記されません。日本語の記入ができる方は入力してください。"]
[null,null,"Purpose33（目的33）","English",null,null,{"$f":"IF(E709 = \"\", \"All_Industry\", SUBSTITUTE(SUBSTITUTE(E709 & \"_\" & E710, \"・\", \"_\"), \" \", \"_\"))","v":"All_Industry"},"Please select from dropbox or free input using keyboard\nドロップボックスから選択する、またはキーボードで入力してください"]
[{"$nulls":3},"日本語",{"$f":"IF(ISERROR(VLOOKUP(E709,work!AH:AJ,2,FALSE)),\"\", VLOOKUP(E709,work!AH:AJ,2,FALSE))","v":""},null,null,"Japanese will not be automatically entered in this field when free input. If you can write in Japanese, please enter in Japanese.／自由入力の場合、この欄は日本語が自動併記されません。日本語の記入ができる方は入力してください。"]
[null,null,"Purpose34（目的34）","English",null,null,{"$f":"IF(E711 = \"\", \"All_Industry\", SUBSTITUTE(SUBSTITUTE(E711 & \"_\" & E712, \"・\", \"_\"), \" \", \"_\"))","v":"All_Industry"},"Please select from dropbox or free input using keyboard\nドロップボックスから選択する、またはキーボードで入力してください"]
[{"$nulls":3},"日本語",{"$f":"IF(ISERROR(VLOOKUP(E711,work!AH:AJ,2,FALSE)),\"\", VLOOKUP(E711,work!AH:AJ,2,FALSE))","v":""},null,null,"Japanese will not be automatically entered in this field when free input. If you can write in Japanese, please enter in Japanese.／自由入力の場合、この欄は日本語が自動併記されません。日本語の記入ができる方は入力してください。"]
[null,null,"Purpose35（目的35）","English",null,null,{"$f":"IF(E713 = \"\", \"All_Industry\", SUBSTITUTE(SUBSTITUTE(E713 & \"_\" & E714, \"・\", \"_\"), \" \", \"_\"))","v":"All_Industry"},"Please select from dropbox or free input using keyboard\nドロップボックスから選択する、またはキーボードで入力してください"]
[{"$nulls":3},"日本語",{"$f":"IF(ISERROR(VLOOKUP(E713,work!AH:AJ,2,FALSE)),\"\", VLOOKUP(E713,work!AH:AJ,2,FALSE))","v":""},null,null,"Japanese will not be automatically entered in this field when free input. If you can write in Japanese, please enter in Japanese.／自由入力の場合、この欄は日本語が自動併記されません。日本語の記入ができる方は入力してください。"]
[null,null,"Purpose36（目的36）","English",null,null,{"$f":"IF(E715 = \"\", \"All_Industry\", SUBSTITUTE(SUBSTITUTE(E715 & \"_\" & E716, \"・\", \"_\"), \" \", \"_\"))","v":"All_Industry"},"Please select from dropbox or free input using keyboard\nドロップボックスから選択する、またはキーボードで入力してください"]
[{"$nulls":3},"日本語",{"$f":"IF(ISERROR(VLOOKUP(E715,work!AH:AJ,2,FALSE)),\"\", VLOOKUP(E715,work!AH:AJ,2,FALSE))","v":""},null,null,"Japanese will not be automatically entered in this field when free input. If you can write in Japanese, please enter in Japanese.／自由入力の場合、この欄は日本語が自動併記されません。日本語の記入ができる方は入力してください。"]
[null,null,"Purpose37（目的37）","English",null,null,{"$f":"IF(E717 = \"\", \"All_Industry\", SUBSTITUTE(SUBSTITUTE(E717 & \"_\" & E718, \"・\", \"_\"), \" \", \"_\"))","v":"All_Industry"},"Please select from dropbox or free input using keyboard\nドロップボックスから選択する、またはキーボードで入力してください"]
[{"$nulls":3},"日本語",{"$f":"IF(ISERROR(VLOOKUP(E717,work!AH:AJ,2,FALSE)),\"\", VLOOKUP(E717,work!AH:AJ,2,FALSE))","v":""},null,null,"Japanese will not be automatically entered in this field when free input. If you can write in Japanese, please enter in Japanese.／自由入力の場合、この欄は日本語が自動併記されません。日本語の記入ができる方は入力してください。"]
[null,null,"Purpose38（目的38）","English",null,null,{"$f":"IF(E719 = \"\", \"All_Industry\", SUBSTITUTE(SUBSTITUTE(E719 & \"_\" & E720, \"・\", \"_\"), \" \", \"_\"))","v":"All_Industry"},"Please select from dropbox or free input using keyboard\nドロップボックスから選択する、またはキーボードで入力してください"]
[{"$nulls":3},"日本語",{"$f":"IF(ISERROR(VLOOKUP(E719,work!AH:AJ,2,FALSE)),\"\", VLOOKUP(E719,work!AH:AJ,2,FALSE))","v":""},null,null,"Japanese will not be automatically entered in this field when free input. If you can write in Japanese, please enter in Japanese.／自由入力の場合、この欄は日本語が自動併記されません。日本語の記入ができる方は入力してください。"]
[null,null,"Purpose39（目的39）","English",null,null,{"$f":"IF(E721 = \"\", \"All_Industry\", SUBSTITUTE(SUBSTITUTE(E721 & \"_\" & E722, \"・\", \"_\"), \" \", \"_\"))","v":"All_Industry"},"Please select from dropbox or free input using keyboard\nドロップボックスから選択する、またはキーボードで入力してください"]
[{"$nulls":3},"日本語",{"$f":"IF(ISERROR(VLOOKUP(E721,work!AH:AJ,2,FALSE)),\"\", VLOOKUP(E721,work!AH:AJ,2,FALSE))","v":""},null,null,"Japanese will not be automatically entered in this field when free input. If you can write in Japanese, please enter in Japanese.／自由入力の場合、この欄は日本語が自動併記されません。日本語の記入ができる方は入力してください。"]
[null,null,"Purpose40（目的40）","English",null,null,{"$f":"IF(E723 = \"\", \"All_Industry\", SUBSTITUTE(SUBSTITUTE(E723 & \"_\" & E724, \"・\", \"_\"), \" \", \"_\"))","v":"All_Industry"},"Please select from dropbox or free input using keyboard\nドロップボックスから選択する、またはキーボードで入力してください"]
[{"$nulls":3},"日本語",{"$f":"IF(ISERROR(VLOOKUP(E723,work!AH:AJ,2,FALSE)),\"\", VLOOKUP(E723,work!AH:AJ,2,FALSE))","v":""},null,null,"Japanese will not be automatically entered in this field when free input. If you can write in Japanese, please enter in Japanese.／自由入力の場合、この欄は日本語が自動併記されません。日本語の記入ができる方は入力してください。"]
[null,null,"Purpose41（目的41）","English",null,null,{"$f":"IF(E725 = \"\", \"All_Industry\", SUBSTITUTE(SUBSTITUTE(E725 & \"_\" & E726, \"・\", \"_\"), \" \", \"_\"))","v":"All_Industry"},"Please select from dropbox or free input using keyboard\nドロップボックスから選択する、またはキーボードで入力してください"]
[{"$nulls":3},"日本語",{"$f":"IF(ISERROR(VLOOKUP(E725,work!AH:AJ,2,FALSE)),\"\", VLOOKUP(E725,work!AH:AJ,2,FALSE))","v":""},null,null,"Japanese will not be automatically entered in this field when free input. If you can write in Japanese, please enter in Japanese.／自由入力の場合、この欄は日本語が自動併記されません。日本語の記入ができる方は入力してください。"]
[null,null,"Purpose42（目的42）","English",null,null,{"$f":"IF(E727 = \"\", \"All_Industry\", SUBSTITUTE(SUBSTITUTE(E727 & \"_\" & E728, \"・\", \"_\"), \" \", \"_\"))","v":"All_Industry"},"Please select from dropbox or free input using keyboard\nドロップボックスから選択する、またはキーボードで入力してください"]
[{"$nulls":3},"日本語",{"$f":"IF(ISERROR(VLOOKUP(E727,work!AH:AJ,2,FALSE)),\"\", VLOOKUP(E727,work!AH:AJ,2,FALSE))","v":""},null,null,"Japanese will not be automatically entered in this field when free input. If you can write in Japanese, please enter in Japanese.／自由入力の場合、この欄は日本語が自動併記されません。日本語の記入ができる方は入力してください。"]
[null,null,"Purpose43（目的43）","English",null,null,{"$f":"IF(E729 = \"\", \"All_Industry\", SUBSTITUTE(SUBSTITUTE(E729 & \"_\" & E730, \"・\", \"_\"), \" \", \"_\"))","v":"All_Industry"},"Please select from dropbox or free input using keyboard\nドロップボックスから選択する、またはキーボードで入力してください"]
[{"$nulls":3},"日本語",{"$f":"IF(ISERROR(VLOOKUP(E729,work!AH:AJ,2,FALSE)),\"\", VLOOKUP(E729,work!AH:AJ,2,FALSE))","v":""},null,null,"Japanese will not be automatically entered in this field when free input. If you can write in Japanese, please enter in Japanese.／自由入力の場合、この欄は日本語が自動併記されません。日本語の記入ができる方は入力してください。"]
[null,null,"Purpose44（目的44）","English",null,null,{"$f":"IF(E731 = \"\", \"All_Industry\", SUBSTITUTE(SUBSTITUTE(E731 & \"_\" & E732, \"・\", \"_\"), \" \", \"_\"))","v":"All_Industry"},"Please select from dropbox or free input using keyboard\nドロップボックスから選択する、またはキーボードで入力してください"]
[{"$nulls":3},"日本語",{"$f":"IF(ISERROR(VLOOKUP(E731,work!AH:AJ,2,FALSE)),\"\", VLOOKUP(E731,work!AH:AJ,2,FALSE))","v":""},null,null,"Japanese will not be automatically entered in this field when free input. If you can write in Japanese, please enter in Japanese.／自由入力の場合、この欄は日本語が自動併記されません。日本語の記入ができる方は入力してください。"]
[null,null,"Purpose45（目的45）","English",null,null,{"$f":"IF(E733 = \"\", \"All_Industry\", SUBSTITUTE(SUBSTITUTE(E733 & \"_\" & E734, \"・\", \"_\"), \" \", \"_\"))","v":"All_Industry"},"Please select from dropbox or free input using keyboard\nドロップボックスから選択する、またはキーボードで入力してください"]
[{"$nulls":3},"日本語",{"$f":"IF(ISERROR(VLOOKUP(E733,work!AH:AJ,2,FALSE)),\"\", VLOOKUP(E733,work!AH:AJ,2,FALSE))","v":""},null,null,"Japanese will not be automatically entered in this field when free input. If you can write in Japanese, please enter in Japanese.／自由入力の場合、この欄は日本語が自動併記されません。日本語の記入ができる方は入力してください。"]
[null,null,"Purpose46（目的46）","English",null,null,{"$f":"IF(E735 = \"\", \"All_Industry\", SUBSTITUTE(SUBSTITUTE(E735 & \"_\" & E736, \"・\", \"_\"), \" \", \"_\"))","v":"All_Industry"},"Please select from dropbox or free input using keyboard\nドロップボックスから選択する、またはキーボードで入力してください"]
[{"$nulls":3},"日本語",{"$f":"IF(ISERROR(VLOOKUP(E735,work!AH:AJ,2,FALSE)),\"\", VLOOKUP(E735,work!AH:AJ,2,FALSE))","v":""},null,null,"Japanese will not be automatically entered in this field when free input. If you can write in Japanese, please enter in Japanese.／自由入力の場合、この欄は日本語が自動併記されません。日本語の記入ができる方は入力してください。"]
[null,null,"Purpose47（目的47）","English",null,null,{"$f":"IF(E737 = \"\", \"All_Industry\", SUBSTITUTE(SUBSTITUTE(E737 & \"_\" & E738, \"・\", \"_\"), \" \", \"_\"))","v":"All_Industry"},"Please select from dropbox or free input using keyboard\nドロップボックスから選択する、またはキーボードで入力してください"]
[{"$nulls":3},"日本語",{"$f":"IF(ISERROR(VLOOKUP(E737,work!AH:AJ,2,FALSE)),\"\", VLOOKUP(E737,work!AH:AJ,2,FALSE))","v":""},null,null,"Japanese will not be automatically entered in this field when free input. If you can write in Japanese, please enter in Japanese.／自由入力の場合、この欄は日本語が自動併記されません。日本語の記入ができる方は入力してください。"]
[null,null,"Purpose48（目的48）","English",null,null,{"$f":"IF(E739 = \"\", \"All_Industry\", SUBSTITUTE(SUBSTITUTE(E739 & \"_\" & E740, \"・\", \"_\"), \" \", \"_\"))","v":"All_Industry"},"Please select from dropbox or free input using keyboard\nドロップボックスから選択する、またはキーボードで入力してください"]
[{"$nulls":3},"日本語",{"$f":"IF(ISERROR(VLOOKUP(E739,work!AH:AJ,2,FALSE)),\"\", VLOOKUP(E739,work!AH:AJ,2,FALSE))","v":""},null,null,"Japanese will not be automatically entered in this field when free input. If you can write in Japanese, please enter in Japanese.／自由入力の場合、この欄は日本語が自動併記されません。日本語の記入ができる方は入力してください。"]
[null,null,"Purpose49（目的49）","English",null,null,{"$f":"IF(E741 = \"\", \"All_Industry\", SUBSTITUTE(SUBSTITUTE(E741 & \"_\" & E742, \"・\", \"_\"), \" \", \"_\"))","v":"All_Industry"},"Please select from dropbox or free input using keyboard\nドロップボックスから選択する、またはキーボードで入力してください"]
[{"$nulls":3},"日本語",{"$f":"IF(ISERROR(VLOOKUP(E741,work!AH:AJ,2,FALSE)),\"\", VLOOKUP(E741,work!AH:AJ,2,FALSE))","v":""},null,null,"Japanese will not be automatically entered in this field when free input. If you can write in Japanese, please enter in Japanese.／自由入力の場合、この欄は日本語が自動併記されません。日本語の記入ができる方は入力してください。"]
[null,null,"Purpose50（目的50）","English",null,null,{"$f":"IF(E743 = \"\", \"All_Industry\", SUBSTITUTE(SUBSTITUTE(E743 & \"_\" & E744, \"・\", \"_\"), \" \", \"_\"))","v":"All_Industry"},"Please select from dropbox or free input using keyboard\nドロップボックスから選択する、またはキーボードで入力してください"]
[{"$nulls":3},"日本語",{"$f":"IF(ISERROR(VLOOKUP(E743,work!AH:AJ,2,FALSE)),\"\", VLOOKUP(E743,work!AH:AJ,2,FALSE))","v":""},null,null,"Japanese will not be automatically entered in this field when free input. If you can write in Japanese, please enter in Japanese.／自由入力の場合、この欄は日本語が自動併記されません。日本語の記入ができる方は入力してください。"]
[]
[null,"２　Information required for the articles of incorporation / 定款に必要な情報\n　２－①　Information required for the Articles of Incorporation / 定款に必要な情報"]
[null,null,"Contents / 項目",null,"Value / 値",null,null,"Remarks column / 備考欄"]
[null,null,"Year of creation of articles of incorporation (定款の作成年)",null,2024,null,null,"Please enter the year of  Creation of articles of incorporation in numbers.\n定款の作成年を数字で入力してください。"]
[null,null,"Month of creation of articles of incorporation (定款の作成月)",null,1,null,null,"Please enter the month of Creation of articles of incorporation in numbers.\n定款の作成月を数字で入力してください。"]
[null,null,"Date of creation of articles of incorporation (定款の作成日)",null,31,null,null,"Please enter the day of Creation of articles of incorporation in numbers.\n定款の作成日を数字で入力してください。"]
[null,null,"Starting month of business year \n (事業年度の開始月)",null,4,null,null,"Please enter the starting month of business year  in numbers.\n事業年度の開始月を数字で入力してください。"]
[null,null,"Ending month (following year) of business year\n (事業年度の終了月(翌年))",null,{"$f":"IF(E751=1,12,E751-1)","v":3},null,null,"Automatic calculation by Starting month of business year.\n事業年度の開始月により自動計算"]
[]
[null,"３　Information required for registration application / 登記申請に必要な情報\n　３－①　Information required for Application for Registration / 登記申請書に必要な情報"]
[null,null,"Contents / 項目",null,"Value / 値",null,null,"Remarks column / 備考欄"]
[null,null,"Completion of the procedure date year \n (発起設立の手続終了年)",null,2024]
[null,null,"Completion of the procedure date month\n (発起設立の手続終了月)",null,7,null,null,"Can be changed between 1 and 12\n1～12の間で変更可能"]
[null,null,"Completion of the procedure date day\n (発起設立の手続終了日)",null,30,null,null,"Can be changed between 1 and 31\n1～31の間で変更可能"]
[null,null,"Registration and License Tax(登録免許税)",null,{"$f":"MAX(60000,E640*7/1000)","v":{"v":60000,"d":"¥60,000"}},null,null,"Automatic calculation by The Amount of Stated Capital \n資本金の額により自動計算されます"]
[null,null,"Year of application for registration (登記申請の年)",null,2024,null,null,"Please enter the year of application for registration in numbers.\n登記申請の年を数字で入力してください。"]
[null,null,"Month of application for registration (登記申請の月)",null,8,null,null,"Please enter the month of application for registration in numbers.\n登記申請の月を数字で入力してください。"]
[null,null,"Date of application for registration (登記申請の日)",null,10,null,null,"Please enter the day of application for registration in numbers.\n登記申請の日を数字で入力してください。"]
[null,null,"Phone Number for Contact （連絡先の電話番号）",null,"090-4823-7894",null,null,"Example 090-4823-7894.\n例 090-4823-7894。"]
[null,null,"E-mail address for Contact（連絡先の電子メールアドレス）",null,"test01@hotmail.com",null,null,"Example test01@hotmail.com.\n例 test01@hotmail.com。"]
[null,null,"Legal Affairs Bureau（登記所）",null,{"$f":"VLOOKUP(work!G5,work!AA:AB,2,FALSE)","v":"Tokyo Legal Affairs Bureau Jonan Branch Office"},null,null,"Automatically displayed depending on the Address of Head Office\n本店の所在地に応じて自動表示されます"]
[]
[null,"Information required for the Report of the person to be substantial controller / 実質的支配者の申告書に必要な情報"]
[null,null,"Contents / 項目",null,"Value / 値",null,null,"Remarks column / 備考欄"]
[null,null,"Name of Notary Public Office（公証人役場)",null,"蒲田公証役場 / Kamata Notary Public Office"]
[null,null,"Declaration date year (申告年)",null,2024]
[null,null,"Declaration date month (申告月)",null,3,null,null,"Can be changed between 1 and 12\n1～12の間で変更可能"]
[null,null,"Declaration date day  (申告日)",null,18,null,null,"Can be changed between 1 and 31\n1～31の間で変更可能"]
[]
[null,"　３－②　Information required for the Receipt for the capital contribution / 出資金領収書に必要な情報"]
[null,null,"Contents / 項目",null,"Value / 値",null,null,"Remarks column / 備考欄"]
[null,null,"Year of delegation (委任確認の年)",null,2024,null,null,"Please enter the year of  Delegation in numbers.\n委任確認の年を数字で入力してください。"]
[null,null,"Month of delegation (委任確認の月)",null,4,null,null,"Please enter the month of Delegation in numbers.\n委任確認の月を数字で入力してください。"]
[null,null,"Date of delegation (委任確認の日)",null,25,null,null,"Please enter the day of Delegation in numbers.\n委任確認の日を数字で入力してください。"]
[]
[null,"　３－③　Information required for the Certificate  / 払込みを証する書面に必要な情報"]
[null,null,"Contents / 項目",null,"Value / 値",null,null,"Remarks column / 備考欄"]
[null,null,"Year of certificate creation（証明書作成の年）",null,2024,null,null,"Please enter the year of certificate creation in numbers.\n証明書作成の年を数字で入力してください。"]
[null,null,"Month of certificate creation（証明書作成の月）",null,8,null,null,"Please enter the month of certificate creation in numbers.\n証明書作成の月を数字で入力してください。"]
[null,null,"Date of certificate creation（証明書作成の日）",null,5,null,null,"Please enter the date of certificate creation in numbers.\n証明書作成の日を数字で入力してください。"]
[]
[]
[null,"４　Print / 印刷"]
[null,null,"After completing the above input, Please select each sheet below, confirm, and print on A4 paper."]
[null,null,"上記入力完了後、以下の各シートを選択・確認の上、A4用紙に印刷してください。"]
[null,null,"・Articles of Incorporation定款"]
[null,null,"・Application for Registration申請書"]
[null,null,"・Certificate払込みを証する書面"]
[null,null,"・Seal (Revision Mark) Form印鑑届書"]
[null,null,"・Seal Card Application form印鑑カード"]

{"sheet":"work","index":1,"n_rows":5751,"n_cols":46,"rows_kept":5751,"merged":[[0,0,0,1],[0,3,1,3],[0,8,1,9],[0,10,0,11],[0,12,0,19],[0,20,1,20],[0,21,1,21],[0,22,1,23],[0,24,1,25],[0,30,0,31]]}
["目的",null,null,"住所情報",{"$nulls":4},"郵便番号",null,"公告をする方法",null,"公証役場名",{"$nulls":7},"国籍（英）","性別（英）","実質的支配者該当性の根拠資料（英）",null,"暴力団員等該当性（英）",null,"登記所（本ツールによる申請を受理できる登記所は、国家戦略特区（東京都、大阪市、福岡市、札幌市）に限定）",{"$nulls":3},"月",null,null,"業種",null,"業種別の目的"]
["英語","日本語",{"$nulls":8},"英語","日本語","英語",{"$nulls":4},"日本語","郵便番号","住所",{"$nulls":6},"管轄区域","英語","日本語",null,"数字","英語",null,"Industry / 業種",null,"Finance・Insurance industry / 金融・保険業","Various goods sales industry / 各種物品販売業","Food and Drink / 飲食料品","Transportation・Warehousing / 運輸・倉庫","Medical care / 医療","Management・Consultancy・Information / 経営・コンサルタント・情報","Agriculture / 農業","Real estate / 不動産","Construction / 建設","Entertainment・Travel・Sports \n/ 娯楽・旅行・スポーツ","Others /その他"]
[{"$nulls":3},"本店住所",{"$nulls":4},{"v":1,"d":"001"},"0000",null,null,{"$f":" R3 & \" / \" & N3 & \" Notary Public Office\"","v":{"$error":"#VALUE!"}},{"$f":"PROPER(O3)","v":{"$error":"#VALUE!"}},{"$f":"_xlfn.WEBSERVICE(\"https://api.excelapi.org/language/hira2roman?input=\"&_xlfn.ENCODEURL(P3))","v":{"$error":"#VALUE!"}},{"$f":"_xlfn.WEBSERVICE(\"https://api.excelapi.org/language/kanji2kana?text=\" & _xlfn.ENCODEURL(Q3))","v":{"$error":"#VALUE!"}},"王子","王子公証役場","114-0002","北区王子1-14-1　山本屋ビル3階","日本/Japan","男/Male","定款/Articles of incorporation","定款","該当/Yes","該当","千代田区","Tokyo Legal Affairs Bureau","東京法務局",null,1,"January","↓目的ドロップボックスVBA用","Finance・Insurance industry","金融・保険業"]
["Business concerning finance","金融に関する事業",null,"都道府県","市区町村","町域",null,null,{"v":2,"d":"002"},"0001","publication on the Official Gazette","官報",{"$f":" R4 & \" / \" & N4 & \" Notary Public Office\"","v":{"$error":"#VALUE!"}},{"$f":"PROPER(O4)","v":{"$error":"#VALUE!"}},{"$f":"_xlfn.WEBSERVICE(\"https://api.excelapi.org/language/hira2roman?input=\"&_xlfn.ENCODEURL(P4))","v":{"$error":"#VALUE!"}},{"$f":"_xlfn.WEBSERVICE(\"https://api.excelapi.org/language/kanji2kana?text=\" & _xlfn.ENCODEURL(Q4))","v":{"$error":"#VALUE!"}},"霞ヶ関","霞ヶ関公証役場","100-0011","千代田区内幸町2-2-2　富国生命ビル地下１階","その他/Other","女/Female","定款以外の資料/Materials other than articles of incorporation","定款以外の資料","非該当/No","非該当","中央区","Tokyo Legal Affairs Bureau","東京法務局",null,2,"February",null,"Various goods sales industry","各種物品販売業","Business concerning finance","Import of daily necessities, sports equipment, etc.","Manufacture of various kinds of food products","Cargo transportation by automobiles","Provision of various services relating to the medical field","Consulting business in relation to management  of assets","Production of agricultural products including fruits, vegetables, and grains, etc.","Acquisition of real estate","Building planning","Management of hotels","Business related to ocean resources development"]
["Type Ⅰ Financial Instruments Business","第一種金融商品取引業",null,{"$f":"_xlfn.WEBSERVICE(\"https://api.excelapi.org/post/address?zipcode=\"&入力情報!$G$631&\"&parts=1\")","v":"東京都"},{"$f":"_xlfn.WEBSERVICE(\"https://api.excelapi.org/post/address?zipcode=\"&入力情報!$G$631&\"&parts=2\")","v":"大田区"},{"$f":"_xlfn.WEBSERVICE(\"https://api.excelapi.org/post/address?zipcode=\"&入力情報!$G$631&\"&parts=3\")","v":"中央"},{"$f":"IF(IFERROR(SEARCH(\"市\",E5,3),0) > 1, LEFT(E5, SEARCH(\"市\",E5,3)), E5)","v":"大田区"},null,{"v":3,"d":"003"},"0002","electronic public notice","電子公告",{"$error":"#VALUE!"},{"$error":"#VALUE!"},{"$error":"#VALUE!"},{"$error":"#VALUE!"},"葛飾","葛飾公証役場","125-0062","葛飾区青戸6-1-1　朝日生命葛飾ビル2階",null,null,"なし/None","なし",null,null,"文京区","Tokyo Legal Affairs Bureau","東京法務局",null,3,"March",null,"Food and Drink","飲食料品","Type Ⅰ Financial Instruments Business","Export of daily necessities, sports equipment, etc.","Marketing of various kinds of food products","Warehousing business","All businesses incidental to the preceding items.","Consulting business in relation to administration of assets","Processing of agricultural products including fruits, vegetables, and grains, etc.","Development of real estate","Building design","Management of restaurants","Business related to offshore facilities installation and operations"]
["Type Ⅱ Financial Instruments Business","第二種金融商品取引業",null,{"$f":"PROPER(_xlfn.WEBSERVICE(\"https://api.excelapi.org/language/hira2roman?input=\"&_xlfn.ENCODEURL($D7)))","v":"Tokyoto"},{"$f":"PROPER(_xlfn.WEBSERVICE(\"https://api.excelapi.org/language/hira2roman?input=\"&_xlfn.ENCODEURL($E7)))","v":"Otaku"},{"$f":"IF(F7=\"\",\"\",PROPER(_xlfn.WEBSERVICE(\"https://api.excelapi.org/language/hira2roman?input=\"&_xlfn.ENCODEURL($F7))))","v":"Chuo"},"↑登記所用",null,{"v":4,"d":"004"},"0003","publication in The Yomiuri Shimbun","読売新聞",{"$error":"#VALUE!"},{"$error":"#VALUE!"},{"$error":"#VALUE!"},{"$error":"#VALUE!"},"蒲田","蒲田公証役場","144-0051","大田区西蒲田7-5-13　森ビル2階",{"$nulls":6},"大島町","Tokyo Legal Affairs Bureau","東京法務局",null,4,"April",null,"Transportation・Warehousing","運輸・倉庫","Type Ⅱ Financial Instruments Business","Sales of daily necessities, sports equipment, etc.","All businesses incidental to the preceding items.","Consigned freight forwarding Business ",null,"Consulting business in relation to corporate management","Sale of agricultural products including fruits, vegetables, and grains, etc.","Holding of real estate","Building management","Owning, managing, operating and leasing tourist facilities","All businesses incidental to the preceding items."]
["Business allowed under the Financial Instruments and Exchange Act","金融商品取引法により金融商品取引業者が営むことができる業務",null,{"$f":"_xlfn.WEBSERVICE(\"https://api.excelapi.org/post/kana?zipcode=\"&入力情報!$G$631&\"&parts=1\")","v":"トウキョウト"},{"$f":"_xlfn.WEBSERVICE(\"https://api.excelapi.org/post/kana?zipcode=\"&入力情報!$G$631&\"&parts=2\")","v":"オオタク"},{"$f":"_xlfn.WEBSERVICE(\"https://api.excelapi.org/post/kana?zipcode=\"&入力情報!$G$631&\"&parts=3\")","v":"チュウオウ"},null,null,{"v":5,"d":"005"},"0004","publication in The Mainichi Shimbun","毎日新聞",{"$error":"#VALUE!"},{"$error":"#VALUE!"},{"$error":"#VALUE!"},{"$error":"#VALUE!"},"丸の内","丸の内公証役場","100-0005","千代田区丸の内3-3-1　新東京ビル2階235区",{"$nulls":6},"利島村","Tokyo Legal Affairs Bureau","東京法務局",null,5,"May",null,"Medical care","医療","Business allowed under the Financial Instruments and Exchange Act","Manufacture and sale of various glass products",null,"Marine transportation",null,"Consulting business in relation to finance","All businesses incidental to the preceding items.","Disposition of real estate","Building construction","Owning, managing, operating and leasing leisure facilities"]
["Investment advisory and Agency business under the Financial Instruments and Exchange Act.","金融商品取引法に基づく投資助言・代理業",{"$nulls":6},{"v":6,"d":"006"},"0005","publication in The Asahi Shimbun","朝日新聞",{"$error":"#VALUE!"},{"$error":"#VALUE!"},{"$error":"#VALUE!"},{"$error":"#VALUE!"},"京橋","京橋公証役場","104-0031","中央区京橋1-1-10　西勘本店ビル6階",{"$nulls":6},"新島村","Tokyo Legal Affairs Bureau","東京法務局",null,6,"June",null,"Management・Consultancy・Information","経営・コンサルタント・情報","Investment advisory and Agency business under the Financial Instruments and Exchange Act.","Manufacture and sale of various ceramic products",null,"All businesses incidental to the preceding items.",null,"Investment consulting services",null,"Leasing of real estate","Building repair","Lease, management and operation of marine leisure facilities"]
["Business concerning financial instruments","金融商品取引に関する事業",null,"代表社員住所",{"$nulls":4},{"v":7,"d":"007"},"0006","publication in Nihon Keizai Shimbun","日本経済新聞",{"$error":"#VALUE!"},{"$error":"#VALUE!"},{"$error":"#VALUE!"},{"$error":"#VALUE!"},"錦糸町","錦糸町公証役場","130-0022","墨田区江東橋3-9-7　国宝ビル5階",{"$nulls":6},"神津島村","Tokyo Legal Affairs Bureau","東京法務局",null,7,"July",null,"Agriculture","農業","Business concerning financial instruments","Manufacture of various chemicals and chemical products",{"$nulls":3},"Advice on the acquisition, holding and disposal of investment financial assets in Japan",null,"Management of real estate","Building maintenance","Lease, management and operation of sports facilities"]
["Investment advisory business","投資助言業",null,"都道府県","市区町村","町域",null,null,{"v":10,"d":"010"},"0007","publication in The Sankei Shimbun","産業経済新聞",{"$error":"#VALUE!"},{"$error":"#VALUE!"},{"$error":"#VALUE!"},{"$error":"#VALUE!"},"銀座","銀座公証役場","104-0061","中央区銀座4-4-1　銀座清水ビル5階",{"$nulls":6},"三宅村","Tokyo Legal Affairs Bureau","東京法務局",null,8,"August",null,"Real estate","不動産","Investment advisory business","Sale of various chemicals and chemical products",{"$nulls":3},"Management and financial advisory/consulting",null,"Brokerage of real estate","All businesses incidental to the preceding items.","Lease, management and operation of lodging facilities"]
["Investment agency business","投資代理業",null,{"$f":"_xlfn.WEBSERVICE(\"https://api.excelapi.org/post/address?zipcode=\"&入力情報!$G$16&\"&parts=1\")","v":"東京都"},{"$f":"_xlfn.WEBSERVICE(\"https://api.excelapi.org/post/address?zipcode=\"&入力情報!$G$16&\"&parts=2\")","v":"大田区"},{"$f":"_xlfn.WEBSERVICE(\"https://api.excelapi.org/post/address?zipcode=\"&入力情報!$G$16&\"&parts=3\")","v":"中央"},null,null,{"v":11,"d":"011"},"0008","publication in The Hokkaido Shimbun","北海道新聞",{"$error":"#VALUE!"},{"$error":"#VALUE!"},{"$error":"#VALUE!"},{"$error":"#VALUE!"},"五反田","五反田公証役場","141-0022","品川区東五反田5-27-6　第一五反田ビル3階",{"$nulls":6},"御蔵島村","Tokyo Legal Affairs Bureau","東京法務局",null,9,"September",null,"Construction","建設","Investment agency business","All businesses incidental to the preceding items.",{"$nulls":3},"Business of conducting market research",null,"Providing domestic and foreign real estate information",null,"All businesses incidental to the preceding items."]
["Investment management busines","投資運用業",null,{"$f":"PROPER(_xlfn.WEBSERVICE(\"https://api.excelapi.org/language/hira2roman?input=\"&_xlfn.ENCODEURL($D13)))","v":"Tokyoto"},{"$f":"PROPER(_xlfn.WEBSERVICE(\"https://api.excelapi.org/language/hira2roman?input=\"&_xlfn.ENCODEURL($E13)))","v":"Otaku"},{"$f":"IF(F13=\"\",\"\",PROPER(_xlfn.WEBSERVICE(\"https://api.excelapi.org/language/hira2roman?input=\"&_xlfn.ENCODEURL($F13))))","v":"Chuo"},null,null,{"v":12,"d":"012"},"0009","publication in The Tokyo Shimbun","東京新聞",{"$error":"#VALUE!"},{"$error":"#VALUE!"},{"$error":"#VALUE!"},{"$error":"#VALUE!"},"向島","向島公証役場","131-0032","墨田区東向島2-29-12　102号室",{"$nulls":6},"八丈町","Tokyo Legal Affairs Bureau","東京法務局",null,10,"October",null,"Entertainment・Travel・Sports","娯楽・旅行・スポーツ","Investment management busines",{"$nulls":4},"Provision of information relating to investments",null,"Sale of domestic and foreign real estate"]
["Management of investment partnership assets","投資事業組合財産の管理",null,{"$f":"_xlfn.WEBSERVICE(\"https://api.excelapi.org/post/kana?zipcode=\"&入力情報!$G$16&\"&parts=1\")","v":"トウキョウト"},{"$f":"_xlfn.WEBSERVICE(\"https://api.excelapi.org/post/kana?zipcode=\"&入力情報!$G$16&\"&parts=2\")","v":"オオタク"},{"$f":"_xlfn.WEBSERVICE(\"https://api.excelapi.org/post/kana?zipcode=\"&入力情報!$G$16&\"&parts=3\")","v":"チュウオウ"},null,null,{"v":13,"d":"013"},"0010","publication in The Nishinippon Shimbun","西日本新聞",{"$error":"#VALUE!"},{"$error":"#VALUE!"},{"$error":"#VALUE!"},{"$error":"#VALUE!"},"高田馬場","高田馬場公証役場","169-0075","新宿区高田馬場3-3-3　ＮＩＡビル5階",{"$nulls":6},"青ヶ島村","Tokyo Legal Affairs Bureau","東京法務局",null,11,"November",null,"Others","その他","Management of investment partnership assets",{"$nulls":4},"Partnership, integration and merger consulting",null,"Rental of domestic and foreign real estate"]
["Administration of investment partnership assets","投資事業組合財産の運用",{"$nulls":6},{"v":14,"d":"014"},"0011",null,null,{"$error":"#VALUE!"},{"$error":"#VALUE!"},{"$error":"#VALUE!"},{"$error":"#VALUE!"},"麹町","麹町公証役場","102-0083","千代田区麹町4-4-7　アトム麹町タワー６階",{"$nulls":6},"小笠原村","Tokyo Legal Affairs Bureau","東京法務局",null,12,"December",null,"(Free input)","(自由に記載する)","Administration of investment partnership assets",{"$nulls":4},"Consulting business in relation to real estate",null,"Brokerage of domestic and foreign real estate"]
["Agency or intermediation for the conclusion of investment advisory contracts or discretionary investment contracts","投資顧問契約又は投資一任契約の締結の代理又は媒介",null,"社員 1 住所",{"$nulls":4},{"v":15,"d":"015"},"0012",null,null,{"$error":"#VALUE!"},{"$error":"#VALUE!"},{"$error":"#VALUE!"},{"$error":"#VALUE!"},"芝","芝公証役場","105-0003","港区西新橋3-19-14　東京建硝ビル5階",{"$nulls":6},"板橋区","Tokyo Legal Affairs Bureau Itabashi Branch Office","東京法務局板橋出張所",{"$nulls":6},"Agency or intermediation for the conclusion of investment advisory contracts or discretionary investment contracts",{"$nulls":4},"General logistics consulting",null,"Management of domestic and foreign real estate"]
["Real estate investment management","不動産投資運用",null,"都道府県","市区町村","町域",null,null,{"v":16,"d":"016"},"0013",null,null,{"$error":"#VALUE!"},{"$error":"#VALUE!"},{"$error":"#VALUE!"},{"$error":"#VALUE!"},"渋谷","渋谷公証役場","150-0041","渋谷区神南1-21-1　日本生命渋谷ビル8階",{"$nulls":6},"江戸川区","Tokyo Legal Affairs Bureau Edogawa Branch Office","東京法務局江戸川出張所",{"$nulls":6},"Real estate investment management",{"$nulls":4},"Communication and correspondence with third parties, translation and other support services for affiliated companies",null,"Mediation of domestic and foreign real estate"]
["Fund formation","ファンドの組成",null,{"$f":"_xlfn.WEBSERVICE(\"https://api.excelapi.org/post/address?zipcode=\"&入力情報!$G$31&\"&parts=1\")","v":"東京都"},{"$f":"_xlfn.WEBSERVICE(\"https://api.excelapi.org/post/address?zipcode=\"&入力情報!$G$31&\"&parts=2\")","v":"大田区"},{"$f":"_xlfn.WEBSERVICE(\"https://api.excelapi.org/post/address?zipcode=\"&入力情報!$G$31&\"&parts=3\")","v":"中央"},null,null,{"v":17,"d":"017"},"0014",null,null,{"$error":"#VALUE!"},{"$error":"#VALUE!"},{"$error":"#VALUE!"},{"$error":"#VALUE!"},"小岩","小岩公証役場","133-0057","江戸川区西小岩3-31-14　トーエイ小岩ビル5階",{"$nulls":6},"北区","Tokyo Legal Affairs Bureau Kita Branch Office","東京法務局北出張所",{"$nulls":6},"Fund formation",{"$nulls":4},"All businesses incidental to the preceding items.",null,"All businesses incidental to the preceding items."]
["Investing in stocks and bonds, etc.","株式、債券等への投資に関する業務",null,{"$f":"PROPER(_xlfn.WEBSERVICE(\"https://api.excelapi.org/language/hira2roman?input=\"&_xlfn.ENCODEURL($D19)))","v":"Tokyoto"},{"$f":"PROPER(_xlfn.WEBSERVICE(\"https://api.excelapi.org/language/hira2roman?input=\"&_xlfn.ENCODEURL($E19)))","v":"Otaku"},{"$f":"IF(F19=\"\",\"\",PROPER(_xlfn.WEBSERVICE(\"https://api.excelapi.org/language/hira2roman?input=\"&_xlfn.ENCODEURL(F19))))","v":"Chuo"},null,null,{"v":19,"d":"019"},"0015",null,null,{"$error":"#VALUE!"},{"$error":"#VALUE!"},{"$error":"#VALUE!"},{"$error":"#VALUE!"},"昭和通り","昭和通り公証役場","104-0061","中央区銀座4-10-6　銀料ビル2階",{"$nulls":6},"荒川区","Tokyo Legal Affairs Bureau Kita Branch Office","東京法務局北出張所",{"$nulls":6},"Investing in stocks and bonds, etc."]
["To conduct market research, provide investment-related information","デリバティブ取引を含む為替運用業務",null,{"$f":"_xlfn.WEBSERVICE(\"https://api.excelapi.org/post/kana?zipcode=\"&入力情報!$G$31&\"&parts=1\")","v":"トウキョウト"},{"$f":"_xlfn.WEBSERVICE(\"https://api.excelapi.org/post/kana?zipcode=\"&入力情報!$G$31&\"&parts=2\")","v":"オオタク"},{"$f":"_xlfn.WEBSERVICE(\"https://api.excelapi.org/post/kana?zipcode=\"&入力情報!$G$31&\"&parts=3\")","v":"チュウオウ"},null,null,{"v":20,"d":"020"},"0016",null,null,{"$error":"#VALUE!"},{"$error":"#VALUE!"},{"$error":"#VALUE!"},{"$error":"#VALUE!"},"上野","上野公証役場","110-0015","台東区東上野1-7-2　冨田ビル4階",{"$nulls":6},"品川区","Tokyo Legal Affairs Bureau Shinagawa Branch Office","東京法務局品川出張所",{"$nulls":6},"To conduct market research, provide investment-related information"]
["Business related to prop-tech","プロップテックに関する業務",{"$nulls":6},{"v":21,"d":"021"},"0017",null,null,{"$error":"#VALUE!"},{"$error":"#VALUE!"},{"$error":"#VALUE!"},{"$error":"#VALUE!"},"新橋","新橋公証役場","105-0004","港区新橋1-18-1　航空会館6階",{"$nulls":6},"渋谷区","Tokyo Legal Affairs Bureau Shibuya Branch Office","東京法務局渋谷出張所",{"$nulls":6},"Business related to prop-tech"]
["Business related to fintech","フィンテックに関する業務",null,"設立時取締役 2住所",{"$nulls":4},{"v":22,"d":"022"},"0018",null,null,{"$error":"#VALUE!"},{"$error":"#VALUE!"},{"$error":"#VALUE!"},{"$error":"#VALUE!"},"新宿","新宿公証役場","160-0023","新宿区西新宿7-4-3　升本ビル5階",{"$nulls":6},"目黒区","Tokyo Legal Affairs Bureau Shibuya Branch Office","東京法務局渋谷出張所",{"$nulls":6},"Business related to fintech"]
["Acquisition of securities","有価証券の取得",null,"都道府県","市区町村","町域",null,null,{"v":23,"d":"023"},"0019",null,null,{"$error":"#VALUE!"},{"$error":"#VALUE!"},{"$error":"#VALUE!"},{"$error":"#VALUE!"},"新宿御苑前","新宿御苑前公証役場","160-0022","新宿区新宿2-9-23　SVAX新宿B館3階",{"$nulls":6},"大田区","Tokyo Legal Affairs Bureau Jonan Branch Office","東京法務局城南出張所",{"$nulls":6},"Acquisition of securities"]
["Holding of securities","有価証券の保有",null,{"$f":"_xlfn.WEBSERVICE(\"https://api.excelapi.org/post/address?zipcode=\"&入力情報!$G$43&\"&parts=1\")","v":{"$error":"#VALUE!"}},{"$f":"_xlfn.WEBSERVICE(\"https://api.excelapi.org/post/address?zipcode=\"&入力情報!$G$43&\"&parts=2\")","v":{"$error":"#VALUE!"}},{"$f":"_xlfn.WEBSERVICE(\"https://api.excelapi.org/post/address?zipcode=\"&入力情報!$G$43&\"&parts=3\")","v":{"$error":"#VALUE!"}},null,null,{"v":24,"d":"024"},"0020",null,null,{"$error":"#VALUE!"},{"$error":"#VALUE!"},{"$error":"#VALUE!"},{"$error":"#VALUE!"},"神田","神田公証役場","101-0044","千代田区鍛冶町1-9-4　ＫＹＹビル３階",{"$nulls":6},"足立区","Tokyo Legal Affairs Bureau Johoku Branch Office","東京法務局城北出張所",{"$nulls":6},"Holding of securities"]
["Trading of securities","有価証券の売買",null,{"$f":"PROPER(_xlfn.WEBSERVICE(\"https://api.excelapi.org/language/hira2roman?input=\"&_xlfn.ENCODEURL($D25)))","v":{"$error":"#VALUE!"}},{"$f":"PROPER(_xlfn.WEBSERVICE(\"https://api.excelapi.org/language/hira2roman?input=\"&_xlfn.ENCODEURL($E25)))","v":{"$error":"#VALUE!"}},{"$f":"IF(F25=\"\",\"\",PROPER(_xlfn.WEBSERVICE(\"https://api.excelapi.org/language/hira2roman?input=\"&_xlfn.ENCODEURL(F25))))","v":{"$error":"#VALUE!"}},null,null,{"v":25,"d":"025"},"0021",null,null,{"$error":"#VALUE!"},{"$error":"#VALUE!"},{"$error":"#VALUE!"},{"$error":"#VALUE!"},"杉並","杉並公証役場","167-0032","東京都杉並区天沼3-3-3　澁澤荻窪ビルディング4階",{"$nulls":6},"葛飾区","Tokyo Legal Affairs Bureau Johoku Branch Office","東京法務局城北出張所",{"$nulls":6},"Trading of securities"]
["Investment of securities","有価証券の投資及び運用",null,{"$f":"_xlfn.WEBSERVICE(\"https://api.excelapi.org/post/kana?zipcode=\"&入力情報!$G$43&\"&parts=1\")","v":{"$error":"#VALUE!"}},{"$f":"_xlfn.WEBSERVICE(\"https://api.excelapi.org/post/kana?zipcode=\"&入力情報!$G$43&\"&parts=2\")","v":{"$error":"#VALUE!"}},{"$f":"_xlfn.WEBSERVICE(\"https://api.excelapi.org/post/kana?zipcode=\"&入力情報!$G$43&\"&parts=3\")","v":{"$error":"#VALUE!"}},null,null,{"v":26,"d":"026"},"0022",null,null,{"$error":"#VALUE!"},{"$error":"#VALUE!"},{"$error":"#VALUE!"},{"$error":"#VALUE!"},"世田谷","世田谷公証役場","154-0024","世田谷区三軒茶屋2-15-8　ファッションビル4階",{"$nulls":6},"新宿区","Tokyo Legal Affairs Bureau Shinjuku Branch Office","東京法務局新宿出張所",{"$nulls":6},"Investment of securities"]
["Management of securities","有価証券の運用",{"$nulls":6},{"v":27,"d":"027"},"0023",null,null,{"$error":"#VALUE!"},{"$error":"#VALUE!"},{"$error":"#VALUE!"},{"$error":"#VALUE!"},"赤羽","赤羽公証役場","115-0044","北区赤羽南1-4-8　赤羽南商業ビル6階",{"$nulls":6},"杉並区","Tokyo Legal Affairs Bureau Suginami Branch Office","東京法務局杉並出張所",{"$nulls":6},"Management of securities"]
["To engage in the Investment Advisory and Agency Business","有価証券に関する投資顧問業務及び投資一任契約に関する業務",null,"設立時取締役 3住所",{"$nulls":4},{"v":28,"d":"028"},"0024",null,null,{"$error":"#VALUE!"},{"$error":"#VALUE!"},{"$error":"#VALUE!"},{"$error":"#VALUE!"},"赤坂","赤坂公証役場","107-0052","港区赤坂3-9-1　八洲貿易ビル3階",{"$nulls":6},"墨田区","Tokyo Legal Affairs Bureau Sumida Branch Office","東京法務局墨田出張所",{"$nulls":6},"To engage in the Investment Advisory and Agency Business"]
["Purchase of installment receivables","割賦債権買取業",null,"都道府県","市区町村","町域",null,null,{"v":29,"d":"029"},"0025",null,null,{"$error":"#VALUE!"},{"$error":"#VALUE!"},{"$error":"#VALUE!"},{"$error":"#VALUE!"},"千住","千住公証役場","120-0026","足立区千住旭町40-4　サンライズビル3階・4階",{"$nulls":6},"江東区","Tokyo Legal Affairs Bureau Sumida Branch Office","東京法務局墨田出張所",{"$nulls":6},"Purchase of installment receivables"]
["Loan business","金銭貸付業",null,{"$f":"_xlfn.WEBSERVICE(\"https://api.excelapi.org/post/address?zipcode=\"&入力情報!$G$55&\"&parts=1\")","v":"福岡県"},{"$f":"_xlfn.WEBSERVICE(\"https://api.excelapi.org/post/address?zipcode=\"&入力情報!$G$55&\"&parts=2\")","v":"中間市"},{"$f":"_xlfn.WEBSERVICE(\"https://api.excelapi.org/post/address?zipcode=\"&入力情報!$G$55&\"&parts=3\")","v":"垣生"},null,null,{"v":30,"d":"030"},"0026",null,null,{"$error":"#VALUE!"},{"$error":"#VALUE!"},{"$error":"#VALUE!"},{"$error":"#VALUE!"},"浅草","浅草公証役場","111-0034","台東区雷門2-4-8　あいおいニッセイ同和損保浅草ビル2階",{"$nulls":6},"世田谷区","Tokyo Legal Affairs Bureau Setagaya Branch Office","東京法務局世田谷出張所",{"$nulls":6},"Loan business"]
["Money lending","金銭の貸付",null,{"$f":"PROPER(_xlfn.WEBSERVICE(\"https://api.excelapi.org/language/hira2roman?input=\"&_xlfn.ENCODEURL(D31)))","v":"Fukuokaken"},{"$f":"PROPER(_xlfn.WEBSERVICE(\"https://api.excelapi.org/language/hira2roman?input=\"&_xlfn.ENCODEURL(E31)))","v":"Nakamashi"},{"$f":"IF(F31=\"\",\"\",PROPER(_xlfn.WEBSERVICE(\"https://api.excelapi.org/language/hira2roman?input=\"&_xlfn.ENCODEURL(F31))))","v":"Habu"},null,null,{"v":31,"d":"031"},"0027",null,null,{"$error":"#VALUE!"},{"$error":"#VALUE!"},{"$error":"#VALUE!"},{"$error":"#VALUE!"},"多摩","多摩公証役場","206-0033","多摩市落合1-7-12　ライティングビル1階",{"$nulls":6},"台東区","Tokyo Legal Affairs Bureau Taito Branch Office","東京法務局台東出張所",{"$nulls":6},"Money lending"]
["Guarantees for liabilities","債務の保証",null,{"$f":"_xlfn.WEBSERVICE(\"https://api.excelapi.org/post/kana?zipcode=\"&入力情報!$G$55&\"&parts=1\")","v":"フクオカケン"},{"$f":"_xlfn.WEBSERVICE(\"https://api.excelapi.org/post/kana?zipcode=\"&入力情報!$G$55&\"&parts=2\")","v":"ナカマシ"},{"$f":"_xlfn.WEBSERVICE(\"https://api.excelapi.org/post/kana?zipcode=\"&入力情報!$G$55&\"&parts=3\")","v":"ハブ"},null,null,{"v":33,"d":"033"},"0028",null,null,{"$error":"#VALUE!"},{"$error":"#VALUE!"},{"$error":"#VALUE!"},{"$error":"#VALUE!"},"大森","大森公証役場","143-0016","大田区大森北1-17-2　大森センタービル2階",{"$nulls":6},"立川市","Tokyo Legal Affairs Bureau Tachikawa Branch Office","東京法務局立川出張所",{"$nulls":6},"Guarantees for liabilities"]
["Lending of money, guarantee of debt, and other financial services","金銭の貸付、債務の保証並びにその他金融業務",{"$nulls":6},{"v":34,"d":"034"},"0029",null,null,{"$error":"#VALUE!"},{"$error":"#VALUE!"},{"$error":"#VALUE!"},{"$error":"#VALUE!"},"大塚","大塚公証役場","170-0005","豊島区南大塚2-45-9　ヤマナカヤビル4階",{"$nulls":6},"昭島市","Tokyo Legal Affairs Bureau Tachikawa Branch Office","東京法務局立川出張所",{"$nulls":6},"Lending of money, guarantee of debt, and other financial services"]
["Acquisition of credits","債権の取得",null,"設立時取締役 4住所",{"$nulls":4},{"v":35,"d":"035"},"0030",null,null,{"$error":"#VALUE!"},{"$error":"#VALUE!"},{"$error":"#VALUE!"},{"$error":"#VALUE!"},"池袋","池袋公証役場","170-6008","豊島区東池袋3-1-1　サンシャイン60ビル8階",{"$nulls":6},"日野市","Tokyo Legal Affairs Bureau Tachikawa Branch Office","東京法務局立川出張所",{"$nulls":6},"Acquisition of credits"]
["Holding of credits","債権の保有",null,"都道府県","市区町村","町域",null,null,{"v":36,"d":"036"},"0031",null,null,{"$error":"#VALUE!"},{"$error":"#VALUE!"},{"$error":"#VALUE!"},{"$error":"#VALUE!"},"中野","中野公証役場","164-0001","中野区中野5-65-3　A-01ビル7階",{"$nulls":6},"武蔵村山市","Tokyo Legal Affairs Bureau Tachikawa Branch Office","東京法務局立川出張所",{"$nulls":6},"Holding of credits"]
["Disposition of credits","債権の処分",null,{"$f":"_xlfn.WEBSERVICE(\"https://api.excelapi.org/post/address?zipcode=\"&入力情報!$G$67&\"&parts=1\")","v":{"$error":"#VALUE!"}},{"$f":"_xlfn.WEBSERVICE(\"https://api.excelapi.org/post/address?zipcode=\"&入力情報!$G$67&\"&parts=2\")","v":{"$error":"#VALUE!"}},{"$f":"_xlfn.WEBSERVICE(\"https://api.excelapi.org/post/address?zipcode=\"&入力情報!$G$67&\"&parts=3\")","v":{"$error":"#VALUE!"}},null,null,{"v":37,"d":"037"},"0032",null,null,{"$error":"#VALUE!"},{"$error":"#VALUE!"},{"$error":"#VALUE!"},{"$error":"#VALUE!"},"町田","町田公証役場","194-0021","町田市中町1-5-3",{"$nulls":6},"東大和市","Tokyo Legal Affairs Bureau Tachikawa Branch Office","東京法務局立川出張所",{"$nulls":6},"Disposition of credits"]
["Import of daily necessities, sports equipment, etc.","日用雑貨、スポーツ用品等の輸入",null,{"$f":"PROPER(_xlfn.WEBSERVICE(\"https://api.excelapi.org/language/hira2roman?input=\"&_xlfn.ENCODEURL(D37)))","v":{"$error":"#VALUE!"}},{"$f":"PROPER(_xlfn.WEBSERVICE(\"https://api.excelapi.org/language/hira2roman?input=\"&_xlfn.ENCODEURL(E37)))","v":{"$error":"#VALUE!"}},{"$f":"IF(F37=\"\",\"\",PROPER(_xlfn.WEBSERVICE(\"https://api.excelapi.org/language/hira2roman?input=\"&_xlfn.ENCODEURL(F37))))","v":{"$error":"#VALUE!"}},null,null,{"v":38,"d":"038"},"0033",null,null,{"$error":"#VALUE!"},{"$error":"#VALUE!"},{"$error":"#VALUE!"},{"$error":"#VALUE!"},"日本橋","日本橋公証役場","103-0026","中央区日本橋兜町1-10　日証館ビル1階",{"$nulls":6},"国分寺市","Tokyo Legal Affairs Bureau Tachikawa Branch Office","東京法務局立川出張所",{"$nulls":6},"All businesses incidental to the preceding items."]
["Export of daily necessities, sports equipment, etc.","日用雑貨、スポーツ用品等の輸出",null,{"$f":"_xlfn.WEBSERVICE(\"https://api.excelapi.org/post/kana?zipcode=\"&入力情報!$G$67&\"&parts=1\")","v":{"$error":"#VALUE!"}},{"$f":"_xlfn.WEBSERVICE(\"https://api.excelapi.org/post/kana?zipcode=\"&入力情報!$G$67&\"&parts=2\")","v":{"$error":"#VALUE!"}},{"$f":"_xlfn.WEBSERVICE(\"https://api.excelapi.org/post/kana?zipcode=\"&入力情報!$G$67&\"&parts=3\")","v":{"$error":"#VALUE!"}},null,null,{"v":39,"d":"039"},"0034",null,null,{"$error":"#VALUE!"},{"$error":"#VALUE!"},{"$error":"#VALUE!"},{"$error":"#VALUE!"},"八王子","八王子公証役場","192-0082","八王子市東町7-6　エバーズ第12八王子ビル2階",{"$nulls":6},"国立市","Tokyo Legal Affairs Bureau Tachikawa Branch Office","東京法務局立川出張所"]
["Sales of daily necessities, sports equipment, etc.","日用雑貨、スポーツ用品等の販売",{"$nulls":6},{"v":40,"d":"040"},"0035",null,null,{"$error":"#VALUE!"},{"$error":"#VALUE!"},{"$error":"#VALUE!"},{"$error":"#VALUE!"},"八重洲","八重洲公証役場","103-0028","中央区八重洲1-7-20　八重洲口会館6階",{"$nulls":6},"小平市","Tokyo Legal Affairs Bureau Tanashi Branch Office","東京法務局田無出張所"]
["Manufacture and sale of various glass products","各種ガラス製品の製造、販売",null,"設立時取締役 5住所",{"$nulls":4},{"v":41,"d":"041"},"0036",null,null,{"$error":"#VALUE!"},{"$error":"#VALUE!"},{"$error":"#VALUE!"},{"$error":"#VALUE!"},"板橋","板橋公証役場","173-0004","板橋区板橋2-67-8　板橋中央ビル9階",{"$nulls":6},"東村山市","Tokyo Legal Affairs Bureau Tanashi Branch Office","東京法務局田無出張所"]
["Manufacture and sale of various ceramic products","各種セラミックス製品の製造、販売",null,"都道府県","市区町村","町域",null,null,{"v":42,"d":"042"},"0037",null,null,{"$error":"#VALUE!"},{"$error":"#VALUE!"},{"$error":"#VALUE!"},{"$error":"#VALUE!"},"浜松町","浜松町公証役場","105-0012","港区芝大門1-4-14　芝栄太楼ビル7階",{"$nulls":6},"西東京市","Tokyo Legal Affairs Bureau Tanashi Branch Office","東京法務局田無出張所"]
["Manufacture of various chemicals and chemical products","各種化学材料および製品の製造",null,{"$f":"_xlfn.WEBSERVICE(\"https://api.excelapi.org/post/address?zipcode=\"&入力情報!$G$79&\"&parts=1\")","v":{"$error":"#VALUE!"}},{"$f":"_xlfn.WEBSERVICE(\"https://api.excelapi.org/post/address?zipcode=\"&入力情報!$G$79&\"&parts=2\")","v":{"$error":"#VALUE!"}},{"$f":"_xlfn.WEBSERVICE(\"https://api.excelapi.org/post/address?zipcode=\"&入力情報!$G$79&\"&parts=3\")","v":{"$error":"#VALUE!"}},null,null,{"v":43,"d":"043"},"0038",null,null,{"$error":"#VALUE!"},{"$error":"#VALUE!"},{"$error":"#VALUE!"},{"$error":"#VALUE!"},"府中","府中公証役場","183-0023","府中市宮町2-15-13　第15三ツ木ビル3階",{"$nulls":6},"清瀬市","Tokyo Legal Affairs Bureau Tanashi Branch Office","東京法務局田無出張所"]
["Sale of various chemicals and chemical products","各種化学材料および製品の販売",null,{"$f":"PROPER(_xlfn.WEBSERVICE(\"https://api.excelapi.org/language/hira2roman?input=\"&_xlfn.ENCODEURL(D43)))","v":{"$error":"#VALUE!"}},{"$f":"PROPER(_xlfn.WEBSERVICE(\"https://api.excelapi.org/language/hira2roman?input=\"&_xlfn.ENCODEURL(E43)))","v":{"$error":"#VALUE!"}},{"$f":"IF(F43=\"\",\"\",PROPER(_xlfn.WEBSERVICE(\"https://api.excelapi.org/language/hira2roman?input=\"&_xlfn.ENCODEURL(F43))))","v":{"$error":"#VALUE!"}},null,null,{"v":44,"d":"044"},"0039",null,null,{"$error":"#VALUE!"},{"$error":"#VALUE!"},{"$error":"#VALUE!"},{"$error":"#VALUE!"},"武蔵野","武蔵野公証役場","180-0004","武蔵野市吉祥寺本町2-5-11　松栄ビル4階",{"$nulls":6},"東久留米市","Tokyo Legal Affairs Bureau Tanashi Branch Office","東京法務局田無出張所"]
["Manufacture of various kinds of food products","各種食品の製造",null,{"$f":"_xlfn.WEBSERVICE(\"https://api.excelapi.org/post/kana?zipcode=\"&入力情報!$G$79&\"&parts=1\")","v":{"$error":"#VALUE!"}},{"$f":"_xlfn.WEBSERVICE(\"https://api.excelapi.org/post/kana?zipcode=\"&入力情報!$G$79&\"&parts=2\")","v":{"$error":"#VALUE!"}},{"$f":"_xlfn.WEBSERVICE(\"https://api.excelapi.org/post/kana?zipcode=\"&入力情報!$G$79&\"&parts=3\")","v":{"$error":"#VALUE!"}},null,null,{"v":45,"d":"045"},"0040",null,null,{"$error":"#VALUE!"},{"$error":"#VALUE!"},{"$error":"#VALUE!"},{"$error":"#VALUE!"},"文京","文京公証役場","112-0003","文京区春日1-16-21　文京シビックセンター8階",{"$nulls":6},"豊島区","Tokyo Legal Affairs Bureau Toshima Branch Office","東京法務局豊島出張所"]
["Marketing of various kinds of food products","各種食品の販売",{"$nulls":6},{"v":46,"d":"046"},"0041",null,null,{"$error":"#VALUE!"},{"$error":"#VALUE!"},{"$error":"#VALUE!"},{"$error":"#VALUE!"},"麻布","麻布公証役場","106-0045","港区麻布十番1-4-5　深尾ビル5階",{"$nulls":6},"中野区","Tokyo Legal Affairs Bureau Nakano Branch Office","東京法務局中野出張所"]
["Cargo transportation by automobiles","貨物自動車運送事業",null,"設立時取締役 6住所",{"$nulls":4},{"v":47,"d":"047"},"0042",null,null,{"$error":"#VALUE!"},{"$error":"#VALUE!"},{"$error":"#VALUE!"},{"$error":"#VALUE!"},"目黒","目黒公証役場","141-0021","品川区上大崎2-17-5　デルダンビル5階",{"$nulls":6},"練馬区","Tokyo Legal Affairs Bureau Nerima Branch Office","東京法務局練馬出張所"]
["Warehousing business","倉庫営業",null,"都道府県","市区町村","町域",null,null,{"v":50,"d":"050"},"0043",null,null,{"$error":"#VALUE!"},{"$error":"#VALUE!"},{"$error":"#VALUE!"},{"$error":"#VALUE!"},"立川","立川公証役場","190-0023","立川市柴崎町3-9-21　エルフレア立川ビル2階",{"$nulls":6},"町田市","Tokyo Legal Affairs Bureau Machida Branch Office","東京法務局町田出張所"]
["Consigned freight forwarding Business ","貨物利用運送事業",null,{"$f":"_xlfn.WEBSERVICE(\"https://api.excelapi.org/post/address?zipcode=\"&入力情報!$G$91&\"&parts=1\")","v":{"$error":"#VALUE!"}},{"$f":"_xlfn.WEBSERVICE(\"https://api.excelapi.org/post/address?zipcode=\"&入力情報!$G$91&\"&parts=2\")","v":{"$error":"#VALUE!"}},{"$f":"_xlfn.WEBSERVICE(\"https://api.excelapi.org/post/address?zipcode=\"&入力情報!$G$91&\"&parts=3\")","v":{"$error":"#VALUE!"}},null,null,{"v":51,"d":"051"},"0044",null,null,{"$error":"#VALUE!"},{"$error":"#VALUE!"},{"$error":"#VALUE!"},{"$error":"#VALUE!"},"練馬","練馬公証役場","176-0012","練馬区豊玉北5-17-12　練馬駅前ビル3階",{"$nulls":6},"港区","Tokyo Legal Affairs Bureau Minato Branch Office","東京法務局港出張所"]
["Marine transportation","海運業",null,{"$f":"PROPER(_xlfn.WEBSERVICE(\"https://api.excelapi.org/language/hira2roman?input=\"&_xlfn.ENCODEURL(D49)))","v":{"$error":"#VALUE!"}},{"$f":"PROPER(_xlfn.WEBSERVICE(\"https://api.excelapi.org/language/hira2roman?input=\"&_xlfn.ENCODEURL(E49)))","v":{"$error":"#VALUE!"}},{"$f":"IF(F49=\"\",\"\",PROPER(_xlfn.WEBSERVICE(\"https://api.excelapi.org/language/hira2roman?input=\"&_xlfn.ENCODEURL(F49))))","v":{"$error":"#VALUE!"}},null,null,{"v":52,"d":"052"},"0045",null,null,{"$error":"#VALUE!"},{"$error":"#VALUE!"},{"$error":"#VALUE!"},{"$error":"#VALUE!"},"旭川合同","旭川合同公証役場","070-0036","旭川市6条通8-37-22　６８ビル　5階",{"$nulls":6},"青梅市","Tokyo Legal Affairs Bureau Nishitama Branch Bureau","東京法務局西多摩支局"]
["Provision of various services relating to the medical field","医療に関連する各種サービスの提供",null,{"$f":"_xlfn.WEBSERVICE(\"https://api.excelapi.org/post/kana?zipcode=\"&入力情報!$G$91&\"&parts=1\")","v":{"$error":"#VALUE!"}},{"$f":"_xlfn.WEBSERVICE(\"https://api.excelapi.org/post/kana?zipcode=\"&入力情報!$G$91&\"&parts=2\")","v":{"$error":"#VALUE!"}},{"$f":"_xlfn.WEBSERVICE(\"https://api.excelapi.org/post/kana?zipcode=\"&入力情報!$G$91&\"&parts=3\")","v":{"$error":"#VALUE!"}},null,null,{"v":53,"d":"053"},"0046",null,null,{"$error":"#VALUE!"},{"$error":"#VALUE!"},{"$error":"#VALUE!"},{"$error":"#VALUE!"},"岩見沢","岩見沢公証役場","068-0024","岩見沢市4条西1-2-5　ＭＹ岩見沢ビル2階",{"$nulls":6},"福生市","Tokyo Legal Affairs Bureau Nishitama Branch Bureau","東京法務局西多摩支局"]
["Consulting business in relation to management  of assets","資産運用に関するコンサルティング業務",{"$nulls":6},{"v":54,"d":"054"},"0047",null,null,{"$error":"#VALUE!"},{"$error":"#VALUE!"},{"$error":"#VALUE!"},{"$error":"#VALUE!"},"釧路合同","釧路合同公証役場","085-0016","釧路市錦町5-3　三ッ輪ビル4階",{"$nulls":6},"羽村市","Tokyo Legal Affairs Bureau Nishitama Branch Bureau","東京法務局西多摩支局"]
["Consulting business in relation to administration of assets","資産管理に関するコンサルティング業務",null,"設立時取締役 7住所",{"$nulls":4},{"v":55,"d":"055"},"0048",null,null,{"$error":"#VALUE!"},{"$error":"#VALUE!"},{"$error":"#VALUE!"},{"$error":"#VALUE!"},"札幌大通","札幌大通公証役場","060-0001","札幌市中央区北1条西4-2-2　札幌ノースプラザ6階",{"$nulls":6},"あきる野市","Tokyo Legal Affairs Bureau Nishitama Branch Bureau","東京法務局西多摩支局"]
["Consulting business in relation to corporate management","経営に関するコンサルティング業務",null,"都道府県","市区町村","町域",null,null,{"v":56,"d":"056"},"0049",null,null,{"$error":"#VALUE!"},{"$error":"#VALUE!"},{"$error":"#VALUE!"},{"$error":"#VALUE!"},"札幌中","札幌中公証役場","060-0042","札幌市中央区大通西11-4　登記センタービル5階",{"$nulls":6},"西多摩郡瑞穂町","Tokyo Legal Affairs Bureau Nishitama Branch Bureau","東京法務局西多摩支局"]
["Consulting business in relation to finance","財務に関するコンサルティング業務",null,{"$f":"_xlfn.WEBSERVICE(\"https://api.excelapi.org/post/address?zipcode=\"&入力情報!$G$103&\"&parts=1\")","v":{"$error":"#VALUE!"}},{"$f":"_xlfn.WEBSERVICE(\"https://api.excelapi.org/post/address?zipcode=\"&入力情報!$G$103&\"&parts=2\")","v":{"$error":"#VALUE!"}},{"$f":"_xlfn.WEBSERVICE(\"https://api.excelapi.org/post/address?zipcode=\"&入力情報!$G$103&\"&parts=3\")","v":{"$error":"#VALUE!"}},null,null,{"v":57,"d":"057"},"0050",null,null,{"$error":"#VALUE!"},{"$error":"#VALUE!"},{"$error":"#VALUE!"},{"$error":"#VALUE!"},"室蘭","室蘭公証役場","050-0074","室蘭市中島町1-33-9　山松ビル4階",{"$nulls":6},"西多摩郡日の出町","Tokyo Legal Affairs Bureau Nishitama Branch Bureau","東京法務局西多摩支局"]
["Investment consulting services","投資コンサルティング業務",null,{"$f":"PROPER(_xlfn.WEBSERVICE(\"https://api.excelapi.org/language/hira2roman?input=\"&_xlfn.ENCODEURL(D55)))","v":{"$error":"#VALUE!"}},{"$f":"PROPER(_xlfn.WEBSERVICE(\"https://api.excelapi.org/language/hira2roman?input=\"&_xlfn.ENCODEURL(E55)))","v":{"$error":"#VALUE!"}},{"$f":"IF(F55=\"\",\"\",PROPER(_xlfn.WEBSERVICE(\"https://api.excelapi.org/language/hira2roman?input=\"&_xlfn.ENCODEURL(F55))))","v":{"$error":"#VALUE!"}},null,null,{"v":58,"d":"058"},"0051",null,null,{"$error":"#VALUE!"},{"$error":"#VALUE!"},{"$error":"#VALUE!"},{"$error":"#VALUE!"},"小樽","小樽公証役場","047-0031","小樽市色内1-9-1　松田ビル1階",{"$nulls":6},"西多摩郡檜原町","Tokyo Legal Affairs Bureau Nishitama Branch Bureau","東京法務局西多摩支局"]
["Advice on the acquisition, holding and disposal of investment financial assets in Japan","日本国内における投資金融資産の取得、保有及び処分に関するアドバイス",null,{"$f":"_xlfn.WEBSERVICE(\"https://api.excelapi.org/post/kana?zipcode=\"&入力情報!$G$103&\"&parts=1\")","v":{"$error":"#VALUE!"}},{"$f":"_xlfn.WEBSERVICE(\"https://api.excelapi.org/post/kana?zipcode=\"&入力情報!$G$103&\"&parts=2\")","v":{"$error":"#VALUE!"}},{"$f":"_xlfn.WEBSERVICE(\"https://api.excelapi.org/post/kana?zipcode=\"&入力情報!$G$103&\"&parts=3\")","v":{"$error":"#VALUE!"}},null,null,{"v":59,"d":"059"},"0052",null,null,{"$error":"#VALUE!"},{"$error":"#VALUE!"},{"$error":"#VALUE!"},{"$error":"#VALUE!"},"帯広合同","帯広合同公証役場","080-0016","帯広市西6条南6-3　ソネビル3階",{"$nulls":6},"西多摩郡奥多摩町","Tokyo Legal Affairs Bureau Nishitama Branch Bureau","東京法務局西多摩支局"]
["Management and financial advisory/consulting","経営、財務及び人事等の経営全般に関するコンサルティング及びアドバイザリー業務",{"$nulls":6},{"v":60,"d":"060"},"0053",null,null,{"$error":"#VALUE!"},{"$error":"#VALUE!"},{"$error":"#VALUE!"},{"$error":"#VALUE!"},"滝川","滝川公証役場","073-0022","滝川市大町1-8-1　滝川産経会館3階",{"$nulls":6},"八王子市","Tokyo Legal Affairs Bureau Hachioji Branch Bureau","東京法務局八王子支局"]
["Business of conducting market research","市場調査の実施業務",null,"設立時取締役 8住所",{"$nulls":4},{"v":62,"d":"062"},"0054",null,null,{"$error":"#VALUE!"},{"$error":"#VALUE!"},{"$error":"#VALUE!"},{"$error":"#VALUE!"},"苫小牧","苫小牧公証役場","053-0022","苫小牧市表町2-3-23　エイシンビル2階",{"$nulls":6},"武蔵野市","Tokyo Legal Affairs Bureau Fuchu Branch Bureau","東京法務局府中支局"]
["Provision of information relating to investments","投資関連情報の提供に関する業務",null,"都道府県","市区町村","町域",null,null,{"v":63,"d":"063"},"0055",null,null,{"$error":"#VALUE!"},{"$error":"#VALUE!"},{"$error":"#VALUE!"},{"$error":"#VALUE!"},"函館合同","函館合同公証役場","040-0063","函館市若松町15-7-51　函館北洋ビル5階",{"$nulls":6},"三鷹市","Tokyo Legal Affairs Bureau Fuchu Branch Bureau","東京法務局府中支局"]
["Partnership, integration and merger consulting","提携、統合、合併のコンサルティング業務",null,{"$f":"_xlfn.WEBSERVICE(\"https://api.excelapi.org/post/address?zipcode=\"&入力情報!$G$115&\"&parts=1\")","v":{"$error":"#VALUE!"}},{"$f":"_xlfn.WEBSERVICE(\"https://api.excelapi.org/post/address?zipcode=\"&入力情報!$G$115&\"&parts=2\")","v":{"$error":"#VALUE!"}},{"$f":"_xlfn.WEBSERVICE(\"https://api.excelapi.org/post/address?zipcode=\"&入力情報!$G$115&\"&parts=3\")","v":{"$error":"#VALUE!"}},null,null,{"v":64,"d":"064"},"0056",null,null,{"$error":"#VALUE!"},{"$error":"#VALUE!"},{"$error":"#VALUE!"},{"$error":"#VALUE!"},"北見","北見公証役場","090-8509","北見市大通西2-1　まちきた大通ビル5階",{"$nulls":6},"府中市","Tokyo Legal Affairs Bureau Fuchu Branch Bureau","東京法務局府中支局"]
["Consulting business in relation to real estate","不動産に関するコンサルティング業",null,{"$f":"PROPER(_xlfn.WEBSERVICE(\"https://api.excelapi.org/language/hira2roman?input=\"&_xlfn.ENCODEURL(D61)))","v":{"$error":"#VALUE!"}},{"$f":"PROPER(_xlfn.WEBSERVICE(\"https://api.excelapi.org/language/hira2roman?input=\"&_xlfn.ENCODEURL(E61)))","v":{"$error":"#VALUE!"}},{"$f":"IF(F61=\"\",\"\",PROPER(_xlfn.WEBSERVICE(\"https://api.excelapi.org/language/hira2roman?input=\"&_xlfn.ENCODEURL(F61))))","v":{"$error":"#VALUE!"}},null,null,{"v":65,"d":"065"},"0057",null,null,{"$error":"#VALUE!"},{"$error":"#VALUE!"},{"$error":"#VALUE!"},{"$error":"#VALUE!"},"名寄","名寄公証役場","096-0011","名寄市西１条南9-35",{"$nulls":6},"調布市","Tokyo Legal Affairs Bureau Fuchu Branch Bureau","東京法務局府中支局"]
["General logistics consulting","物流全般に関するコンサルティング業務",null,{"$f":"_xlfn.WEBSERVICE(\"https://api.excelapi.org/post/kana?zipcode=\"&入力情報!$G$115&\"&parts=1\")","v":{"$error":"#VALUE!"}},{"$f":"_xlfn.WEBSERVICE(\"https://api.excelapi.org/post/kana?zipcode=\"&入力情報!$G$115&\"&parts=2\")","v":{"$error":"#VALUE!"}},{"$f":"_xlfn.WEBSERVICE(\"https://api.excelapi.org/post/kana?zipcode=\"&入力情報!$G$115&\"&parts=3\")","v":{"$error":"#VALUE!"}},null,null,{"v":66,"d":"066"},"0058",null,null,{"$error":"#VALUE!"},{"$error":"#VALUE!"},{"$error":"#VALUE!"},{"$error":"#VALUE!"},"岸和田","岸和田公証役場","596-0054","岸和田市宮本町2-29　ライフエイトビル3階",{"$nulls":6},"小金井市","Tokyo Legal Affairs Bureau Fuchu Branch Bureau","東京法務局府中支局"]
["Communication and correspondence with third parties, translation and other support services for affiliated companies","関連会社等のための第三者との連絡、翻訳その他のサポートサービス",{"$nulls":6},{"v":67,"d":"067"},"0059",null,null,{"$error":"#VALUE!"},{"$error":"#VALUE!"},{"$error":"#VALUE!"},{"$error":"#VALUE!"},"江戸堀","江戸堀公証役場","550-0002","大阪市西区江戸堀1-10-8　パシフィックマークス肥後橋5階",{"$nulls":6},"狛江市","Tokyo Legal Affairs Bureau Fuchu Branch Bureau","東京法務局府中支局"]
["Production of agricultural products including fruits, vegetables, and grains, etc.","果物、野菜及び穀物等の農産物の生産",null,"設立時取締役 9住所",{"$nulls":4},{"v":68,"d":"068"},"0060",null,null,{"$error":"#VALUE!"},{"$error":"#VALUE!"},{"$error":"#VALUE!"},{"$error":"#VALUE!"},"高槻","高槻公証役場","569-1123","高槻市芥川町1-14-27　MIDORIビル2階西",{"$nulls":6},"多摩市","Tokyo Legal Affairs Bureau Fuchu Branch Bureau","東京法務局府中支局"]
["Processing of agricultural products including fruits, vegetables, and grains, etc.","果物、野菜及び穀物等の農産物の加工",null,"都道府県","市区町村","町域",null,null,{"v":69,"d":"069"},"0061",null,null,{"$error":"#VALUE!"},{"$error":"#VALUE!"},{"$error":"#VALUE!"},{"$error":"#VALUE!"},"堺合同","堺合同公証役場","590-0076","堺市堺区北瓦町2-4-18　現代堺東駅前ビル4階",{"$nulls":6},"稲城市","Tokyo Legal Affairs Bureau Fuchu Branch Bureau","東京法務局府中支局"]
["Sale of agricultural products including fruits, vegetables, and grains, etc.","果物、野菜及び穀物等の農産物の販売",null,{"$f":"_xlfn.WEBSERVICE(\"https://api.excelapi.org/post/address?zipcode=\"&入力情報!$G$127&\"&parts=1\")","v":{"$error":"#VALUE!"}},{"$f":"_xlfn.WEBSERVICE(\"https://api.excelapi.org/post/address?zipcode=\"&入力情報!$G$127&\"&parts=2\")","v":{"$error":"#VALUE!"}},{"$f":"_xlfn.WEBSERVICE(\"https://api.excelapi.org/post/address?zipcode=\"&入力情報!$G$127&\"&parts=3\")","v":{"$error":"#VALUE!"}},null,null,{"v":70,"d":"070"},"0062",null,null,{"$error":"#VALUE!"},{"$error":"#VALUE!"},{"$error":"#VALUE!"},{"$error":"#VALUE!"},"上六","上六公証役場","543-0021","大阪市天王寺区東高津町11-9　サムティ上本町ビル4階",{"$nulls":6},"大阪市","Osaka Legal Affairs Bureau","大阪法務局"]
["Acquisition of real estate","不動産の取得",null,{"$f":"PROPER(_xlfn.WEBSERVICE(\"https://api.excelapi.org/language/hira2roman?input=\"&_xlfn.ENCODEURL(D67)))","v":{"$error":"#VALUE!"}},{"$f":"PROPER(_xlfn.WEBSERVICE(\"https://api.excelapi.org/language/hira2roman?input=\"&_xlfn.ENCODEURL(E67)))","v":{"$error":"#VALUE!"}},{"$f":"IF(F67=\"\",\"\",PROPER(_xlfn.WEBSERVICE(\"https://api.excelapi.org/language/hira2roman?input=\"&_xlfn.ENCODEURL(F67))))","v":{"$error":"#VALUE!"}},null,null,{"v":71,"d":"071"},"0063",null,null,{"$error":"#VALUE!"},{"$error":"#VALUE!"},{"$error":"#VALUE!"},{"$error":"#VALUE!"},"東大阪","東大阪公証役場","577-0809","東大阪市永和2-1-1　東大阪商工会議所３階",{"$nulls":6},"枚方市","Osaka Legal Affairs Bureau","大阪法務局"]
["Development of real estate","不動産の開発",null,{"$f":"_xlfn.WEBSERVICE(\"https://api.excelapi.org/post/kana?zipcode=\"&入力情報!$G$127&\"&parts=1\")","v":{"$error":"#VALUE!"}},{"$f":"_xlfn.WEBSERVICE(\"https://api.excelapi.org/post/kana?zipcode=\"&入力情報!$G$127&\"&parts=2\")","v":{"$error":"#VALUE!"}},{"$f":"_xlfn.WEBSERVICE(\"https://api.excelapi.org/post/kana?zipcode=\"&入力情報!$G$127&\"&parts=3\")","v":{"$error":"#VALUE!"}},null,null,{"v":72,"d":"072"},"0064",null,null,{"$error":"#VALUE!"},{"$error":"#VALUE!"},{"$error":"#VALUE!"},{"$error":"#VALUE!"},"難波","難波公証役場","556-0011","大阪市浪速区難波中1-10-4　南海ＳＫ難波ビル6階",{"$nulls":6},"寝屋川市","Osaka Legal Affairs Bureau","大阪法務局"]
["Holding of real estate","不動産の保有",{"$nulls":6},{"v":73,"d":"073"},"0065",null,null,{"$f":" R68 & \" / \" & N68 & \" Notary Public Office\"","v":{"$error":"#VALUE!"}},{"$f":"PROPER(O68)","v":{"$error":"#VALUE!"}},{"$f":"_xlfn.WEBSERVICE(\"https://api.excelapi.org/language/hira2roman?input=\"&_xlfn.ENCODEURL(P68))","v":{"$error":"#VALUE!"}},{"$f":"_xlfn.WEBSERVICE(\"https://api.excelapi.org/language/kanji2kana?text=\" & _xlfn.ENCODEURL(Q68))","v":{"$error":"#VALUE!"}},"梅田","梅田公証役場","530-0012","大阪市北区芝田2-7-18　LUCID SQUARE UMEDA 3階",{"$nulls":6},"交野市","Osaka Legal Affairs Bureau","大阪法務局"]
["Disposition of real estate","不動産の処分",null,"設立時取締役 10住所",{"$nulls":4},{"v":74,"d":"074"},"0066",null,null,{"$error":"#VALUE!"},{"$error":"#VALUE!"},{"$error":"#VALUE!"},{"$error":"#VALUE!"},"平野町","平野町公証役場","541-0046","大阪市中央区平野町2-1-2　沢の鶴ビル3階",{"$nulls":6},"守口市","Osaka Legal Affairs Bureau","大阪法務局"]
["Leasing of real estate","不動産の賃貸業務",null,"都道府県","市区町村","町域",null,null,{"v":75,"d":"075"},"0067",null,null,{"$error":"#VALUE!"},{"$error":"#VALUE!"},{"$error":"#VALUE!"},{"$error":"#VALUE!"},"本町","本町公証役場","541-0052","大阪市中央区安土町3-4-10　京阪神安土町ビル３階",{"$nulls":6},"門真市","Osaka Legal Affairs Bureau","大阪法務局"]
["Management of real estate","不動産の管理業務",null,{"$f":"_xlfn.WEBSERVICE(\"https://api.excelapi.org/post/address?zipcode=\"&入力情報!$G$139&\"&parts=1\")","v":{"$error":"#VALUE!"}},{"$f":"_xlfn.WEBSERVICE(\"https://api.excelapi.org/post/address?zipcode=\"&入力情報!$G$139&\"&parts=2\")","v":{"$error":"#VALUE!"}},{"$f":"_xlfn.WEBSERVICE(\"https://api.excelapi.org/post/address?zipcode=\"&入力情報!$G$139&\"&parts=3\")","v":{"$error":"#VALUE!"}},null,null,{"v":76,"d":"076"},"0068",null,null,{"$error":"#VALUE!"},{"$error":"#VALUE!"},{"$error":"#VALUE!"},{"$error":"#VALUE!"},"枚方","枚方公証役場","573-0027","枚方市大垣内町2-16-12　サクセスビル5階",{"$nulls":6},"福岡市","Fukuoka Legal Affairs Bureau","福岡法務局"]
["Brokerage of real estate","不動産の仲介業務",null,{"$f":"PROPER(_xlfn.WEBSERVICE(\"https://api.excelapi.org/language/hira2roman?input=\"&_xlfn.ENCODEURL(D73)))","v":{"$error":"#VALUE!"}},{"$f":"PROPER(_xlfn.WEBSERVICE(\"https://api.excelapi.org/language/hira2roman?input=\"&_xlfn.ENCODEURL(E73)))","v":{"$error":"#VALUE!"}},{"$f":"IF(F73=\"\",\"\",PROPER(_xlfn.WEBSERVICE(\"https://api.excelapi.org/language/hira2roman?input=\"&_xlfn.ENCODEURL(F73))))","v":{"$error":"#VALUE!"}},null,null,{"v":77,"d":"077"},"0069",null,null,{"$error":"#VALUE!"},{"$error":"#VALUE!"},{"$error":"#VALUE!"},{"$error":"#VALUE!"},"久留米","久留米公証役場","830-0023","久留米市中央町28-7　明治通３丁目ビル",{"$nulls":6},"大牟田市","Fukuoka Legal Affairs Bureau","福岡法務局"]
["Providing domestic and foreign real estate information","国内、国外の不動産情報の提供",null,{"$f":"_xlfn.WEBSERVICE(\"https://api.excelapi.org/post/kana?zipcode=\"&入力情報!$G$139&\"&parts=1\")","v":{"$error":"#VALUE!"}},{"$f":"_xlfn.WEBSERVICE(\"https://api.excelapi.org/post/kana?zipcode=\"&入力情報!$G$139&\"&parts=2\")","v":{"$error":"#VALUE!"}},{"$f":"_xlfn.WEBSERVICE(\"https://api.excelapi.org/post/kana?zipcode=\"&入力情報!$G$139&\"&parts=3\")","v":{"$error":"#VALUE!"}},null,null,{"v":78,"d":"078"},"0070",null,null,{"$error":"#VALUE!"},{"$error":"#VALUE!"},{"$error":"#VALUE!"},{"$error":"#VALUE!"},"行橋","行橋公証役場","824-0001","行橋市行事4-20-61",{"$nulls":6},"久留米市","Fukuoka Legal Affairs Bureau","福岡法務局"]
["Sale of domestic and foreign real estate","国内、国外の不動産の売買",{"$nulls":6},{"v":79,"d":"079"},"0071",null,null,{"$error":"#VALUE!"},{"$error":"#VALUE!"},{"$error":"#VALUE!"},{"$error":"#VALUE!"},"小倉合同","小倉合同公証役場","803-0811","北九州市小倉北区大門2-1-8　コンプレート西小倉ビル2階",{"$nulls":6},"飯塚市","Fukuoka Legal Affairs Bureau","福岡法務局"]
["Rental of domestic and foreign real estate","国内、国外の不動産の賃貸",null,"設立時取締役 11住所",{"$nulls":4},{"v":80,"d":"080"},"0072",null,null,{"$error":"#VALUE!"},{"$error":"#VALUE!"},{"$error":"#VALUE!"},{"$error":"#VALUE!"},"大牟田","大牟田公証役場","836-0843","大牟田市不知火町2-7-1　中島物産ビル５階",{"$nulls":6},"柳川市","Fukuoka Legal Affairs Bureau","福岡法務局"]
["Brokerage of domestic and foreign real estate","国内、国外の不動産の仲介",null,"都道府県","市区町村","町域",null,null,{"v":81,"d":"081"},"0073",null,null,{"$error":"#VALUE!"},{"$error":"#VALUE!"},{"$error":"#VALUE!"},{"$error":"#VALUE!"},"筑紫","筑紫公証役場","818-0105","太宰府市都府楼南5-5-13",{"$nulls":6},"八女市","Fukuoka Legal Affairs Bureau","福岡法務局"]
["Management of domestic and foreign real estate","国内、国外の不動産の管理",null,{"$f":"_xlfn.WEBSERVICE(\"https://api.excelapi.org/post/address?zipcode=\"&入力情報!$G$151&\"&parts=1\")","v":{"$error":"#VALUE!"}},{"$f":"_xlfn.WEBSERVICE(\"https://api.excelapi.org/post/address?zipcode=\"&入力情報!$G$151&\"&parts=2\")","v":{"$error":"#VALUE!"}},{"$f":"_xlfn.WEBSERVICE(\"https://api.excelapi.org/post/address?zipcode=\"&入力情報!$G$151&\"&parts=3\")","v":{"$error":"#VALUE!"}},null,null,{"v":82,"d":"082"},"0074",null,null,{"$error":"#VALUE!"},{"$error":"#VALUE!"},{"$error":"#VALUE!"},{"$error":"#VALUE!"},"直方","直方公証役場","822-0015","直方市新町2-1-24",{"$nulls":6},"筑後市","Fukuoka Legal Affairs Bureau","福岡法務局"]
["Mediation of domestic and foreign real estate","国内、国外の不動産の斡旋",null,{"$f":"PROPER(_xlfn.WEBSERVICE(\"https://api.excelapi.org/language/hira2roman?input=\"&_xlfn.ENCODEURL(D79)))","v":{"$error":"#VALUE!"}},{"$f":"PROPER(_xlfn.WEBSERVICE(\"https://api.excelapi.org/language/hira2roman?input=\"&_xlfn.ENCODEURL(E79)))","v":{"$error":"#VALUE!"}},{"$f":"IF(F79=\"\",\"\",PROPER(_xlfn.WEBSERVICE(\"https://api.excelapi.org/language/hira2roman?input=\"&_xlfn.ENCODEURL(F79))))","v":{"$error":"#VALUE!"}},null,null,{"v":83,"d":"083"},"0075",null,null,{"$error":"#VALUE!"},{"$error":"#VALUE!"},{"$error":"#VALUE!"},{"$error":"#VALUE!"},"田川","田川公証役場","826-0031","田川市千代町8-46",{"$nulls":6},"大川市","Fukuoka Legal Affairs Bureau","福岡法務局"]
["Building planning","建築物の企画",null,{"$f":"_xlfn.WEBSERVICE(\"https://api.excelapi.org/post/kana?zipcode=\"&入力情報!$G$151&\"&parts=1\")","v":{"$error":"#VALUE!"}},{"$f":"_xlfn.WEBSERVICE(\"https://api.excelapi.org/post/kana?zipcode=\"&入力情報!$G$151&\"&parts=2\")","v":{"$error":"#VALUE!"}},{"$f":"_xlfn.WEBSERVICE(\"https://api.excelapi.org/post/kana?zipcode=\"&入力情報!$G$151&\"&parts=3\")","v":{"$error":"#VALUE!"}},null,null,{"v":84,"d":"084"},"0076",null,null,{"$error":"#VALUE!"},{"$error":"#VALUE!"},{"$error":"#VALUE!"},{"$error":"#VALUE!"},"博多","博多公証役場","812-0011","福岡市博多区博多駅前3-25-24　八百治ビル３階",{"$nulls":6},"小郡市","Fukuoka Legal Affairs Bureau","福岡法務局"]
["Building design","建築物の設計",{"$nulls":6},{"v":85,"d":"085"},"0077",null,null,{"$error":"#VALUE!"},{"$error":"#VALUE!"},{"$error":"#VALUE!"},{"$error":"#VALUE!"},"八幡合同","八幡合同公証役場","806-0021","北九州市八幡西区黒崎3-1-3　菅原第一ビルディング3階",{"$nulls":6},"筑紫野市","Fukuoka Legal Affairs Bureau","福岡法務局"]
["Building management","建築物の管理",null,"設立時取締役 12住所",{"$nulls":4},{"v":86,"d":"086"},"0078",null,null,{"$error":"#VALUE!"},{"$error":"#VALUE!"},{"$error":"#VALUE!"},{"$error":"#VALUE!"},"飯塚","飯塚公証役場","820-0067","飯塚市川津406-1　丸二ビル1階",{"$nulls":6},"春日市","Fukuoka Legal Affairs Bureau","福岡法務局"]
["Building construction","建築物の施工",null,"都道府県","市区町村","町域",null,null,{"v":87,"d":"087"},"0079",null,null,{"$error":"#VALUE!"},{"$error":"#VALUE!"},{"$error":"#VALUE!"},{"$error":"#VALUE!"},"福岡","福岡公証役場","810-0073","福岡市中央区舞鶴3-7-13　大禅ビル2階",{"$nulls":6},"大野城市","Fukuoka Legal Affairs Bureau","福岡法務局"]
["Building repair","建築物の修繕",null,{"$f":"_xlfn.WEBSERVICE(\"https://api.excelapi.org/post/address?zipcode=\"&入力情報!$G$163&\"&parts=1\")","v":{"$error":"#VALUE!"}},{"$f":"_xlfn.WEBSERVICE(\"https://api.excelapi.org/post/address?zipcode=\"&入力情報!$G$163&\"&parts=2\")","v":{"$error":"#VALUE!"}},{"$f":"_xlfn.WEBSERVICE(\"https://api.excelapi.org/post/address?zipcode=\"&入力情報!$G$163&\"&parts=3\")","v":{"$error":"#VALUE!"}},null,null,{"v":90,"d":"090"},"0080",{"$nulls":16},"宗像市","Fukuoka Legal Affairs Bureau","福岡法務局"]
["Building maintenance","建築物の保守",null,{"$f":"PROPER(_xlfn.WEBSERVICE(\"https://api.excelapi.org/language/hira2roman?input=\"&_xlfn.ENCODEURL(D85)))","v":{"$error":"#VALUE!"}},{"$f":"PROPER(_xlfn.WEBSERVICE(\"https://api.excelapi.org/language/hira2roman?input=\"&_xlfn.ENCODEURL(E85)))","v":{"$error":"#VALUE!"}},{"$f":"IF(F85=\"\",\"\",PROPER(_xlfn.WEBSERVICE(\"https://api.excelapi.org/language/hira2roman?input=\"&_xlfn.ENCODEURL(F85))))","v":{"$error":"#VALUE!"}},null,null,{"v":91,"d":"091"},"0081",{"$nulls":16},"太宰府市","Fukuoka Legal Affairs Bureau","福岡法務局"]
["Management of hotels","ホテルの経営",null,{"$f":"_xlfn.WEBSERVICE(\"https://api.excelapi.org/post/kana?zipcode=\"&入力情報!$G$163&\"&parts=1\")","v":{"$error":"#VALUE!"}},{"$f":"_xlfn.WEBSERVICE(\"https://api.excelapi.org/post/kana?zipcode=\"&入力情報!$G$163&\"&parts=2\")","v":{"$error":"#VALUE!"}},{"$f":"_xlfn.WEBSERVICE(\"https://api.excelapi.org/post/kana?zipcode=\"&入力情報!$G$163&\"&parts=3\")","v":{"$error":"#VALUE!"}},null,null,{"v":92,"d":"092"},"0082",{"$nulls":16},"古賀市","Fukuoka Legal Affairs Bureau","福岡法務局"]
["Management of restaurants","レストランの経営",{"$nulls":6},{"v":93,"d":"093"},"0083",{"$nulls":16},"福津市","Fukuoka Legal Affairs Bureau","福岡法務局"]
["Owning, managing, operating and leasing tourist facilities","観光施設の所有、管理、運営及び貸借",null,"設立時取締役 13住所",{"$nulls":4},{"v":94,"d":"094"},"0084",{"$nulls":16},"うきは市","Fukuoka Legal Affairs Bureau","福岡法務局"]
["Owning, managing, operating and leasing leisure facilities","娯楽施設の所有、管理、運営及び貸借",null,"都道府県","市区町村","町域",null,null,{"v":95,"d":"095"},"0085",{"$nulls":16},"嘉麻市","Fukuoka Legal Affairs Bureau","福岡法務局"]
["Lease, management and operation of marine leisure facilities","海洋型娯楽施設の賃貸借、管理および経営",null,{"$f":"_xlfn.WEBSERVICE(\"https://api.excelapi.org/post/address?zipcode=\"&入力情報!$G$175&\"&parts=1\")","v":{"$error":"#VALUE!"}},{"$f":"_xlfn.WEBSERVICE(\"https://api.excelapi.org/post/address?zipcode=\"&入力情報!$G$175&\"&parts=2\")","v":{"$error":"#VALUE!"}},{"$f":"_xlfn.WEBSERVICE(\"https://api.excelapi.org/post/address?zipcode=\"&入力情報!$G$175&\"&parts=3\")","v":{"$error":"#VALUE!"}},null,null,{"v":96,"d":"096"},"0086",{"$nulls":16},"朝倉市","Fukuoka Legal Affairs Bureau","福岡法務局"]
["Lease, management and operation of sports facilities","スポーツ施設の賃貸借、管理および経営",null,{"$f":"PROPER(_xlfn.WEBSERVICE(\"https://api.excelapi.org/language/hira2roman?input=\"&_xlfn.ENCODEURL(D91)))","v":{"$error":"#VALUE!"}},{"$f":"PROPER(_xlfn.WEBSERVICE(\"https://api.excelapi.org/language/hira2roman?input=\"&_xlfn.ENCODEURL(E91)))","v":{"$error":"#VALUE!"}},{"$f":"IF(F91=\"\",\"\",PROPER(_xlfn.WEBSERVICE(\"https://api.excelapi.org/language/hira2roman?input=\"&_xlfn.ENCODEURL(F91))))","v":{"$error":"#VALUE!"}},null,null,{"v":97,"d":"097"},"0087",{"$nulls":16},"みやま市","Fukuoka Legal Affairs Bureau","福岡法務局"]
["Lease, management and operation of lodging facilities","宿泊施設の賃貸借、管理および経営",null,{"$f":"_xlfn.WEBSERVICE(\"https://api.excelapi.org/post/kana?zipcode=\"&入力情報!$G$175&\"&parts=1\")","v":{"$error":"#VALUE!"}},{"$f":"_xlfn.WEBSERVICE(\"https://api.excelapi.org/post/kana?zipcode=\"&入力情報!$G$175&\"&parts=2\")","v":{"$error":"#VALUE!"}},{"$f":"_xlfn.WEBSERVICE(\"https://api.excelapi.org/post/kana?zipcode=\"&入力情報!$G$175&\"&parts=3\")","v":{"$error":"#VALUE!"}},null,null,100,"0088",{"$nulls":16},"糸島市","Fukuoka Legal Affairs Bureau","福岡法務局"]
["Business related to ocean resources development","海洋資源開発に関する事業",{"$nulls":6},101,"0089",{"$nulls":16},"那珂川市","Fukuoka Legal Affairs Bureau","福岡法務局"]
["Business related to offshore facilities installation and operations","洋上設備設置・運営に関する事業",null,"設立時取締役 14住所",{"$nulls":4},102,"0090",{"$nulls":16},"糟屋郡宇美町","Fukuoka Legal Affairs Bureau","福岡法務局"]
["All businesses incidental to the preceding items.","前各号に付帯する一切の事業",null,"都道府県","市区町村","町域",null,null,103,"0091",{"$nulls":16},"糟屋郡篠栗町","Fukuoka Legal Affairs Bureau","福岡法務局"]
[{"$nulls":3},{"$f":"_xlfn.WEBSERVICE(\"https://api.excelapi.org/post/address?zipcode=\"&入力情報!$G$187&\"&parts=1\")","v":{"$error":"#VALUE!"}},{"$f":"_xlfn.WEBSERVICE(\"https://api.excelapi.org/post/address?zipcode=\"&入力情報!$G$187&\"&parts=2\")","v":{"$error":"#VALUE!"}},{"$f":"_xlfn.WEBSERVICE(\"https://api.excelapi.org/post/address?zipcode=\"&入力情報!$G$187&\"&parts=3\")","v":{"$error":"#VALUE!"}},null,null,104,"0092",{"$nulls":16},"糟屋郡志免町","Fukuoka Legal Affairs Bureau","福岡法務局"]
[{"$nulls":3},{"$f":"PROPER(_xlfn.WEBSERVICE(\"https://api.excelapi.org/language/hira2roman?input=\"&_xlfn.ENCODEURL(D97)))","v":{"$error":"#VALUE!"}},{"$f":"PROPER(_xlfn.WEBSERVICE(\"https://api.excelapi.org/language/hira2roman?input=\"&_xlfn.ENCODEURL(E97)))","v":{"$error":"#VALUE!"}},{"$f":"IF(F97=\"\",\"\",PROPER(_xlfn.WEBSERVICE(\"https://api.excelapi.org/language/hira2roman?input=\"&_xlfn.ENCODEURL(F97))))","v":{"$error":"#VALUE!"}},null,null,105,"0093",{"$nulls":16},"糟屋郡須恵町","Fukuoka Legal Affairs Bureau","福岡法務局"]
[{"$nulls":3},{"$f":"_xlfn.WEBSERVICE(\"https://api.excelapi.org/post/kana?zipcode=\"&入力情報!$G$187&\"&parts=1\")","v":{"$error":"#VALUE!"}},{"$f":"_xlfn.WEBSERVICE(\"https://api.excelapi.org/post/kana?zipcode=\"&入力情報!$G$187&\"&parts=2\")","v":{"$error":"#VALUE!"}},{"$f":"_xlfn.WEBSERVICE(\"https://api.excelapi.org/post/kana?zipcode=\"&入力情報!$G$187&\"&parts=3\")","v":{"$error":"#VALUE!"}},null,null,106,"0094",{"$nulls":16},"糟屋郡新宮町","Fukuoka Legal Affairs Bureau","福岡法務局"]
[{"$nulls":8},108,"0095",{"$nulls":16},"糟屋郡久山町","Fukuoka Legal Affairs Bureau","福岡法務局"]
[{"$nulls":3},"設立時取締役 15住所",{"$nulls":4},110,"0096",{"$nulls":16},"糟屋郡粕屋町","Fukuoka Legal Affairs Bureau","福岡法務局"]
[{"$nulls":3},"都道府県","市区町村","町域",null,null,111,"0097",{"$nulls":16},"嘉穂郡桂川町","Fukuoka Legal Affairs Bureau","福岡法務局"]
[{"$nulls":3},{"$f":"_xlfn.WEBSERVICE(\"https://api.excelapi.org/post/address?zipcode=\"&入力情報!$G$199&\"&parts=1\")","v":{"$error":"#VALUE!"}},{"$f":"_xlfn.WEBSERVICE(\"https://api.excelapi.org/post/address?zipcode=\"&入力情報!$G$199&\"&parts=2\")","v":{"$error":"#VALUE!"}},{"$f":"_xlfn.WEBSERVICE(\"https://api.excelapi.org/post/address?zipcode=\"&入力情報!$G$199&\"&parts=3\")","v":{"$error":"#VALUE!"}},null,null,112,"0098",{"$nulls":16},"朝倉郡筑前町","Fukuoka Legal Affairs Bureau","福岡法務局"]
[{"$nulls":3},{"$f":"PROPER(_xlfn.WEBSERVICE(\"https://api.excelapi.org/language/hira2roman?input=\"&_xlfn.ENCODEURL(D103)))","v":{"$error":"#VALUE!"}},{"$f":"PROPER(_xlfn.WEBSERVICE(\"https://api.excelapi.org/language/hira2roman?input=\"&_xlfn.ENCODEURL(E103)))","v":{"$error":"#VALUE!"}},{"$f":"IF(F103=\"\",\"\",PROPER(_xlfn.WEBSERVICE(\"https://api.excelapi.org/language/hira2roman?input=\"&_xlfn.ENCODEURL(F103))))","v":{"$error":"#VALUE!"}},null,null,113,"0099",{"$nulls":16},"朝倉郡東峰村","Fukuoka Legal Affairs Bureau","福岡法務局"]
[{"$nulls":3},{"$f":"_xlfn.WEBSERVICE(\"https://api.excelapi.org/post/kana?zipcode=\"&入力情報!$G$199&\"&parts=1\")","v":{"$error":"#VALUE!"}},{"$f":"_xlfn.WEBSERVICE(\"https://api.excelapi.org/post/kana?zipcode=\"&入力情報!$G$199&\"&parts=2\")","v":{"$error":"#VALUE!"}},{"$f":"_xlfn.WEBSERVICE(\"https://api.excelapi.org/post/kana?zipcode=\"&入力情報!$G$199&\"&parts=3\")","v":{"$error":"#VALUE!"}},null,null,114,"0100",{"$nulls":16},"三井郡大刀洗町","Fukuoka Legal Affairs Bureau","福岡法務局"]
[{"$nulls":8},115,"0101",{"$nulls":16},"三潴郡大木町","Fukuoka Legal Affairs Bureau","福岡法務局"]
[{"$nulls":3},"設立時取締役 16住所",{"$nulls":4},116,"0102",{"$nulls":16},"八女郡広川町","Fukuoka Legal Affairs Bureau","福岡法務局"]
[{"$nulls":3},"都道府県","市区町村","町域",null,null,120,"0103",{"$nulls":16},"札幌市","Sapporo Legal Affairs Bureau","札幌法務局"]
[{"$nulls":3},{"$f":"_xlfn.WEBSERVICE(\"https://api.excelapi.org/post/address?zipcode=\"&入力情報!$G$211&\"&parts=1\")","v":{"$error":"#VALUE!"}},{"$f":"_xlfn.WEBSERVICE(\"https://api.excelapi.org/post/address?zipcode=\"&入力情報!$G$211&\"&parts=2\")","v":{"$error":"#VALUE!"}},{"$f":"_xlfn.WEBSERVICE(\"https://api.excelapi.org/post/address?zipcode=\"&入力情報!$G$211&\"&parts=3\")","v":{"$error":"#VALUE!"}},null,null,121,"0104",{"$nulls":16},"石狩市","Sapporo Legal Affairs Bureau","札幌法務局"]
[{"$nulls":3},{"$f":"PROPER(_xlfn.WEBSERVICE(\"https://api.excelapi.org/language/hira2roman?input=\"&_xlfn.ENCODEURL(D109)))","v":{"$error":"#VALUE!"}},{"$f":"PROPER(_xlfn.WEBSERVICE(\"https://api.excelapi.org/language/hira2roman?input=\"&_xlfn.ENCODEURL(E109)))","v":{"$error":"#VALUE!"}},{"$f":"IF(F109=\"\",\"\",PROPER(_xlfn.WEBSERVICE(\"https://api.excelapi.org/language/hira2roman?input=\"&_xlfn.ENCODEURL(F109))))","v":{"$error":"#VALUE!"}},null,null,123,"0105",{"$nulls":16},"北広島市","Sapporo Legal Affairs Bureau","札幌法務局"]
[{"$nulls":3},{"$f":"_xlfn.WEBSERVICE(\"https://api.excelapi.org/post/kana?zipcode=\"&入力情報!$G$211&\"&parts=1\")","v":{"$error":"#VALUE!"}},{"$f":"_xlfn.WEBSERVICE(\"https://api.excelapi.org/post/kana?zipcode=\"&入力情報!$G$211&\"&parts=2\")","v":{"$error":"#VALUE!"}},{"$f":"_xlfn.WEBSERVICE(\"https://api.excelapi.org/post/kana?zipcode=\"&入力情報!$G$211&\"&parts=3\")","v":{"$error":"#VALUE!"}},null,null,124,"0106",{"$nulls":16},"江別市","Sapporo Legal Affairs Bureau","札幌法務局"]
[{"$nulls":8},125,"0107",{"$nulls":16},"恵庭市","Sapporo Legal Affairs Bureau","札幌法務局"]
[{"$nulls":3},"設立時取締役 17住所",{"$nulls":4},130,"0108",{"$nulls":16},"千歳市","Sapporo Legal Affairs Bureau","札幌法務局"]
[{"$nulls":3},"都道府県","市区町村","町域",null,null,131,"0109",{"$nulls":16},"岩見沢市","Sapporo Legal Affairs Bureau","札幌法務局"]
[{"$nulls":3},{"$f":"_xlfn.WEBSERVICE(\"https://api.excelapi.org/post/address?zipcode=\"&入力情報!$G$223&\"&parts=1\")","v":{"$error":"#VALUE!"}},{"$f":"_xlfn.WEBSERVICE(\"https://api.excelapi.org/post/address?zipcode=\"&入力情報!$G$223&\"&parts=2\")","v":{"$error":"#VALUE!"}},{"$f":"_xlfn.WEBSERVICE(\"https://api.excelapi.org/post/address?zipcode=\"&入力情報!$G$223&\"&parts=3\")","v":{"$error":"#VALUE!"}},null,null,132,"0110",{"$nulls":16},"三笠市","Sapporo Legal Affairs Bureau","札幌法務局"]
[{"$nulls":3},{"$f":"PROPER(_xlfn.WEBSERVICE(\"https://api.excelapi.org/language/hira2roman?input=\"&_xlfn.ENCODEURL(D115)))","v":{"$error":"#VALUE!"}},{"$f":"PROPER(_xlfn.WEBSERVICE(\"https://api.excelapi.org/language/hira2roman?input=\"&_xlfn.ENCODEURL(E115)))","v":{"$error":"#VALUE!"}},{"$f":"IF(F115=\"\",\"\",PROPER(_xlfn.WEBSERVICE(\"https://api.excelapi.org/language/hira2roman?input=\"&_xlfn.ENCODEURL(F115))))","v":{"$error":"#VALUE!"}},null,null,133,"0111",{"$nulls":16},"美唄市","Sapporo Legal Affairs Bureau","札幌法務局"]
[{"$nulls":3},{"$f":"_xlfn.WEBSERVICE(\"https://api.excelapi.org/post/kana?zipcode=\"&入力情報!$G$223&\"&parts=1\")","v":{"$error":"#VALUE!"}},{"$f":"_xlfn.WEBSERVICE(\"https://api.excelapi.org/post/kana?zipcode=\"&入力情報!$G$223&\"&parts=2\")","v":{"$error":"#VALUE!"}},{"$f":"_xlfn.WEBSERVICE(\"https://api.excelapi.org/post/kana?zipcode=\"&入力情報!$G$223&\"&parts=3\")","v":{"$error":"#VALUE!"}},null,null,134,"0112",{"$nulls":16},"夕張市","Sapporo Legal Affairs Bureau","札幌法務局"]
[{"$nulls":8},135,"0113",{"$nulls":16},"滝川市","Sapporo Legal Affairs Bureau","札幌法務局"]
[{"$nulls":3},"設立時取締役 18住所",{"$nulls":4},136,"0114",{"$nulls":16},"砂川市","Sapporo Legal Affairs Bureau","札幌法務局"]
[{"$nulls":3},"都道府県","市区町村","町域",null,null,140,"0115",{"$nulls":16},"歌志内市","Sapporo Legal Affairs Bureau","札幌法務局"]
[{"$nulls":3},{"$f":"_xlfn.WEBSERVICE(\"https://api.excelapi.org/post/address?zipcode=\"&入力情報!$G$235&\"&parts=1\")","v":{"$error":"#VALUE!"}},{"$f":"_xlfn.WEBSERVICE(\"https://api.excelapi.org/post/address?zipcode=\"&入力情報!$G$235&\"&parts=2\")","v":{"$error":"#VALUE!"}},{"$f":"_xlfn.WEBSERVICE(\"https://api.excelapi.org/post/address?zipcode=\"&入力情報!$G$235&\"&parts=3\")","v":{"$error":"#VALUE!"}},null,null,141,"0116",{"$nulls":16},"芦別市","Sapporo Legal Affairs Bureau","札幌法務局"]
[{"$nulls":3},{"$f":"PROPER(_xlfn.WEBSERVICE(\"https://api.excelapi.org/language/hira2roman?input=\"&_xlfn.ENCODEURL(D121)))","v":{"$error":"#VALUE!"}},{"$f":"PROPER(_xlfn.WEBSERVICE(\"https://api.excelapi.org/language/hira2roman?input=\"&_xlfn.ENCODEURL(E121)))","v":{"$error":"#VALUE!"}},{"$f":"IF(F121=\"\",\"\",PROPER(_xlfn.WEBSERVICE(\"https://api.excelapi.org/language/hira2roman?input=\"&_xlfn.ENCODEURL(F121))))","v":{"$error":"#VALUE!"}},null,null,142,"0117",{"$nulls":16},"赤平市","Sapporo Legal Affairs Bureau","札幌法務局"]
[{"$nulls":3},{"$f":"_xlfn.WEBSERVICE(\"https://api.excelapi.org/post/kana?zipcode=\"&入力情報!$G$235&\"&parts=1\")","v":{"$error":"#VALUE!"}},{"$f":"_xlfn.WEBSERVICE(\"https://api.excelapi.org/post/kana?zipcode=\"&入力情報!$G$235&\"&parts=2\")","v":{"$error":"#VALUE!"}},{"$f":"_xlfn.WEBSERVICE(\"https://api.excelapi.org/post/kana?zipcode=\"&入力情報!$G$235&\"&parts=3\")","v":{"$error":"#VALUE!"}},null,null,143,"0118",{"$nulls":16},"室蘭市","Sapporo Legal Affairs Bureau","札幌法務局"]
[{"$nulls":8},144,"0119",{"$nulls":16},"登別市","Sapporo Legal Affairs Bureau","札幌法務局"]
[{"$nulls":3},"設立時取締役 19住所",{"$nulls":4},145,"0120",{"$nulls":16},"伊達市","Sapporo Legal Affairs Bureau","札幌法務局"]
[{"$nulls":3},"都道府県","市区町村","町域",null,null,146,"0121",{"$nulls":16},"苫小牧市","Sapporo Legal Affairs Bureau","札幌法務局"]
[{"$nulls":3},{"$f":"_xlfn.WEBSERVICE(\"https://api.excelapi.org/post/address?zipcode=\"&入力情報!$G$247&\"&parts=1\")","v":{"$error":"#VALUE!"}},{"$f":"_xlfn.WEBSERVICE(\"https://api.excelapi.org/post/address?zipcode=\"&入力情報!$G$247&\"&parts=2\")","v":{"$error":"#VALUE!"}},{"$f":"_xlfn.WEBSERVICE(\"https://api.excelapi.org/post/address?zipcode=\"&入力情報!$G$247&\"&parts=3\")","v":{"$error":"#VALUE!"}},null,null,150,"0122",{"$nulls":16},"小樽市","Sapporo Legal Affairs Bureau","札幌法務局"]
[{"$nulls":3},{"$f":"PROPER(_xlfn.WEBSERVICE(\"https://api.excelapi.org/language/hira2roman?input=\"&_xlfn.ENCODEURL(D127)))","v":{"$error":"#VALUE!"}},{"$f":"PROPER(_xlfn.WEBSERVICE(\"https://api.excelapi.org/language/hira2roman?input=\"&_xlfn.ENCODEURL(E127)))","v":{"$error":"#VALUE!"}},{"$f":"IF(F127=\"\",\"\",PROPER(_xlfn.WEBSERVICE(\"https://api.excelapi.org/language/hira2roman?input=\"&_xlfn.ENCODEURL(F127))))","v":{"$error":"#VALUE!"}},null,null,151,"0123",{"$nulls":16},"石狩郡当別町","Sapporo Legal Affairs Bureau","札幌法務局"]
[{"$nulls":3},{"$f":"_xlfn.WEBSERVICE(\"https://api.excelapi.org/post/kana?zipcode=\"&入力情報!$G$247&\"&parts=1\")","v":{"$error":"#VALUE!"}},{"$f":"_xlfn.WEBSERVICE(\"https://api.excelapi.org/post/kana?zipcode=\"&入力情報!$G$247&\"&parts=2\")","v":{"$error":"#VALUE!"}},{"$f":"_xlfn.WEBSERVICE(\"https://api.excelapi.org/post/kana?zipcode=\"&入力情報!$G$247&\"&parts=3\")","v":{"$error":"#VALUE!"}},null,null,152,"0124",{"$nulls":16},"石狩郡新篠津村","Sapporo Legal Affairs Bureau","札幌法務局"]
[{"$nulls":8},153,"0125",{"$nulls":16},"樺戸郡月形町","Sapporo Legal Affairs Bureau","札幌法務局"]
[{"$nulls":3},"設立時取締役 20住所",{"$nulls":4},154,"0126",{"$nulls":16},"樺戸郡新十津川町","Sapporo Legal Affairs Bureau","札幌法務局"]
[{"$nulls":3},"都道府県","市区町村","町域",null,null,155,"0127",{"$nulls":16},"樺戸郡浦臼町","Sapporo Legal Affairs Bureau","札幌法務局"]
[{"$nulls":3},{"$f":"_xlfn.WEBSERVICE(\"https://api.excelapi.org/post/address?zipcode=\"&入力情報!$G$259&\"&parts=1\")","v":{"$error":"#VALUE!"}},{"$f":"_xlfn.WEBSERVICE(\"https://api.excelapi.org/post/address?zipcode=\"&入力情報!$G$259&\"&parts=2\")","v":{"$error":"#VALUE!"}},{"$f":"_xlfn.WEBSERVICE(\"https://api.excelapi.org/post/address?zipcode=\"&入力情報!$G$259&\"&parts=3\")","v":{"$error":"#VALUE!"}},null,null,156,"0128",{"$nulls":16},"夕張郡長沼町","Sapporo Legal Affairs Bureau","札幌法務局"]
[{"$nulls":3},{"$f":"PROPER(_xlfn.WEBSERVICE(\"https://api.excelapi.org/language/hira2roman?input=\"&_xlfn.ENCODEURL(D133)))","v":{"$error":"#VALUE!"}},{"$f":"PROPER(_xlfn.WEBSERVICE(\"https://api.excelapi.org/language/hira2roman?input=\"&_xlfn.ENCODEURL(E133)))","v":{"$error":"#VALUE!"}},{"$f":"IF(F133=\"\",\"\",PROPER(_xlfn.WEBSERVICE(\"https://api.excelapi.org/language/hira2roman?input=\"&_xlfn.ENCODEURL(F133))))","v":{"$error":"#VALUE!"}},null,null,157,"0129",{"$nulls":16},"夕張郡由仁町","Sapporo Legal Affairs Bureau","札幌法務局"]
[{"$nulls":3},{"$f":"_xlfn.WEBSERVICE(\"https://api.excelapi.org/post/kana?zipcode=\"&入力情報!$G$259&\"&parts=1\")","v":{"$error":"#VALUE!"}},{"$f":"_xlfn.WEBSERVICE(\"https://api.excelapi.org/post/kana?zipcode=\"&入力情報!$G$259&\"&parts=2\")","v":{"$error":"#VALUE!"}},{"$f":"_xlfn.WEBSERVICE(\"https://api.excelapi.org/post/kana?zipcode=\"&入力情報!$G$259&\"&parts=3\")","v":{"$error":"#VALUE!"}},null,null,158,"0130",{"$nulls":16},"夕張郡栗山町","Sapporo Legal Affairs Bureau","札幌法務局"]
[{"$nulls":8},160,"0131",{"$nulls":16},"空知郡南幌町","Sapporo Legal Affairs Bureau","札幌法務局"]
[{"$nulls":3},"設立時取締役 21住所",{"$nulls":4},161,"0132",{"$nulls":16},"空知郡奈井江町","Sapporo Legal Affairs Bureau","札幌法務局"]
[{"$nulls":3},"都道府県","市区町村","町域",null,null,162,"0133",{"$nulls":16},"空知郡上砂川町","Sapporo Legal Affairs Bureau","札幌法務局"]
[{"$nulls":3},{"$f":"_xlfn.WEBSERVICE(\"https://api.excelapi.org/post/address?zipcode=\"&入力情報!$G$271&\"&parts=1\")","v":{"$error":"#VALUE!"}},{"$f":"_xlfn.WEBSERVICE(\"https://api.excelapi.org/post/address?zipcode=\"&入力情報!$G$271&\"&parts=2\")","v":{"$error":"#VALUE!"}},{"$f":"_xlfn.WEBSERVICE(\"https://api.excelapi.org/post/address?zipcode=\"&入力情報!$G$271&\"&parts=3\")","v":{"$error":"#VALUE!"}},null,null,164,"0134",{"$nulls":16},"雨竜郡雨竜町","Sapporo Legal Affairs Bureau","札幌法務局"]
[{"$nulls":3},{"$f":"PROPER(_xlfn.WEBSERVICE(\"https://api.excelapi.org/language/hira2roman?input=\"&_xlfn.ENCODEURL(D139)))","v":{"$error":"#VALUE!"}},{"$f":"PROPER(_xlfn.WEBSERVICE(\"https://api.excelapi.org/language/hira2roman?input=\"&_xlfn.ENCODEURL(E139)))","v":{"$error":"#VALUE!"}},{"$f":"IF(F139=\"\",\"\",PROPER(_xlfn.WEBSERVICE(\"https://api.excelapi.org/language/hira2roman?input=\"&_xlfn.ENCODEURL(F139))))","v":{"$error":"#VALUE!"}},null,null,165,"0135",{"$nulls":16},"虻田郡洞爺湖町","Sapporo Legal Affairs Bureau","札幌法務局"]
[{"$nulls":3},{"$f":"_xlfn.WEBSERVICE(\"https://api.excelapi.org/post/kana?zipcode=\"&入力情報!$G$271&\"&parts=1\")","v":{"$error":"#VALUE!"}},{"$f":"_xlfn.WEBSERVICE(\"https://api.excelapi.org/post/kana?zipcode=\"&入力情報!$G$271&\"&parts=2\")","v":{"$error":"#VALUE!"}},{"$f":"_xlfn.WEBSERVICE(\"https://api.excelapi.org/post/kana?zipcode=\"&入力情報!$G$271&\"&parts=3\")","v":{"$error":"#VALUE!"}},null,null,166,"0136",{"$nulls":16},"虻田郡豊浦町","Sapporo Legal Affairs Bureau","札幌法務局"]
[{"$nulls":8},167,"0137",{"$nulls":16},"虻田郡倶知安町","Sapporo Legal Affairs Bureau","札幌法務局"]
[{"$nulls":3},"設立時取締役 22住所",{"$nulls":4},168,"0138",{"$nulls":16},"虻田郡京極町","Sapporo Legal Affairs Bureau","札幌法務局"]
[{"$nulls":3},"都道府県","市区町村","町域",null,null,169,"0139",{"$nulls":16},"虻田郡ニセコ町","Sapporo Legal Affairs Bureau","札幌法務局"]
[{"$nulls":3},{"$f":"_xlfn.WEBSERVICE(\"https://api.excelapi.org/post/address?zipcode=\"&入力情報!$G$283&\"&parts=1\")","v":{"$error":"#VALUE!"}},{"$f":"_xlfn.WEBSERVICE(\"https://api.excelapi.org/post/address?zipcode=\"&入力情報!$G$283&\"&parts=2\")","v":{"$error":"#VALUE!"}},{"$f":"_xlfn.WEBSERVICE(\"https://api.excelapi.org/post/address?zipcode=\"&入力情報!$G$283&\"&parts=3\")","v":{"$error":"#VALUE!"}},null,null,170,"0140",{"$nulls":16},"虻田郡留寿都村","Sapporo Legal Affairs Bureau","札幌法務局"]
[{"$nulls":3},{"$f":"PROPER(_xlfn.WEBSERVICE(\"https://api.excelapi.org/language/hira2roman?input=\"&_xlfn.ENCODEURL(D145)))","v":{"$error":"#VALUE!"}},{"$f":"PROPER(_xlfn.WEBSERVICE(\"https://api.excelapi.org/language/hira2roman?input=\"&_xlfn.ENCODEURL(E145)))","v":{"$error":"#VALUE!"}},{"$f":"IF(F145=\"\",\"\",PROPER(_xlfn.WEBSERVICE(\"https://api.excelapi.org/language/hira2roman?input=\"&_xlfn.ENCODEURL(F145))))","v":{"$error":"#VALUE!"}},null,null,171,"0141",{"$nulls":16},"虻田郡真狩村","Sapporo Legal Affairs Bureau","札幌法務局"]
[{"$nulls":3},{"$f":"_xlfn.WEBSERVICE(\"https://api.excelapi.org/post/kana?zipcode=\"&入力情報!$G$283&\"&parts=1\")","v":{"$error":"#VALUE!"}},{"$f":"_xlfn.WEBSERVICE(\"https://api.excelapi.org/post/kana?zipcode=\"&入力情報!$G$283&\"&parts=2\")","v":{"$error":"#VALUE!"}},{"$f":"_xlfn.WEBSERVICE(\"https://api.excelapi.org/post/kana?zipcode=\"&入力情報!$G$283&\"&parts=3\")","v":{"$error":"#VALUE!"}},null,null,173,"0142",{"$nulls":16},"虻田郡喜茂別町","Sapporo Legal Affairs Bureau","札幌法務局"]
[{"$nulls":8},174,"0143",{"$nulls":16},"有珠郡壮瞥町","Sapporo Legal Affairs Bureau","札幌法務局"]
[{"$nulls":3},"設立時取締役 23住所",{"$nulls":4},175,"0144",{"$nulls":16},"白老郡白老町","Sapporo Legal Affairs Bureau","札幌法務局"]
[{"$nulls":3},"都道府県","市区町村","町域",null,null,176,"0145",{"$nulls":16},"勇払郡厚真町","Sapporo Legal Affairs Bureau","札幌法務局"]
[{"$nulls":3},{"$f":"_xlfn.WEBSERVICE(\"https://api.excelapi.org/post/address?zipcode=\"&入力情報!$G$295&\"&parts=1\")","v":{"$error":"#VALUE!"}},{"$f":"_xlfn.WEBSERVICE(\"https://api.excelapi.org/post/address?zipcode=\"&入力情報!$G$295&\"&parts=2\")","v":{"$error":"#VALUE!"}},{"$f":"_xlfn.WEBSERVICE(\"https://api.excelapi.org/post/address?zipcode=\"&入力情報!$G$295&\"&parts=3\")","v":{"$error":"#VALUE!"}},null,null,177,"0146",{"$nulls":16},"勇払郡安平町","Sapporo Legal Affairs Bureau","札幌法務局"]
[{"$nulls":3},{"$f":"PROPER(_xlfn.WEBSERVICE(\"https://api.excelapi.org/language/hira2roman?input=\"&_xlfn.ENCODEURL(D151)))","v":{"$error":"#VALUE!"}},{"$f":"PROPER(_xlfn.WEBSERVICE(\"https://api.excelapi.org/language/hira2roman?input=\"&_xlfn.ENCODEURL(E151)))","v":{"$error":"#VALUE!"}},{"$f":"IF(F151=\"\",\"\",PROPER(_xlfn.WEBSERVICE(\"https://api.excelapi.org/language/hira2roman?input=\"&_xlfn.ENCODEURL(F151))))","v":{"$error":"#VALUE!"}},null,null,178,"0147",{"$nulls":16},"勇払郡むかわ町","Sapporo Legal Affairs Bureau","札幌法務局"]
[{"$nulls":3},{"$f":"_xlfn.WEBSERVICE(\"https://api.excelapi.org/post/kana?zipcode=\"&入力情報!$G$295&\"&parts=1\")","v":{"$error":"#VALUE!"}},{"$f":"_xlfn.WEBSERVICE(\"https://api.excelapi.org/post/kana?zipcode=\"&入力情報!$G$295&\"&parts=2\")","v":{"$error":"#VALUE!"}},{"$f":"_xlfn.WEBSERVICE(\"https://api.excelapi.org/post/kana?zipcode=\"&入力情報!$G$295&\"&parts=3\")","v":{"$error":"#VALUE!"}},null,null,179,"0148",{"$nulls":16},"浦河郡浦河町","Sapporo Legal Affairs Bureau","札幌法務局"]
[{"$nulls":8},180,"0149",{"$nulls":16},"様似郡様似町","Sapporo Legal Affairs Bureau","札幌法務局"]
[{"$nulls":3},"設立時取締役 24住所",{"$nulls":4},181,"0150",{"$nulls":16},"幌泉郡えりも町","Sapporo Legal Affairs Bureau","札幌法務局"]
[{"$nulls":3},"都道府県","市区町村","町域",null,null,182,"0151",{"$nulls":16},"新冠郡新冠町","Sapporo Legal Affairs Bureau","札幌法務局"]
[{"$nulls":3},{"$f":"_xlfn.WEBSERVICE(\"https://api.excelapi.org/post/address?zipcode=\"&入力情報!$G$307&\"&parts=1\")","v":{"$error":"#VALUE!"}},{"$f":"_xlfn.WEBSERVICE(\"https://api.excelapi.org/post/address?zipcode=\"&入力情報!$G$307&\"&parts=2\")","v":{"$error":"#VALUE!"}},{"$f":"_xlfn.WEBSERVICE(\"https://api.excelapi.org/post/address?zipcode=\"&入力情報!$G$307&\"&parts=3\")","v":{"$error":"#VALUE!"}},null,null,183,"0152",{"$nulls":16},"沙流郡平取町","Sapporo Legal Affairs Bureau","札幌法務局"]
[{"$nulls":3},{"$f":"PROPER(_xlfn.WEBSERVICE(\"https://api.excelapi.org/language/hira2roman?input=\"&_xlfn.ENCODEURL(D157)))","v":{"$error":"#VALUE!"}},{"$f":"PROPER(_xlfn.WEBSERVICE(\"https://api.excelapi.org/language/hira2roman?input=\"&_xlfn.ENCODEURL(E157)))","v":{"$error":"#VALUE!"}},{"$f":"IF(F157=\"\",\"\",PROPER(_xlfn.WEBSERVICE(\"https://api.excelapi.org/language/hira2roman?input=\"&_xlfn.ENCODEURL(F157))))","v":{"$error":"#VALUE!"}},null,null,184,"0153",{"$nulls":16},"沙流郡日高町","Sapporo Legal Affairs Bureau","札幌法務局"]
[{"$nulls":3},{"$f":"_xlfn.WEBSERVICE(\"https://api.excelapi.org/post/kana?zipcode=\"&入力情報!$G$307&\"&parts=1\")","v":{"$error":"#VALUE!"}},{"$f":"_xlfn.WEBSERVICE(\"https://api.excelapi.org/post/kana?zipcode=\"&入力情報!$G$307&\"&parts=2\")","v":{"$error":"#VALUE!"}},{"$f":"_xlfn.WEBSERVICE(\"https://api.excelapi.org/post/kana?zipcode=\"&入力情報!$G$307&\"&parts=3\")","v":{"$error":"#VALUE!"}},null,null,185,"0154",{"$nulls":16},"日高郡新ひだか町","Sapporo Legal Affairs Bureau","札幌法務局"]
[{"$nulls":8},186,"0155",{"$nulls":16},"余市郡余市町","Sapporo Legal Affairs Bureau","札幌法務局"]
[{"$nulls":3},"設立時取締役 25住所",{"$nulls":4},187,"0156",{"$nulls":16},"余市郡仁木町","Sapporo Legal Affairs Bureau","札幌法務局"]
[{"$nulls":3},"都道府県","市区町村","町域",null,null,188,"0157",{"$nulls":16},"余市郡赤井川村","Sapporo Legal Affairs Bureau","札幌法務局"]
[{"$nulls":3},{"$f":"_xlfn.WEBSERVICE(\"https://api.excelapi.org/post/address?zipcode=\"&入力情報!$G$319&\"&parts=1\")","v":{"$error":"#VALUE!"}},{"$f":"_xlfn.WEBSERVICE(\"https://api.excelapi.org/post/address?zipcode=\"&入力情報!$G$319&\"&parts=2\")","v":{"$error":"#VALUE!"}},{"$f":"_xlfn.WEBSERVICE(\"https://api.excelapi.org/post/address?zipcode=\"&入力情報!$G$319&\"&parts=3\")","v":{"$error":"#VALUE!"}},null,null,189,"0158",{"$nulls":16},"古平郡古平町","Sapporo Legal Affairs Bureau","札幌法務局"]
[{"$nulls":3},{"$f":"PROPER(_xlfn.WEBSERVICE(\"https://api.excelapi.org/language/hira2roman?input=\"&_xlfn.ENCODEURL(D163)))","v":{"$error":"#VALUE!"}},{"$f":"PROPER(_xlfn.WEBSERVICE(\"https://api.excelapi.org/language/hira2roman?input=\"&_xlfn.ENCODEURL(E163)))","v":{"$error":"#VALUE!"}},{"$f":"IF(F163=\"\",\"\",PROPER(_xlfn.WEBSERVICE(\"https://api.excelapi.org/language/hira2roman?input=\"&_xlfn.ENCODEURL(F163))))","v":{"$error":"#VALUE!"}},null,null,190,"0159",{"$nulls":16},"積丹郡積丹町","Sapporo Legal Affairs Bureau","札幌法務局"]
[{"$nulls":3},{"$f":"_xlfn.WEBSERVICE(\"https://api.excelapi.org/post/kana?zipcode=\"&入力情報!$G$319&\"&parts=1\")","v":{"$error":"#VALUE!"}},{"$f":"_xlfn.WEBSERVICE(\"https://api.excelapi.org/post/kana?zipcode=\"&入力情報!$G$319&\"&parts=2\")","v":{"$error":"#VALUE!"}},{"$f":"_xlfn.WEBSERVICE(\"https://api.excelapi.org/post/kana?zipcode=\"&入力情報!$G$319&\"&parts=3\")","v":{"$error":"#VALUE!"}},null,null,191,"0160",{"$nulls":16},"磯谷郡蘭越町","Sapporo Legal Affairs Bureau","札幌法務局"]
[{"$nulls":8},192,"0161",{"$nulls":16},"岩内郡岩内町","Sapporo Legal Affairs Bureau","札幌法務局"]
[{"$nulls":3},"設立時取締役 26住所",{"$nulls":4},193,"0162",{"$nulls":16},"岩内郡共和町","Sapporo Legal Affairs Bureau","札幌法務局"]
[{"$nulls":3},"都道府県","市区町村","町域",null,null,194,"0163",{"$nulls":16},"古宇郡泊村","Sapporo Legal Affairs Bureau","札幌法務局"]
[{"$nulls":3},{"$f":"_xlfn.WEBSERVICE(\"https://api.excelapi.org/post/address?zipcode=\"&入力情報!$G$331&\"&parts=1\")","v":{"$error":"#VALUE!"}},{"$f":"_xlfn.WEBSERVICE(\"https://api.excelapi.org/post/address?zipcode=\"&入力情報!$G$331&\"&parts=2\")","v":{"$error":"#VALUE!"}},{"$f":"_xlfn.WEBSERVICE(\"https://api.excelapi.org/post/address?zipcode=\"&入力情報!$G$331&\"&parts=3\")","v":{"$error":"#VALUE!"}},null,null,195,"0164",{"$nulls":16},"古宇郡神恵内村","Sapporo Legal Affairs Bureau","札幌法務局"]
[{"$nulls":3},{"$f":"PROPER(_xlfn.WEBSERVICE(\"https://api.excelapi.org/language/hira2roman?input=\"&_xlfn.ENCODEURL(D169)))","v":{"$error":"#VALUE!"}},{"$f":"PROPER(_xlfn.WEBSERVICE(\"https://api.excelapi.org/language/hira2roman?input=\"&_xlfn.ENCODEURL(E169)))","v":{"$error":"#VALUE!"}},{"$f":"IF(F169=\"\",\"\",PROPER(_xlfn.WEBSERVICE(\"https://api.excelapi.org/language/hira2roman?input=\"&_xlfn.ENCODEURL(F169))))","v":{"$error":"#VALUE!"}},null,null,196,"0165"]
[{"$nulls":3},{"$f":"_xlfn.WEBSERVICE(\"https://api.excelapi.org/post/kana?zipcode=\"&入力情報!$G$331&\"&parts=1\")","v":{"$error":"#VALUE!"}},{"$f":"_xlfn.WEBSERVICE(\"https://api.excelapi.org/post/kana?zipcode=\"&入力情報!$G$331&\"&parts=2\")","v":{"$error":"#VALUE!"}},{"$f":"_xlfn.WEBSERVICE(\"https://api.excelapi.org/post/kana?zipcode=\"&入力情報!$G$331&\"&parts=3\")","v":{"$error":"#VALUE!"}},null,null,197,"0166"]
[{"$nulls":8},198,"0167"]
[{"$nulls":3},"設立時取締役 27住所",{"$nulls":4},199,"0168"]
[{"$nulls":3},"都道府県","市区町村","町域",null,null,200,"0169"]
[{"$nulls":3},{"$f":"_xlfn.WEBSERVICE(\"https://api.excelapi.org/post/address?zipcode=\"&入力情報!$G$343&\"&parts=1\")","v":{"$error":"#VALUE!"}},{"$f":"_xlfn.WEBSERVICE(\"https://api.excelapi.org/post/address?zipcode=\"&入力情報!$G$343&\"&parts=2\")","v":{"$error":"#VALUE!"}},{"$f":"_xlfn.WEBSERVICE(\"https://api.excelapi.org/post/address?zipcode=\"&入力情報!$G$343&\"&parts=3\")","v":{"$error":"#VALUE!"}},null,null,201,"0170"]
[{"$nulls":3},{"$f":"PROPER(_xlfn.WEBSERVICE(\"https://api.excelapi.org/language/hira2roman?input=\"&_xlfn.ENCODEURL(D175)))","v":{"$error":"#VALUE!"}},{"$f":"PROPER(_xlfn.WEBSERVICE(\"https://api.excelapi.org/language/hira2roman?input=\"&_xlfn.ENCODEURL(E175)))","v":{"$error":"#VALUE!"}},{"$f":"IF(F175=\"\",\"\",PROPER(_xlfn.WEBSERVICE(\"https://api.excelapi.org/language/hira2roman?input=\"&_xlfn.ENCODEURL(F175))))","v":{"$error":"#VALUE!"}},null,null,202,"0171"]
[{"$nulls":3},{"$f":"_xlfn.WEBSERVICE(\"https://api.excelapi.org/post/kana?zipcode=\"&入力情報!$G$343&\"&parts=1\")","v":{"$error":"#VALUE!"}},{"$f":"_xlfn.WEBSERVICE(\"https://api.excelapi.org/post/kana?zipcode=\"&入力情報!$G$343&\"&parts=2\")","v":{"$error":"#VALUE!"}},{"$f":"_xlfn.WEBSERVICE(\"https://api.excelapi.org/post/kana?zipcode=\"&入力情報!$G$343&\"&parts=3\")","v":{"$error":"#VALUE!"}},null,null,203,"0172"]
[{"$nulls":8},204,"0173"]
[{"$nulls":3},"設立時取締役 28住所",{"$nulls":4},205,"0174"]
[{"$nulls":3},"都道府県","市区町村","町域",null,null,206,"0175"]
[{"$nulls":3},{"$f":"_xlfn.WEBSERVICE(\"https://api.excelapi.org/post/address?zipcode=\"&入力情報!$G$355&\"&parts=1\")","v":{"$error":"#VALUE!"}},{"$f":"_xlfn.WEBSERVICE(\"https://api.excelapi.org/post/address?zipcode=\"&入力情報!$G$355&\"&parts=2\")","v":{"$error":"#VALUE!"}},{"$f":"_xlfn.WEBSERVICE(\"https://api.excelapi.org/post/address?zipcode=\"&入力情報!$G$355&\"&parts=3\")","v":{"$error":"#VALUE!"}},null,null,207,"0176"]
[{"$nulls":3},{"$f":"PROPER(_xlfn.WEBSERVICE(\"https://api.excelapi.org/language/hira2roman?input=\"&_xlfn.ENCODEURL(D181)))","v":{"$error":"#VALUE!"}},{"$f":"PROPER(_xlfn.WEBSERVICE(\"https://api.excelapi.org/language/hira2roman?input=\"&_xlfn.ENCODEURL(E181)))","v":{"$error":"#VALUE!"}},{"$f":"IF(F181=\"\",\"\",PROPER(_xlfn.WEBSERVICE(\"https://api.excelapi.org/language/hira2roman?input=\"&_xlfn.ENCODEURL(F181))))","v":{"$error":"#VALUE!"}},null,null,208,"0177"]
[{"$nulls":3},{"$f":"_xlfn.WEBSERVICE(\"https://api.excelapi.org/post/kana?zipcode=\"&入力情報!$G$355&\"&parts=1\")","v":{"$error":"#VALUE!"}},{"$f":"_xlfn.WEBSERVICE(\"https://api.excelapi.org/post/kana?zipcode=\"&入力情報!$G$355&\"&parts=2\")","v":{"$error":"#VALUE!"}},{"$f":"_xlfn.WEBSERVICE(\"https://api.excelapi.org/post/kana?zipcode=\"&入力情報!$G$355&\"&parts=3\")","v":{"$error":"#VALUE!"}},null,null,210,"0178"]
[{"$nulls":8},211,"0179"]
[{"$nulls":3},"設立時取締役 29住所",{"$nulls":4},213,"0180"]
[{"$nulls":3},"都道府県","市区町村","町域",null,null,214,"0181"]
[{"$nulls":3},{"$f":"_xlfn.WEBSERVICE(\"https://api.excelapi.org/post/address?zipcode=\"&入力情報!$G$367&\"&parts=1\")","v":{"$error":"#VALUE!"}},{"$f":"_xlfn.WEBSERVICE(\"https://api.excelapi.org/post/address?zipcode=\"&入力情報!$G$367&\"&parts=2\")","v":{"$error":"#VALUE!"}},{"$f":"_xlfn.WEBSERVICE(\"https://api.excelapi.org/post/address?zipcode=\"&入力情報!$G$367&\"&parts=3\")","v":{"$error":"#VALUE!"}},null,null,215,"0182"]
[{"$nulls":3},{"$f":"PROPER(_xlfn.WEBSERVICE(\"https://api.excelapi.org/language/hira2roman?input=\"&_xlfn.ENCODEURL(D187)))","v":{"$error":"#VALUE!"}},{"$f":"PROPER(_xlfn.WEBSERVICE(\"https://api.excelapi.org/language/hira2roman?input=\"&_xlfn.ENCODEURL(E187)))","v":{"$error":"#VALUE!"}},{"$f":"IF(F187=\"\",\"\",PROPER(_xlfn.WEBSERVICE(\"https://api.excelapi.org/language/hira2roman?input=\"&_xlfn.ENCODEURL(F187))))","v":{"$error":"#VALUE!"}},null,null,216,"0183"]
[{"$nulls":3},{"$f":"_xlfn.WEBSERVICE(\"https://api.excelapi.org/post/kana?zipcode=\"&入力情報!$G$367&\"&parts=1\")","v":{"$error":"#VALUE!"}},{"$f":"_xlfn.WEBSERVICE(\"https://api.excelapi.org/post/kana?zipcode=\"&入力情報!$G$367&\"&parts=2\")","v":{"$error":"#VALUE!"}},{"$f":"_xlfn.WEBSERVICE(\"https://api.excelapi.org/post/kana?zipcode=\"&入力情報!$G$367&\"&parts=3\")","v":{"$error":"#VALUE!"}},null,null,220,"0184"]
[{"$nulls":8},221,"0185"]
[{"$nulls":3},"設立時取締役 30住所",{"$nulls":4},222,"0186"]
[{"$nulls":3},"都道府県","市区町村","町域",null,null,223,"0187"]
[{"$nulls":3},{"$f":"_xlfn.WEBSERVICE(\"https://api.excelapi.org/post/address?zipcode=\"&入力情報!$G$379&\"&parts=1\")","v":{"$error":"#VALUE!"}},{"$f":"_xlfn.WEBSERVICE(\"https://api.excelapi.org/post/address?zipcode=\"&入力情報!$G$379&\"&parts=2\")","v":{"$error":"#VALUE!"}},{"$f":"_xlfn.WEBSERVICE(\"https://api.excelapi.org/post/address?zipcode=\"&入力情報!$G$379&\"&parts=3\")","v":{"$error":"#VALUE!"}},null,null,224,"0188"]
[{"$nulls":3},{"$f":"PROPER(_xlfn.WEBSERVICE(\"https://api.excelapi.org/language/hira2roman?input=\"&_xlfn.ENCODEURL(D193)))","v":{"$error":"#VALUE!"}},{"$f":"PROPER(_xlfn.WEBSERVICE(\"https://api.excelapi.org/language/hira2roman?input=\"&_xlfn.ENCODEURL(E193)))","v":{"$error":"#VALUE!"}},{"$f":"IF(F193=\"\",\"\",PROPER(_xlfn.WEBSERVICE(\"https://api.excelapi.org/language/hira2roman?input=\"&_xlfn.ENCODEURL(F193))))","v":{"$error":"#VALUE!"}},null,null,225,"0189"]
[{"$nulls":3},{"$f":"_xlfn.WEBSERVICE(\"https://api.excelapi.org/post/kana?zipcode=\"&入力情報!$G$379&\"&parts=1\")","v":{"$error":"#VALUE!"}},{"$f":"_xlfn.WEBSERVICE(\"https://api.excelapi.org/post/kana?zipcode=\"&入力情報!$G$379&\"&parts=2\")","v":{"$error":"#VALUE!"}},{"$f":"_xlfn.WEBSERVICE(\"https://api.excelapi.org/post/kana?zipcode=\"&入力情報!$G$379&\"&parts=3\")","v":{"$error":"#VALUE!"}},null,null,226,"0191"]
[{"$nulls":8},227,"0192"]
[{"$nulls":3},"設立時取締役 31住所",{"$nulls":4},228,"0193"]
[{"$nulls":3},"都道府県","市区町村","町域",null,null,229,"0194"]
[{"$nulls":3},{"$f":"_xlfn.WEBSERVICE(\"https://api.excelapi.org/post/address?zipcode=\"&入力情報!$G$391&\"&parts=1\")","v":{"$error":"#VALUE!"}},{"$f":"_xlfn.WEBSERVICE(\"https://api.excelapi.org/post/address?zipcode=\"&入力情報!$G$391&\"&parts=2\")","v":{"$error":"#VALUE!"}},{"$f":"_xlfn.WEBSERVICE(\"https://api.excelapi.org/post/address?zipcode=\"&入力情報!$G$391&\"&parts=3\")","v":{"$error":"#VALUE!"}},null,null,230,"0195"]
[{"$nulls":3},{"$f":"PROPER(_xlfn.WEBSERVICE(\"https://api.excelapi.org/language/hira2roman?input=\"&_xlfn.ENCODEURL(D199)))","v":{"$error":"#VALUE!"}},{"$f":"PROPER(_xlfn.WEBSERVICE(\"https://api.excelapi.org/language/hira2roman?input=\"&_xlfn.ENCODEURL(E199)))","v":{"$error":"#VALUE!"}},{"$f":"IF(F199=\"\",\"\",PROPER(_xlfn.WEBSERVICE(\"https://api.excelapi.org/language/hira2roman?input=\"&_xlfn.ENCODEURL(F199))))","v":{"$error":"#VALUE!"}},null,null,231,"0200"]
[{"$nulls":3},{"$f":"_xlfn.WEBSERVICE(\"https://api.excelapi.org/post/kana?zipcode=\"&入力情報!$G$391&\"&parts=1\")","v":{"$error":"#VALUE!"}},{"$f":"_xlfn.WEBSERVICE(\"https://api.excelapi.org/post/kana?zipcode=\"&入力情報!$G$391&\"&parts=2\")","v":{"$error":"#VALUE!"}},{"$f":"_xlfn.WEBSERVICE(\"https://api.excelapi.org/post/kana?zipcode=\"&入力情報!$G$391&\"&parts=3\")","v":{"$error":"#VALUE!"}},null,null,232,"0201"]
[{"$nulls":8},233,"0202"]
[{"$nulls":3},"設立時取締役 32住所",{"$nulls":4},234,"0203"]
[{"$nulls":3},"都道府県","市区町村","町域",null,null,235,"0204"]
[{"$nulls":3},{"$f":"_xlfn.WEBSERVICE(\"https://api.excelapi.org/post/address?zipcode=\"&入力情報!$G$403&\"&parts=1\")","v":{"$error":"#VALUE!"}},{"$f":"_xlfn.WEBSERVICE(\"https://api.excelapi.org/post/address?zipcode=\"&入力情報!$G$403&\"&parts=2\")","v":{"$error":"#VALUE!"}},{"$f":"_xlfn.WEBSERVICE(\"https://api.excelapi.org/post/address?zipcode=\"&入力情報!$G$403&\"&parts=3\")","v":{"$error":"#VALUE!"}},null,null,236,"0205"]
[{"$nulls":3},{"$f":"PROPER(_xlfn.WEBSERVICE(\"https://api.excelapi.org/language/hira2roman?input=\"&_xlfn.ENCODEURL(D205)))","v":{"$error":"#VALUE!"}},{"$f":"PROPER(_xlfn.WEBSERVICE(\"https://api.excelapi.org/language/hira2roman?input=\"&_xlfn.ENCODEURL(E205)))","v":{"$error":"#VALUE!"}},{"$f":"IF(F205=\"\",\"\",PROPER(_xlfn.WEBSERVICE(\"https://api.excelapi.org/language/hira2roman?input=\"&_xlfn.ENCODEURL(F205))))","v":{"$error":"#VALUE!"}},null,null,237,"0206"]
[{"$nulls":3},{"$f":"_xlfn.WEBSERVICE(\"https://api.excelapi.org/post/kana?zipcode=\"&入力情報!$G$403&\"&parts=1\")","v":{"$error":"#VALUE!"}},{"$f":"_xlfn.WEBSERVICE(\"https://api.excelapi.org/post/kana?zipcode=\"&入力情報!$G$403&\"&parts=2\")","v":{"$error":"#VALUE!"}},{"$f":"_xlfn.WEBSERVICE(\"https://api.excelapi.org/post/kana?zipcode=\"&入力情報!$G$403&\"&parts=3\")","v":{"$error":"#VALUE!"}},null,null,238,"0207"]
[{"$nulls":8},239,"0208"]
[{"$nulls":3},"設立時取締役 33住所",{"$nulls":4},240,"0209"]
[{"$nulls":3},"都道府県","市区町村","町域",null,null,241,"0210"]
[{"$nulls":3},{"$f":"_xlfn.WEBSERVICE(\"https://api.excelapi.org/post/address?zipcode=\"&入力情報!$G$415&\"&parts=1\")","v":{"$error":"#VALUE!"}},{"$f":"_xlfn.WEBSERVICE(\"https://api.excelapi.org/post/address?zipcode=\"&入力情報!$G$415&\"&parts=2\")","v":{"$error":"#VALUE!"}},{"$f":"_xlfn.WEBSERVICE(\"https://api.excelapi.org/post/address?zipcode=\"&入力情報!$G$415&\"&parts=3\")","v":{"$error":"#VALUE!"}},null,null,242,"0211"]
[{"$nulls":3},{"$f":"PROPER(_xlfn.WEBSERVICE(\"https://api.excelapi.org/language/hira2roman?input=\"&_xlfn.ENCODEURL(D211)))","v":{"$error":"#VALUE!"}},{"$f":"PROPER(_xlfn.WEBSERVICE(\"https://api.excelapi.org/language/hira2roman?input=\"&_xlfn.ENCODEURL(E211)))","v":{"$error":"#VALUE!"}},{"$f":"IF(F211=\"\",\"\",PROPER(_xlfn.WEBSERVICE(\"https://api.excelapi.org/language/hira2roman?input=\"&_xlfn.ENCODEURL(F211))))","v":{"$error":"#VALUE!"}},null,null,243,"0212"]
[{"$nulls":3},{"$f":"_xlfn.WEBSERVICE(\"https://api.excelapi.org/post/kana?zipcode=\"&入力情報!$G$415&\"&parts=1\")","v":{"$error":"#VALUE!"}},{"$f":"_xlfn.WEBSERVICE(\"https://api.excelapi.org/post/kana?zipcode=\"&入力情報!$G$415&\"&parts=2\")","v":{"$error":"#VALUE!"}},{"$f":"_xlfn.WEBSERVICE(\"https://api.excelapi.org/post/kana?zipcode=\"&入力情報!$G$415&\"&parts=3\")","v":{"$error":"#VALUE!"}},null,null,244,"0213"]
[{"$nulls":8},245,"0214"]
[{"$nulls":3},"設立時取締役 34住所",{"$nulls":4},246,"0215"]
[{"$nulls":3},"都道府県","市区町村","町域",null,null,247,"0216"]
[{"$nulls":3},{"$f":"_xlfn.WEBSERVICE(\"https://api.excelapi.org/post/address?zipcode=\"&入力情報!$G$427&\"&parts=1\")","v":{"$error":"#VALUE!"}},{"$f":"_xlfn.WEBSERVICE(\"https://api.excelapi.org/post/address?zipcode=\"&入力情報!$G$427&\"&parts=2\")","v":{"$error":"#VALUE!"}},{"$f":"_xlfn.WEBSERVICE(\"https://api.excelapi.org/post/address?zipcode=\"&入力情報!$G$427&\"&parts=3\")","v":{"$error":"#VALUE!"}},null,null,248,"0217"]
[{"$nulls":3},{"$f":"PROPER(_xlfn.WEBSERVICE(\"https://api.excelapi.org/language/hira2roman?input=\"&_xlfn.ENCODEURL(D217)))","v":{"$error":"#VALUE!"}},{"$f":"PROPER(_xlfn.WEBSERVICE(\"https://api.excelapi.org/language/hira2roman?input=\"&_xlfn.ENCODEURL(E217)))","v":{"$error":"#VALUE!"}},{"$f":"IF(F217=\"\",\"\",PROPER(_xlfn.WEBSERVICE(\"https://api.excelapi.org/language/hira2roman?input=\"&_xlfn.ENCODEURL(F217))))","v":{"$error":"#VALUE!"}},null,null,249,"0218"]
[{"$nulls":3},{"$f":"_xlfn.WEBSERVICE(\"https://api.excelapi.org/post/kana?zipcode=\"&入力情報!$G$427&\"&parts=1\")","v":{"$error":"#VALUE!"}},{"$f":"_xlfn.WEBSERVICE(\"https://api.excelapi.org/post/kana?zipcode=\"&入力情報!$G$427&\"&parts=2\")","v":{"$error":"#VALUE!"}},{"$f":"_xlfn.WEBSERVICE(\"https://api.excelapi.org/post/kana?zipcode=\"&入力情報!$G$427&\"&parts=3\")","v":{"$error":"#VALUE!"}},null,null,250,"0219"]
[{"$nulls":8},251,"0220"]
[{"$nulls":3},"設立時取締役 35住所",{"$nulls":4},252,"0221"]
[{"$nulls":3},"都道府県","市区町村","町域",null,null,253,"0222"]
[{"$nulls":3},{"$f":"_xlfn.WEBSERVICE(\"https://api.excelapi.org/post/address?zipcode=\"&入力情報!$G$439&\"&parts=1\")","v":{"$error":"#VALUE!"}},{"$f":"_xlfn.WEBSERVICE(\"https://api.excelapi.org/post/address?zipcode=\"&入力情報!$G$439&\"&parts=2\")","v":{"$error":"#VALUE!"}},{"$f":"_xlfn.WEBSERVICE(\"https://api.excelapi.org/post/address?zipcode=\"&入力情報!$G$439&\"&parts=3\")","v":{"$error":"#VALUE!"}},null,null,254,"0223"]
[{"$nulls":3},{"$f":"PROPER(_xlfn.WEBSERVICE(\"https://api.excelapi.org/language/hira2roman?input=\"&_xlfn.ENCODEURL(D223)))","v":{"$error":"#VALUE!"}},{"$f":"PROPER(_xlfn.WEBSERVICE(\"https://api.excelapi.org/language/hira2roman?input=\"&_xlfn.ENCODEURL(E223)))","v":{"$error":"#VALUE!"}},{"$f":"IF(F223=\"\",\"\",PROPER(_xlfn.WEBSERVICE(\"https://api.excelapi.org/language/hira2roman?input=\"&_xlfn.ENCODEURL(F223))))","v":{"$error":"#VALUE!"}},null,null,255,"0224"]
[{"$nulls":3},{"$f":"_xlfn.WEBSERVICE(\"https://api.excelapi.org/post/kana?zipcode=\"&入力情報!$G$439&\"&parts=1\")","v":{"$error":"#VALUE!"}},{"$f":"_xlfn.WEBSERVICE(\"https://api.excelapi.org/post/kana?zipcode=\"&入力情報!$G$439&\"&parts=2\")","v":{"$error":"#VALUE!"}},{"$f":"_xlfn.WEBSERVICE(\"https://api.excelapi.org/post/kana?zipcode=\"&入力情報!$G$439&\"&parts=3\")","v":{"$error":"#VALUE!"}},null,null,256,"0225"]
[{"$nulls":8},257,"0226"]
[{"$nulls":3},"設立時取締役 36住所",{"$nulls":4},258,"0227"]
[{"$nulls":3},"都道府県","市区町村","町域",null,null,259,"0228"]
[{"$nulls":3},{"$f":"_xlfn.WEBSERVICE(\"https://api.excelapi.org/post/address?zipcode=\"&入力情報!$G$451&\"&parts=1\")","v":{"$error":"#VALUE!"}},{"$f":"_xlfn.WEBSERVICE(\"https://api.excelapi.org/post/address?zipcode=\"&入力情報!$G$451&\"&parts=2\")","v":{"$error":"#VALUE!"}},{"$f":"_xlfn.WEBSERVICE(\"https://api.excelapi.org/post/address?zipcode=\"&入力情報!$G$451&\"&parts=3\")","v":{"$error":"#VALUE!"}},null,null,260,"0229"]
[{"$nulls":3},{"$f":"PROPER(_xlfn.WEBSERVICE(\"https://api.excelapi.org/language/hira2roman?input=\"&_xlfn.ENCODEURL(D229)))","v":{"$error":"#VALUE!"}},{"$f":"PROPER(_xlfn.WEBSERVICE(\"https://api.excelapi.org/language/hira2roman?input=\"&_xlfn.ENCODEURL(E229)))","v":{"$error":"#VALUE!"}},{"$f":"IF(F229=\"\",\"\",PROPER(_xlfn.WEBSERVICE(\"https://api.excelapi.org/language/hira2roman?input=\"&_xlfn.ENCODEURL(F229))))","v":{"$error":"#VALUE!"}},null,null,261,"0230"]
[{"$nulls":3},{"$f":"_xlfn.WEBSERVICE(\"https://api.excelapi.org/post/kana?zipcode=\"&入力情報!$G$451&\"&parts=1\")","v":{"$error":"#VALUE!"}},{"$f":"_xlfn.WEBSERVICE(\"https://api.excelapi.org/post/kana?zipcode=\"&入力情報!$G$451&\"&parts=2\")","v":{"$error":"#VALUE!"}},{"$f":"_xlfn.WEBSERVICE(\"https://api.excelapi.org/post/kana?zipcode=\"&入力情報!$G$451&\"&parts=3\")","v":{"$error":"#VALUE!"}},null,null,262,"0231"]
[{"$nulls":8},263,"0232"]
[{"$nulls":3},"設立時取締役 37住所",{"$nulls":4},264,"0233"]
[{"$nulls":3},"都道府県","市区町村","町域",null,null,265,"0234"]
[{"$nulls":3},{"$f":"_xlfn.WEBSERVICE(\"https://api.excelapi.org/post/address?zipcode=\"&入力情報!$G$463&\"&parts=1\")","v":{"$error":"#VALUE!"}},{"$f":"_xlfn.WEBSERVICE(\"https://api.excelapi.org/post/address?zipcode=\"&入力情報!$G$463&\"&parts=2\")","v":{"$error":"#VALUE!"}},{"$f":"_xlfn.WEBSERVICE(\"https://api.excelapi.org/post/address?zipcode=\"&入力情報!$G$463&\"&parts=3\")","v":{"$error":"#VALUE!"}},null,null,266,"0235"]
[{"$nulls":3},{"$f":"PROPER(_xlfn.WEBSERVICE(\"https://api.excelapi.org/language/hira2roman?input=\"&_xlfn.ENCODEURL(D235)))","v":{"$error":"#VALUE!"}},{"$f":"PROPER(_xlfn.WEBSERVICE(\"https://api.excelapi.org/language/hira2roman?input=\"&_xlfn.ENCODEURL(E235)))","v":{"$error":"#VALUE!"}},{"$f":"IF(F235=\"\",\"\",PROPER(_xlfn.WEBSERVICE(\"https://api.excelapi.org/language/hira2roman?input=\"&_xlfn.ENCODEURL(F235))))","v":{"$error":"#VALUE!"}},null,null,267,"0236"]
[{"$nulls":3},{"$f":"_xlfn.WEBSERVICE(\"https://api.excelapi.org/post/kana?zipcode=\"&入力情報!$G$463&\"&parts=1\")","v":{"$error":"#VALUE!"}},{"$f":"_xlfn.WEBSERVICE(\"https://api.excelapi.org/post/kana?zipcode=\"&入力情報!$G$463&\"&parts=2\")","v":{"$error":"#VALUE!"}},{"$f":"_xlfn.WEBSERVICE(\"https://api.excelapi.org/post/kana?zipcode=\"&入力情報!$G$463&\"&parts=3\")","v":{"$error":"#VALUE!"}},null,null,270,"0237"]
[{"$nulls":8},271,"0238"]
[{"$nulls":3},"設立時取締役 38住所",{"$nulls":4},272,"0239"]
[{"$nulls":3},"都道府県","市区町村","町域",null,null,273,"0240"]
[{"$nulls":3},{"$f":"_xlfn.WEBSERVICE(\"https://api.excelapi.org/post/address?zipcode=\"&入力情報!$G$475&\"&parts=1\")","v":{"$error":"#VALUE!"}},{"$f":"_xlfn.WEBSERVICE(\"https://api.excelapi.org/post/address?zipcode=\"&入力情報!$G$475&\"&parts=2\")","v":{"$error":"#VALUE!"}},{"$f":"_xlfn.WEBSERVICE(\"https://api.excelapi.org/post/address?zipcode=\"&入力情報!$G$475&\"&parts=3\")","v":{"$error":"#VALUE!"}},null,null,274,"0241"]
[{"$nulls":3},{"$f":"PROPER(_xlfn.WEBSERVICE(\"https://api.excelapi.org/language/hira2roman?input=\"&_xlfn.ENCODEURL(D241)))","v":{"$error":"#VALUE!"}},{"$f":"PROPER(_xlfn.WEBSERVICE(\"https://api.excelapi.org/language/hira2roman?input=\"&_xlfn.ENCODEURL(E241)))","v":{"$error":"#VALUE!"}},{"$f":"IF(F241=\"\",\"\",PROPER(_xlfn.WEBSERVICE(\"https://api.excelapi.org/language/hira2roman?input=\"&_xlfn.ENCODEURL(F241))))","v":{"$error":"#VALUE!"}},null,null,275,"0242"]
[{"$nulls":3},{"$f":"_xlfn.WEBSERVICE(\"https://api.excelapi.org/post/kana?zipcode=\"&入力情報!$G$475&\"&parts=1\")","v":{"$error":"#VALUE!"}},{"$f":"_xlfn.WEBSERVICE(\"https://api.excelapi.org/post/kana?zipcode=\"&入力情報!$G$475&\"&parts=2\")","v":{"$error":"#VALUE!"}},{"$f":"_xlfn.WEBSERVICE(\"https://api.excelapi.org/post/kana?zipcode=\"&入力情報!$G$475&\"&parts=3\")","v":{"$error":"#VALUE!"}},null,null,276,"0243"]
[{"$nulls":8},277,"0244"]
[{"$nulls":3},"設立時取締役 39住所",{"$nulls":4},278,"0245"]
[{"$nulls":3},"都道府県","市区町村","町域",null,null,279,"0246"]
[{"$nulls":3},{"$f":"_xlfn.WEBSERVICE(\"https://api.excelapi.org/post/address?zipcode=\"&入力情報!$G$487&\"&parts=1\")","v":{"$error":"#VALUE!"}},{"$f":"_xlfn.WEBSERVICE(\"https://api.excelapi.org/post/address?zipcode=\"&入力情報!$G$487&\"&parts=2\")","v":{"$error":"#VALUE!"}},{"$f":"_xlfn.WEBSERVICE(\"https://api.excelapi.org/post/address?zipcode=\"&入力情報!$G$487&\"&parts=3\")","v":{"$error":"#VALUE!"}},null,null,280,"0247"]
[{"$nulls":3},{"$f":"PROPER(_xlfn.WEBSERVICE(\"https://api.excelapi.org/language/hira2roman?input=\"&_xlfn.ENCODEURL(D247)))","v":{"$error":"#VALUE!"}},{"$f":"PROPER(_xlfn.WEBSERVICE(\"https://api.excelapi.org/language/hira2roman?input=\"&_xlfn.ENCODEURL(E247)))","v":{"$error":"#VALUE!"}},{"$f":"IF(F247=\"\",\"\",PROPER(_xlfn.WEBSERVICE(\"https://api.excelapi.org/language/hira2roman?input=\"&_xlfn.ENCODEURL(F247))))","v":{"$error":"#VALUE!"}},null,null,281,"0248"]
[{"$nulls":3},{"$f":"_xlfn.WEBSERVICE(\"https://api.excelapi.org/post/kana?zipcode=\"&入力情報!$G$487&\"&parts=1\")","v":{"$error":"#VALUE!"}},{"$f":"_xlfn.WEBSERVICE(\"https://api.excelapi.org/post/kana?zipcode=\"&入力情報!$G$487&\"&parts=2\")","v":{"$error":"#VALUE!"}},{"$f":"_xlfn.WEBSERVICE(\"https://api.excelapi.org/post/kana?zipcode=\"&入力情報!$G$487&\"&parts=3\")","v":{"$error":"#VALUE!"}},null,null,282,"0249"]
[{"$nulls":8},283,"0250"]
[{"$nulls":3},"設立時取締役 40住所",{"$nulls":4},284,"0251"]
[{"$nulls":3},"都道府県","市区町村","町域",null,null,285,"0252"]
[{"$nulls":3},{"$f":"_xlfn.WEBSERVICE(\"https://api.excelapi.org/post/address?zipcode=\"&入力情報!$G$499&\"&parts=1\")","v":{"$error":"#VALUE!"}},{"$f":"_xlfn.WEBSERVICE(\"https://api.excelapi.org/post/address?zipcode=\"&入力情報!$G$499&\"&parts=2\")","v":{"$error":"#VALUE!"}},{"$f":"_xlfn.WEBSERVICE(\"https://api.excelapi.org/post/address?zipcode=\"&入力情報!$G$499&\"&parts=3\")","v":{"$error":"#VALUE!"}},null,null,286,"0253"]
[{"$nulls":3},{"$f":"PROPER(_xlfn.WEBSERVICE(\"https://api.excelapi.org/language/hira2roman?input=\"&_xlfn.ENCODEURL(D253)))","v":{"$error":"#VALUE!"}},{"$f":"PROPER(_xlfn.WEBSERVICE(\"https://api.excelapi.org/language/hira2roman?input=\"&_xlfn.ENCODEURL(E253)))","v":{"$error":"#VALUE!"}},{"$f":"IF(F253=\"\",\"\",PROPER(_xlfn.WEBSERVICE(\"https://api.excelapi.org/language/hira2roman?input=\"&_xlfn.ENCODEURL(F253))))","v":{"$error":"#VALUE!"}},null,null,287,"0254"]
[{"$nulls":3},{"$f":"_xlfn.WEBSERVICE(\"https://api.excelapi.org/post/kana?zipcode=\"&入力情報!$G$499&\"&parts=1\")","v":{"$error":"#VALUE!"}},{"$f":"_xlfn.WEBSERVICE(\"https://api.excelapi.org/post/kana?zipcode=\"&入力情報!$G$499&\"&parts=2\")","v":{"$error":"#VALUE!"}},{"$f":"_xlfn.WEBSERVICE(\"https://api.excelapi.org/post/kana?zipcode=\"&入力情報!$G$499&\"&parts=3\")","v":{"$error":"#VALUE!"}},null,null,288,"0255"]
[{"$nulls":8},289,"0256"]
[{"$nulls":3},"設立時取締役 41住所",{"$nulls":4},290,"0257"]
[{"$nulls":3},"都道府県","市区町村","町域",null,null,291,"0258"]
[{"$nulls":3},{"$f":"_xlfn.WEBSERVICE(\"https://api.excelapi.org/post/address?zipcode=\"&入力情報!$G$511&\"&parts=1\")","v":{"$error":"#VALUE!"}},{"$f":"_xlfn.WEBSERVICE(\"https://api.excelapi.org/post/address?zipcode=\"&入力情報!$G$511&\"&parts=2\")","v":{"$error":"#VALUE!"}},{"$f":"_xlfn.WEBSERVICE(\"https://api.excelapi.org/post/address?zipcode=\"&入力情報!$G$511&\"&parts=3\")","v":{"$error":"#VALUE!"}},null,null,292,"0259"]
[{"$nulls":3},{"$f":"PROPER(_xlfn.WEBSERVICE(\"https://api.excelapi.org/language/hira2roman?input=\"&_xlfn.ENCODEURL(D259)))","v":{"$error":"#VALUE!"}},{"$f":"PROPER(_xlfn.WEBSERVICE(\"https://api.excelapi.org/language/hira2roman?input=\"&_xlfn.ENCODEURL(E259)))","v":{"$error":"#VALUE!"}},{"$f":"IF(F259=\"\",\"\",PROPER(_xlfn.WEBSERVICE(\"https://api.excelapi.org/language/hira2roman?input=\"&_xlfn.ENCODEURL(F259))))","v":{"$error":"#VALUE!"}},null,null,293,"0261"]
[{"$nulls":3},{"$f":"_xlfn.WEBSERVICE(\"https://api.excelapi.org/post/kana?zipcode=\"&入力情報!$G$511&\"&parts=1\")","v":{"$error":"#VALUE!"}},{"$f":"_xlfn.WEBSERVICE(\"https://api.excelapi.org/post/kana?zipcode=\"&入力情報!$G$511&\"&parts=2\")","v":{"$error":"#VALUE!"}},{"$f":"_xlfn.WEBSERVICE(\"https://api.excelapi.org/post/kana?zipcode=\"&入力情報!$G$511&\"&parts=3\")","v":{"$error":"#VALUE!"}},null,null,294,"0262"]
[{"$nulls":8},295,"0263"]
[{"$nulls":3},"設立時取締役 42住所",{"$nulls":4},296,"0264"]
[{"$nulls":3},"都道府県","市区町村","町域",null,null,297,"0265"]
[{"$nulls":3},{"$f":"_xlfn.WEBSERVICE(\"https://api.excelapi.org/post/address?zipcode=\"&入力情報!$G$523&\"&parts=1\")","v":{"$error":"#VALUE!"}},{"$f":"_xlfn.WEBSERVICE(\"https://api.excelapi.org/post/address?zipcode=\"&入力情報!$G$523&\"&parts=2\")","v":{"$error":"#VALUE!"}},{"$f":"_xlfn.WEBSERVICE(\"https://api.excelapi.org/post/address?zipcode=\"&入力情報!$G$523&\"&parts=3\")","v":{"$error":"#VALUE!"}},null,null,298,"0266"]
[{"$nulls":3},{"$f":"PROPER(_xlfn.WEBSERVICE(\"https://api.excelapi.org/language/hira2roman?input=\"&_xlfn.ENCODEURL(D265)))","v":{"$error":"#VALUE!"}},{"$f":"PROPER(_xlfn.WEBSERVICE(\"https://api.excelapi.org/language/hira2roman?input=\"&_xlfn.ENCODEURL(E265)))","v":{"$error":"#VALUE!"}},{"$f":"IF(F265=\"\",\"\",PROPER(_xlfn.WEBSERVICE(\"https://api.excelapi.org/language/hira2roman?input=\"&_xlfn.ENCODEURL(F265))))","v":{"$error":"#VALUE!"}},null,null,299,"0267"]
[{"$nulls":3},{"$f":"_xlfn.WEBSERVICE(\"https://api.excelapi.org/post/kana?zipcode=\"&入力情報!$G$523&\"&parts=1\")","v":{"$error":"#VALUE!"}},{"$f":"_xlfn.WEBSERVICE(\"https://api.excelapi.org/post/kana?zipcode=\"&入力情報!$G$523&\"&parts=2\")","v":{"$error":"#VALUE!"}},{"$f":"_xlfn.WEBSERVICE(\"https://api.excelapi.org/post/kana?zipcode=\"&入力情報!$G$523&\"&parts=3\")","v":{"$error":"#VALUE!"}},null,null,300,"0268"]
[{"$nulls":8},301,"0269"]
[{"$nulls":3},"設立時取締役 43住所",{"$nulls":4},302,"0270"]
[{"$nulls":3},"都道府県","市区町村","町域",null,null,303,"0271"]
[{"$nulls":3},{"$f":"_xlfn.WEBSERVICE(\"https://api.excelapi.org/post/address?zipcode=\"&入力情報!$G$535&\"&parts=1\")","v":{"$error":"#VALUE!"}},{"$f":"_xlfn.WEBSERVICE(\"https://api.excelapi.org/post/address?zipcode=\"&入力情報!$G$535&\"&parts=2\")","v":{"$error":"#VALUE!"}},{"$f":"_xlfn.WEBSERVICE(\"https://api.excelapi.org/post/address?zipcode=\"&入力情報!$G$535&\"&parts=3\")","v":{"$error":"#VALUE!"}},null,null,304,"0272"]
[{"$nulls":3},{"$f":"PROPER(_xlfn.WEBSERVICE(\"https://api.excelapi.org/language/hira2roman?input=\"&_xlfn.ENCODEURL(D271)))","v":{"$error":"#VALUE!"}},{"$f":"PROPER(_xlfn.WEBSERVICE(\"https://api.excelapi.org/language/hira2roman?input=\"&_xlfn.ENCODEURL(E271)))","v":{"$error":"#VALUE!"}},{"$f":"IF(F271=\"\",\"\",PROPER(_xlfn.WEBSERVICE(\"https://api.excelapi.org/language/hira2roman?input=\"&_xlfn.ENCODEURL(F271))))","v":{"$error":"#VALUE!"}},null,null,305,"0273"]
[{"$nulls":3},{"$f":"_xlfn.WEBSERVICE(\"https://api.excelapi.org/post/kana?zipcode=\"&入力情報!$G$535&\"&parts=1\")","v":{"$error":"#VALUE!"}},{"$f":"_xlfn.WEBSERVICE(\"https://api.excelapi.org/post/kana?zipcode=\"&入力情報!$G$535&\"&parts=2\")","v":{"$error":"#VALUE!"}},{"$f":"_xlfn.WEBSERVICE(\"https://api.excelapi.org/post/kana?zipcode=\"&入力情報!$G$535&\"&parts=3\")","v":{"$error":"#VALUE!"}},null,null,306,"0274"]
[{"$nulls":8},307,"0275"]
[{"$nulls":3},"設立時取締役 44住所",{"$nulls":4},308,"0276"]
[{"$nulls":3},"都道府県","市区町村","町域",null,null,309,"0277"]
[{"$nulls":3},{"$f":"_xlfn.WEBSERVICE(\"https://api.excelapi.org/post/address?zipcode=\"&入力情報!$G$547&\"&parts=1\")","v":{"$error":"#VALUE!"}},{"$f":"_xlfn.WEBSERVICE(\"https://api.excelapi.org/post/address?zipcode=\"&入力情報!$G$547&\"&parts=2\")","v":{"$error":"#VALUE!"}},{"$f":"_xlfn.WEBSERVICE(\"https://api.excelapi.org/post/address?zipcode=\"&入力情報!$G$547&\"&parts=3\")","v":{"$error":"#VALUE!"}},null,null,310,"0278"]
[{"$nulls":3},{"$f":"PROPER(_xlfn.WEBSERVICE(\"https://api.excelapi.org/language/hira2roman?input=\"&_xlfn.ENCODEURL(D277)))","v":{"$error":"#VALUE!"}},{"$f":"PROPER(_xlfn.WEBSERVICE(\"https://api.excelapi.org/language/hira2roman?input=\"&_xlfn.ENCODEURL(E277)))","v":{"$error":"#VALUE!"}},{"$f":"IF(F277=\"\",\"\",PROPER(_xlfn.WEBSERVICE(\"https://api.excelapi.org/language/hira2roman?input=\"&_xlfn.ENCODEURL(F277))))","v":{"$error":"#VALUE!"}},null,null,311,"0279"]
[{"$nulls":3},{"$f":"_xlfn.WEBSERVICE(\"https://api.excelapi.org/post/kana?zipcode=\"&入力情報!$G$547&\"&parts=1\")","v":{"$error":"#VALUE!"}},{"$f":"_xlfn.WEBSERVICE(\"https://api.excelapi.org/post/kana?zipcode=\"&入力情報!$G$547&\"&parts=2\")","v":{"$error":"#VALUE!"}},{"$f":"_xlfn.WEBSERVICE(\"https://api.excelapi.org/post/kana?zipcode=\"&入力情報!$G$547&\"&parts=3\")","v":{"$error":"#VALUE!"}},null,null,312,"0281"]
[{"$nulls":8},313,"0282"]
[{"$nulls":3},"設立時取締役 45住所",{"$nulls":4},314,"0283"]
[{"$nulls":3},"都道府県","市区町村","町域",null,null,315,"0284"]
[{"$nulls":3},{"$f":"_xlfn.WEBSERVICE(\"https://api.excelapi.org/post/address?zipcode=\"&入力情報!$G$559&\"&parts=1\")","v":{"$error":"#VALUE!"}},{"$f":"_xlfn.WEBSERVICE(\"https://api.excelapi.org/post/address?zipcode=\"&入力情報!$G$559&\"&parts=2\")","v":{"$error":"#VALUE!"}},{"$f":"_xlfn.WEBSERVICE(\"https://api.excelapi.org/post/address?zipcode=\"&入力情報!$G$559&\"&parts=3\")","v":{"$error":"#VALUE!"}},null,null,316,"0285"]
[{"$nulls":3},{"$f":"PROPER(_xlfn.WEBSERVICE(\"https://api.excelapi.org/language/hira2roman?input=\"&_xlfn.ENCODEURL(D283)))","v":{"$error":"#VALUE!"}},{"$f":"PROPER(_xlfn.WEBSERVICE(\"https://api.excelapi.org/language/hira2roman?input=\"&_xlfn.ENCODEURL(E283)))","v":{"$error":"#VALUE!"}},{"$f":"IF(F283=\"\",\"\",PROPER(_xlfn.WEBSERVICE(\"https://api.excelapi.org/language/hira2roman?input=\"&_xlfn.ENCODEURL(F283))))","v":{"$error":"#VALUE!"}},null,null,317,"0286"]
[{"$nulls":3},{"$f":"_xlfn.WEBSERVICE(\"https://api.excelapi.org/post/kana?zipcode=\"&入力情報!$G$559&\"&parts=1\")","v":{"$error":"#VALUE!"}},{"$f":"_xlfn.WEBSERVICE(\"https://api.excelapi.org/post/kana?zipcode=\"&入力情報!$G$559&\"&parts=2\")","v":{"$error":"#VALUE!"}},{"$f":"_xlfn.WEBSERVICE(\"https://api.excelapi.org/post/kana?zipcode=\"&入力情報!$G$559&\"&parts=3\")","v":{"$error":"#VALUE!"}},null,null,318,"0287"]
[{"$nulls":8},319,"0288"]
[{"$nulls":3},"設立時取締役 46住所",{"$nulls":4},320,"0300"]
[{"$nulls":3},"都道府県","市区町村","町域",null,null,321,"0301"]
[{"$nulls":3},{"$f":"_xlfn.WEBSERVICE(\"https://api.excelapi.org/post/address?zipcode=\"&入力情報!$G$571&\"&parts=1\")","v":{"$error":"#VALUE!"}},{"$f":"_xlfn.WEBSERVICE(\"https://api.excelapi.org/post/address?zipcode=\"&入力情報!$G$571&\"&parts=2\")","v":{"$error":"#VALUE!"}},{"$f":"_xlfn.WEBSERVICE(\"https://api.excelapi.org/post/address?zipcode=\"&入力情報!$G$571&\"&parts=3\")","v":{"$error":"#VALUE!"}},null,null,322,"0302"]
[{"$nulls":3},{"$f":"PROPER(_xlfn.WEBSERVICE(\"https://api.excelapi.org/language/hira2roman?input=\"&_xlfn.ENCODEURL(D289)))","v":{"$error":"#VALUE!"}},{"$f":"PROPER(_xlfn.WEBSERVICE(\"https://api.excelapi.org/language/hira2roman?input=\"&_xlfn.ENCODEURL(E289)))","v":{"$error":"#VALUE!"}},{"$f":"IF(F289=\"\",\"\",PROPER(_xlfn.WEBSERVICE(\"https://api.excelapi.org/language/hira2roman?input=\"&_xlfn.ENCODEURL(F289))))","v":{"$error":"#VALUE!"}},null,null,323,"0303"]
[{"$nulls":3},{"$f":"_xlfn.WEBSERVICE(\"https://api.excelapi.org/post/kana?zipcode=\"&入力情報!$G$571&\"&parts=1\")","v":{"$error":"#VALUE!"}},{"$f":"_xlfn.WEBSERVICE(\"https://api.excelapi.org/post/kana?zipcode=\"&入力情報!$G$571&\"&parts=2\")","v":{"$error":"#VALUE!"}},{"$f":"_xlfn.WEBSERVICE(\"https://api.excelapi.org/post/kana?zipcode=\"&入力情報!$G$571&\"&parts=3\")","v":{"$error":"#VALUE!"}},null,null,324,"0304"]
[{"$nulls":8},325,"0305"]
[{"$nulls":3},"設立時取締役 47住所",{"$nulls":4},326,"0306"]
[{"$nulls":3},"都道府県","市区町村","町域",null,null,327,"0307"]
[{"$nulls":3},{"$f":"_xlfn.WEBSERVICE(\"https://api.excelapi.org/post/address?zipcode=\"&入力情報!$G$583&\"&parts=1\")","v":{"$error":"#VALUE!"}},{"$f":"_xlfn.WEBSERVICE(\"https://api.excelapi.org/post/address?zipcode=\"&入力情報!$G$583&\"&parts=2\")","v":{"$error":"#VALUE!"}},{"$f":"_xlfn.WEBSERVICE(\"https://api.excelapi.org/post/address?zipcode=\"&入力情報!$G$583&\"&parts=3\")","v":{"$error":"#VALUE!"}},null,null,328,"0308"]
[{"$nulls":3},{"$f":"PROPER(_xlfn.WEBSERVICE(\"https://api.excelapi.org/language/hira2roman?input=\"&_xlfn.ENCODEURL(D295)))","v":{"$error":"#VALUE!"}},{"$f":"PROPER(_xlfn.WEBSERVICE(\"https://api.excelapi.org/language/hira2roman?input=\"&_xlfn.ENCODEURL(E295)))","v":{"$error":"#VALUE!"}},{"$f":"IF(F295=\"\",\"\",PROPER(_xlfn.WEBSERVICE(\"https://api.excelapi.org/language/hira2roman?input=\"&_xlfn.ENCODEURL(F295))))","v":{"$error":"#VALUE!"}},null,null,329,"0309"]
[{"$nulls":3},{"$f":"_xlfn.WEBSERVICE(\"https://api.excelapi.org/post/kana?zipcode=\"&入力情報!$G$583&\"&parts=1\")","v":{"$error":"#VALUE!"}},{"$f":"_xlfn.WEBSERVICE(\"https://api.excelapi.org/post/kana?zipcode=\"&入力情報!$G$583&\"&parts=2\")","v":{"$error":"#VALUE!"}},{"$f":"_xlfn.WEBSERVICE(\"https://api.excelapi.org/post/kana?zipcode=\"&入力情報!$G$583&\"&parts=3\")","v":{"$error":"#VALUE!"}},null,null,330,"0310"]
[{"$nulls":8},331,"0311"]
[{"$nulls":3},"設立時取締役 48住所",{"$nulls":4},332,"0312"]
[{"$nulls":3},"都道府県","市区町村","町域",null,null,333,"0313"]
[{"$nulls":3},{"$f":"_xlfn.WEBSERVICE(\"https://api.excelapi.org/post/address?zipcode=\"&入力情報!$G$595&\"&parts=1\")","v":{"$error":"#VALUE!"}},{"$f":"_xlfn.WEBSERVICE(\"https://api.excelapi.org/post/address?zipcode=\"&入力情報!$G$595&\"&parts=2\")","v":{"$error":"#VALUE!"}},{"$f":"_xlfn.WEBSERVICE(\"https://api.excelapi.org/post/address?zipcode=\"&入力情報!$G$595&\"&parts=3\")","v":{"$error":"#VALUE!"}},null,null,334,"0314"]
[{"$nulls":3},{"$f":"PROPER(_xlfn.WEBSERVICE(\"https://api.excelapi.org/language/hira2roman?input=\"&_xlfn.ENCODEURL(D301)))","v":{"$error":"#VALUE!"}},{"$f":"PROPER(_xlfn.WEBSERVICE(\"https://api.excelapi.org/language/hira2roman?input=\"&_xlfn.ENCODEURL(E301)))","v":{"$error":"#VALUE!"}},{"$f":"IF(F301=\"\",\"\",PROPER(_xlfn.WEBSERVICE(\"https://api.excelapi.org/language/hira2roman?input=\"&_xlfn.ENCODEURL(F301))))","v":{"$error":"#VALUE!"}},null,null,335,"0315"]
[{"$nulls":3},{"$f":"_xlfn.WEBSERVICE(\"https://api.excelapi.org/post/kana?zipcode=\"&入力情報!$G$595&\"&parts=1\")","v":{"$error":"#VALUE!"}},{"$f":"_xlfn.WEBSERVICE(\"https://api.excelapi.org/post/kana?zipcode=\"&入力情報!$G$595&\"&parts=2\")","v":{"$error":"#VALUE!"}},{"$f":"_xlfn.WEBSERVICE(\"https://api.excelapi.org/post/kana?zipcode=\"&入力情報!$G$595&\"&parts=3\")","v":{"$error":"#VALUE!"}},null,null,336,"0316"]
[{"$nulls":8},337,"0317"]
[{"$nulls":3},"設立時取締役 49住所",{"$nulls":4},338,"0318"]
[{"$nulls":3},"都道府県","市区町村","町域",null,null,339,"0319"]
[{"$nulls":3},{"$f":"_xlfn.WEBSERVICE(\"https://api.excelapi.org/post/address?zipcode=\"&入力情報!$G$607&\"&parts=1\")","v":{"$error":"#VALUE!"}},{"$f":"_xlfn.WEBSERVICE(\"https://api.excelapi.org/post/address?zipcode=\"&入力情報!$G$607&\"&parts=2\")","v":{"$error":"#VALUE!"}},{"$f":"_xlfn.WEBSERVICE(\"https://api.excelapi.org/post/address?zipcode=\"&入力情報!$G$607&\"&parts=3\")","v":{"$error":"#VALUE!"}},null,null,340,"0320"]
[{"$nulls":3},{"$f":"PROPER(_xlfn.WEBSERVICE(\"https://api.excelapi.org/language/hira2roman?input=\"&_xlfn.ENCODEURL(D307)))","v":{"$error":"#VALUE!"}},{"$f":"PROPER(_xlfn.WEBSERVICE(\"https://api.excelapi.org/language/hira2roman?input=\"&_xlfn.ENCODEURL(E307)))","v":{"$error":"#VALUE!"}},{"$f":"IF(F307=\"\",\"\",PROPER(_xlfn.WEBSERVICE(\"https://api.excelapi.org/language/hira2roman?input=\"&_xlfn.ENCODEURL(F307))))","v":{"$error":"#VALUE!"}},null,null,341,"0321"]
[{"$nulls":3},{"$f":"_xlfn.WEBSERVICE(\"https://api.excelapi.org/post/kana?zipcode=\"&入力情報!$G$607&\"&parts=1\")","v":{"$error":"#VALUE!"}},{"$f":"_xlfn.WEBSERVICE(\"https://api.excelapi.org/post/kana?zipcode=\"&入力情報!$G$607&\"&parts=2\")","v":{"$error":"#VALUE!"}},{"$f":"_xlfn.WEBSERVICE(\"https://api.excelapi.org/post/kana?zipcode=\"&入力情報!$G$607&\"&parts=3\")","v":{"$error":"#VALUE!"}},null,null,342,"0322"]
[{"$nulls":8},343,"0323"]
[{"$nulls":3},"設立時取締役 50住所",{"$nulls":4},344,"0324"]
[{"$nulls":3},"都道府県","市区町村","町域",null,null,345,"0325"]
[{"$nulls":3},{"$f":"_xlfn.WEBSERVICE(\"https://api.excelapi.org/post/address?zipcode=\"&入力情報!$G$619&\"&parts=1\")","v":{"$error":"#VALUE!"}},{"$f":"_xlfn.WEBSERVICE(\"https://api.excelapi.org/post/address?zipcode=\"&入力情報!$G$619&\"&parts=2\")","v":{"$error":"#VALUE!"}},{"$f":"_xlfn.WEBSERVICE(\"https://api.excelapi.org/post/address?zipcode=\"&入力情報!$G$619&\"&parts=3\")","v":{"$error":"#VALUE!"}},null,null,346,"0326"]
[{"$nulls":3},{"$f":"PROPER(_xlfn.WEBSERVICE(\"https://api.excelapi.org/language/hira2roman?input=\"&_xlfn.ENCODEURL(D313)))","v":{"$error":"#VALUE!"}},{"$f":"PROPER(_xlfn.WEBSERVICE(\"https://api.excelapi.org/language/hira2roman?input=\"&_xlfn.ENCODEURL(E313)))","v":{"$error":"#VALUE!"}},{"$f":"IF(F313=\"\",\"\",PROPER(_xlfn.WEBSERVICE(\"https://api.excelapi.org/language/hira2roman?input=\"&_xlfn.ENCODEURL(F313))))","v":{"$error":"#VALUE!"}},null,null,347,"0327"]
[{"$nulls":3},{"$f":"_xlfn.WEBSERVICE(\"https://api.excelapi.org/post/kana?zipcode=\"&入力情報!$G$619&\"&parts=1\")","v":{"$error":"#VALUE!"}},{"$f":"_xlfn.WEBSERVICE(\"https://api.excelapi.org/post/kana?zipcode=\"&入力情報!$G$619&\"&parts=2\")","v":{"$error":"#VALUE!"}},{"$f":"_xlfn.WEBSERVICE(\"https://api.excelapi.org/post/kana?zipcode=\"&入力情報!$G$619&\"&parts=3\")","v":{"$error":"#VALUE!"}},null,null,348,"0328"]
[{"$nulls":8},349,"0329"]
[{"$nulls":8},350,"0330"]
[{"$nulls":8},351,"0331"]
[{"$nulls":8},352,"0332"]
[{"$nulls":8},353,"0333"]
[{"$nulls":8},354,"0334"]
[{"$nulls":8},355,"0335"]
[{"$nulls":8},356,"0336"]
[{"$nulls":8},357,"0337"]
[{"$nulls":8},358,"0338"]
[{"$nulls":8},359,"0339"]
[{"$nulls":8},360,"0341"]
[{"$nulls":8},361,"0342"]
[{"$nulls":8},362,"0343"]
[{"$nulls":8},363,"0344"]
[{"$nulls":8},364,"0345"]
[{"$nulls":8},365,"0346"]
[{"$nulls":8},366,"0347"]
[{"$nulls":8},367,"0348"]
[{"$nulls":8},368,"0349"]
[{"$nulls":8},369,"0350"]
[{"$nulls":8},370,"0351"]
[{"$nulls":8},371,"0352"]
[{"$nulls":8},372,"0353"]
[{"$nulls":8},373,"0354"]
[{"$nulls":8},374,"0355"]
[{"$nulls":8},375,"0356"]
[{"$nulls":8},376,"0357"]
[{"$nulls":8},377,"0358"]
[{"$nulls":8},378,"0359"]
[{"$nulls":8},379,"0360"]
[{"$nulls":8},380,"0361"]
[{"$nulls":8},381,"0362"]
[{"$nulls":8},382,"0363"]
[{"$nulls":8},383,"0364"]
[{"$nulls":8},384,"0365"]
[{"$nulls":8},385,"0366"]
[{"$nulls":8},386,"0367"]
[{"$nulls":8},387,"0368"]
[{"$nulls":8},388,"0369"]
[{"$nulls":8},389,"0370"]
[{"$nulls":8},390,"0371"]
[{"$nulls":8},391,"0372"]
[{"$nulls":8},392,"0373"]
[{"$nulls":8},393,"0374"]
[{"$nulls":8},394,"0375"]
[{"$nulls":8},395,"0376"]
[{"$nulls":8},396,"0377"]
[{"$nulls":8},397,"0378"]
[{"$nulls":8},398,"0379"]
[{"$nulls":8},399,"0380"]
[{"$nulls":8},400,"0381"]
[{"$nulls":8},401,"0382"]
[{"$nulls":8},402,"0383"]
[{"$nulls":8},403,"0384"]
[{"$nulls":8},404,"0385"]
[{"$nulls":8},405,"0386"]
[{"$nulls":8},406,"0387"]
[{"$nulls":8},407,"0388"]
[{"$nulls":8},408,"0389"]
[{"$nulls":8},409,"0400"]
[{"$nulls":8},410,"0401"]
[{"$nulls":8},411,"0402"]
[{"$nulls":8},412,"0403"]
[{"$nulls":8},413,"0404"]
[{"$nulls":8},414,"0405"]
[{"$nulls":8},415,"0406"]
[{"$nulls":8},416,"0407"]
[{"$nulls":8},417,"0408"]
[{"$nulls":8},418,"0409"]
[{"$nulls":8},419,"0410"]
[{"$nulls":8},420,"0411"]
[{"$nulls":8},421,"0412"]
[{"$nulls":8},422,"0413"]
[{"$nulls":8},424,"0414"]
[{"$nulls":8},425,"0415"]
[{"$nulls":8},426,"0416"]
[{"$nulls":8},427,"0417"]
[{"$nulls":8},428,"0418"]
[{"$nulls":8},430,"0419"]
[{"$nulls":8},431,"0420"]
[{"$nulls":8},432,"0421"]
[{"$nulls":8},433,"0422"]
[{"$nulls":8},434,"0423"]
[{"$nulls":8},435,"0424"]
[{"$nulls":8},436,"0425"]
[{"$nulls":8},437,"0426"]
[{"$nulls":8},438,"0427"]
[{"$nulls":8},439,"0428"]
[{"$nulls":8},440,"0429"]
[{"$nulls":8},441,"0430"]
[{"$nulls":8},442,"0431"]
[{"$nulls":8},443,"0432"]
[{"$nulls":8},444,"0433"]
[{"$nulls":8},445,"0434"]
[{"$nulls":8},446,"0435"]
[{"$nulls":8},447,"0436"]
[{"$nulls":8},448,"0437"]
[{"$nulls":8},449,"0438"]
[{"$nulls":8},450,"0439"]
[{"$nulls":8},451,"0441"]
[{"$nulls":8},452,"0442"]
[{"$nulls":8},453,"0443"]
[{"$nulls":8},454,"0444"]
[{"$nulls":8},455,"0445"]
[{"$nulls":8},456,"0446"]
[{"$nulls":8},457,"0447"]
[{"$nulls":8},458,"0448"]
[{"$nulls":8},459,"0449"]
[{"$nulls":8},460,"0450"]
[{"$nulls":8},461,"0451"]
[{"$nulls":8},462,"0452"]
[{"$nulls":8},463,"0453"]
[{"$nulls":8},464,"0454"]
[{"$nulls":8},465,"0455"]
[{"$nulls":8},466,"0456"]
[{"$nulls":8},467,"0457"]
[{"$nulls":8},468,"0458"]
[{"$nulls":8},470,"0459"]
[{"$nulls":8},471,"0461"]
[{"$nulls":8},472,"0462"]
[{"$nulls":8},473,"0463"]
[{"$nulls":8},474,"0464"]
[{"$nulls":8},475,"0465"]
[{"$nulls":8},476,"0466"]
[{"$nulls":8},477,"0467"]
[{"$nulls":8},478,"0468"]
[{"$nulls":8},479,"0469"]
[{"$nulls":8},480,"0471"]
[{"$nulls":8},481,"0472"]
[{"$nulls":8},482,"0473"]
[{"$nulls":8},483,"0474"]
[{"$nulls":8},484,"0475"]
[{"$nulls":8},485,"0476"]
[{"$nulls":8},486,"0477"]
[{"$nulls":8},487,"0478"]
[{"$nulls":8},488,"0479"]
[{"$nulls":8},489,"0481"]
[{"$nulls":8},490,"0482"]
[{"$nulls":8},491,"0483"]
[{"$nulls":8},492,"0484"]
[{"$nulls":8},493,"0485"]
[{"$nulls":8},494,"0486"]
[{"$nulls":8},495,"0487"]
[{"$nulls":8},496,"0488"]
[{"$nulls":8},497,"0500"]
[{"$nulls":8},498,"0501"]
[{"$nulls":8},500,"0502"]
[{"$nulls":8},501,"0503"]
[{"$nulls":8},502,"0504"]
[{"$nulls":8},503,"0505"]
[{"$nulls":8},504,"0506"]
[{"$nulls":8},505,"0507"]
[{"$nulls":8},506,"0508"]
[{"$nulls":8},507,"0509"]
[{"$nulls":8},508,"0510"]
[{"$nulls":8},509,"0511"]
[{"$nulls":8},510,"0512"]
[{"$nulls":8},511,"0513"]
[{"$nulls":8},512,"0514"]
[{"$nulls":8},513,"0515"]
[{"$nulls":8},514,"0516"]
[{"$nulls":8},515,"0517"]
[{"$nulls":8},516,"0518"]
[{"$nulls":8},517,"0519"]
[{"$nulls":8},518,"0520"]
[{"$nulls":8},519,"0521"]
[{"$nulls":8},520,"0522"]
[{"$nulls":8},521,"0523"]
[{"$nulls":8},522,"0524"]
[{"$nulls":8},523,"0525"]
[{"$nulls":8},524,"0526"]
[{"$nulls":8},525,"0527"]
[{"$nulls":8},526,"0528"]
[{"$nulls":8},527,"0529"]
[{"$nulls":8},528,"0530"]
[{"$nulls":8},529,"0531"]
[{"$nulls":8},530,"0532"]
[{"$nulls":8},531,"0533"]
[{"$nulls":8},532,"0534"]
[{"$nulls":8},533,"0535"]
[{"$nulls":8},534,"0536"]
[{"$nulls":8},535,"0537"]
[{"$nulls":8},536,"0538"]
[{"$nulls":8},537,"0539"]
[{"$nulls":8},538,"0540"]
[{"$nulls":8},539,"0541"]
[{"$nulls":8},540,"0542"]
[{"$nulls":8},541,"0543"]
[{"$nulls":8},542,"0544"]
[{"$nulls":8},543,"0545"]
[{"$nulls":8},544,"0546"]
[{"$nulls":8},545,"0547"]
[{"$nulls":8},546,"0548"]
[{"$nulls":8},547,"0549"]
[{"$nulls":8},549,"0550"]
[{"$nulls":8},550,"0551"]
[{"$nulls":8},551,"0552"]
[{"$nulls":8},552,"0553"]
[{"$nulls":8},553,"0554"]
[{"$nulls":8},554,"0555"]
[{"$nulls":8},555,"0556"]
[{"$nulls":8},556,"0557"]
[{"$nulls":8},557,"0558"]
[{"$nulls":8},558,"0559"]
[{"$nulls":8},559,"0560"]
[{"$nulls":8},560,"0561"]
[{"$nulls":8},561,"0562"]
[{"$nulls":8},562,"0563"]
[{"$nulls":8},563,"0564"]
[{"$nulls":8},564,"0565"]
[{"$nulls":8},565,"0566"]
[{"$nulls":8},566,"0567"]
[{"$nulls":8},567,"0568"]
[{"$nulls":8},568,"0569"]
[{"$nulls":8},569,"0571"]
[{"$nulls":8},570,"0572"]
[{"$nulls":8},571,"0573"]
[{"$nulls":8},572,"0574"]
[{"$nulls":8},573,"0575"]
[{"$nulls":8},574,"0576"]
[{"$nulls":8},575,"0577"]
[{"$nulls":8},576,"0578"]
[{"$nulls":8},577,"0579"]
[{"$nulls":8},578,"0581"]
[{"$nulls":8},579,"0582"]
[{"$nulls":8},580,"0583"]
[{"$nulls":8},581,"0584"]
[{"$nulls":8},582,"0585"]
[{"$nulls":8},583,"0586"]
[{"$nulls":8},584,"0587"]
[{"$nulls":8},585,"0588"]
[{"$nulls":8},586,"0600"]
[{"$nulls":8},587,"0601"]
[{"$nulls":8},588,"0602"]
[{"$nulls":8},589,"0603"]
[{"$nulls":8},590,"0604"]
[{"$nulls":8},591,"0605"]
[{"$nulls":8},592,"0606"]
[{"$nulls":8},593,"0607"]
[{"$nulls":8},594,"0608"]
[{"$nulls":8},595,"0609"]
[{"$nulls":8},596,"0610"]
[{"$nulls":8},597,"0611"]
[{"$nulls":8},598,"0612"]
[{"$nulls":8},599,"0613"]
[{"$nulls":8},600,"0614"]
[{"$nulls":8},601,"0615"]
[{"$nulls":8},602,"0616"]
[{"$nulls":8},603,"0617"]
[{"$nulls":8},604,"0618"]
[{"$nulls":8},605,"0619"]
[{"$nulls":8},606,"0621"]
[{"$nulls":8},607,"0622"]
[{"$nulls":8},610,"0623"]
[{"$nulls":8},611,"0624"]
[{"$nulls":8},612,"0625"]
[{"$nulls":8},613,"0626"]
[{"$nulls":8},614,"0627"]
[{"$nulls":8},615,"0628"]
[{"$nulls":8},616,"0629"]
[{"$nulls":8},617,"0631"]
[{"$nulls":8},618,"0632"]
[{"$nulls":8},619,"0633"]
[{"$nulls":8},620,"0634"]
[{"$nulls":8},621,"0635"]
[{"$nulls":8},622,"0636"]
[{"$nulls":8},623,"0637"]
[{"$nulls":8},624,"0638"]
[{"$nulls":8},625,"0639"]
[{"$nulls":8},626,"0641"]
[{"$nulls":8},627,"0642"]
[{"$nulls":8},629,"0643"]
[{"$nulls":8},630,"0644"]
[{"$nulls":8},631,"0645"]
[{"$nulls":8},632,"0646"]
[{"$nulls":8},633,"0647"]
[{"$nulls":8},634,"0648"]
[{"$nulls":8},635,"0649"]
[{"$nulls":8},636,"0650"]
[{"$nulls":8},637,"0651"]
[{"$nulls":8},638,"0652"]
[{"$nulls":8},639,"0653"]
[{"$nulls":8},640,"0654"]
[{"$nulls":8},641,"0655"]
[{"$nulls":8},642,"0656"]
[{"$nulls":8},643,"0657"]
[{"$nulls":8},644,"0658"]
[{"$nulls":8},645,"0659"]
[{"$nulls":8},646,"0661"]
[{"$nulls":8},647,"0662"]
[{"$nulls":8},648,"0663"]
[{"$nulls":8},649,"0664"]
[{"$nulls":8},650,"0665"]
[{"$nulls":8},651,"0666"]
[{"$nulls":8},652,"0667"]
[{"$nulls":8},653,"0668"]
[{"$nulls":8},654,"0669"]
[{"$nulls":8},655,"0670"]
[{"$nulls":8},656,"0671"]
[{"$nulls":8},657,"0672"]
[{"$nulls":8},658,"0673"]
[{"$nulls":8},659,"0674"]
[{"$nulls":8},660,"0675"]
[{"$nulls":8},661,"0676"]
[{"$nulls":8},662,"0677"]
[{"$nulls":8},663,"0678"]
[{"$nulls":8},664,"0679"]
[{"$nulls":8},665,"0681"]
[{"$nulls":8},666,"0682"]
[{"$nulls":8},667,"0683"]
[{"$nulls":8},668,"0684"]
[{"$nulls":8},669,"0685"]
[{"$nulls":8},670,"0686"]
[{"$nulls":8},671,"0687"]
[{"$nulls":8},672,"0688"]
[{"$nulls":8},673,"0700"]
[{"$nulls":8},674,"0701"]
[{"$nulls":8},675,"0702"]
[{"$nulls":8},676,"0703"]
[{"$nulls":8},677,"0704"]
[{"$nulls":8},678,"0705"]
[{"$nulls":8},679,"0706"]
[{"$nulls":8},680,"0707"]
[{"$nulls":8},681,"0708"]
[{"$nulls":8},682,"0709"]
[{"$nulls":8},683,"0710"]
[{"$nulls":8},684,"0711"]
[{"$nulls":8},685,"0712"]
[{"$nulls":8},689,"0713"]
[{"$nulls":8},690,"0714"]
[{"$nulls":8},691,"0715"]
[{"$nulls":8},692,"0716"]
[{"$nulls":8},693,"0717"]
[{"$nulls":8},694,"0718"]
[{"$nulls":8},695,"0719"]
[{"$nulls":8},696,"0721"]
[{"$nulls":8},697,"0722"]
[{"$nulls":8},698,"0723"]
[{"$nulls":8},699,"0724"]
[{"$nulls":8},700,"0725"]
[{"$nulls":8},701,"0726"]
[{"$nulls":8},702,"0727"]
[{"$nulls":8},703,"0728"]
[{"$nulls":8},704,"0729"]
[{"$nulls":8},705,"0731"]
[{"$nulls":8},706,"0732"]
[{"$nulls":8},707,"0733"]
[{"$nulls":8},708,"0734"]
[{"$nulls":8},709,"0735"]
[{"$nulls":8},710,"0736"]
[{"$nulls":8},711,"0737"]
[{"$nulls":8},712,"0738"]
[{"$nulls":8},713,"0739"]
[{"$nulls":8},714,"0740"]
[{"$nulls":8},715,"0741"]
[{"$nulls":8},716,"0742"]
[{"$nulls":8},717,"0743"]
[{"$nulls":8},718,"0744"]
[{"$nulls":8},719,"0745"]
[{"$nulls":8},720,"0746"]
[{"$nulls":8},721,"0747"]
[{"$nulls":8},722,"0748"]
[{"$nulls":8},723,"0749"]
[{"$nulls":8},724,"0751"]
[{"$nulls":8},725,"0752"]
[{"$nulls":8},726,"0753"]
[{"$nulls":8},727,"0754"]
[{"$nulls":8},728,"0755"]
[{"$nulls":8},729,"0756"]
[{"$nulls":8},730,"0757"]
[{"$nulls":8},731,"0758"]
[{"$nulls":8},732,"0760"]
[{"$nulls":8},733,"0761"]
[{"$nulls":8},734,"0762"]
[{"$nulls":8},735,"0763"]
[{"$nulls":8},736,"0764"]
[{"$nulls":8},737,"0765"]
[{"$nulls":8},738,"0766"]
[{"$nulls":8},739,"0767"]
[{"$nulls":8},740,"0768"]
[{"$nulls":8},741,"0769"]
[{"$nulls":8},742,"0771"]
[{"$nulls":8},743,"0772"]
[{"$nulls":8},744,"0773"]
[{"$nulls":8},745,"0774"]
[{"$nulls":8},746,"0775"]
[{"$nulls":8},747,"0776"]
[{"$nulls":8},749,"0777"]
[{"$nulls":8},750,"0778"]
[{"$nulls":8},751,"0779"]
[{"$nulls":8},752,"0780"]
[{"$nulls":8},753,"0781"]
[{"$nulls":8},754,"0782"]
[{"$nulls":8},755,"0783"]
[{"$nulls":8},756,"0785"]
[{"$nulls":8},757,"0786"]
[{"$nulls":8},758,"0787"]
[{"$nulls":8},759,"0788"]
[{"$nulls":8},760,"0800"]
[{"$nulls":8},761,"0801"]
[{"$nulls":8},762,"0802"]
[{"$nulls":8},763,"0803"]
[{"$nulls":8},764,"0804"]
[{"$nulls":8},765,"0805"]
[{"$nulls":8},766,"0806"]
[{"$nulls":8},767,"0807"]
[{"$nulls":8},768,"0808"]
[{"$nulls":8},769,"0809"]
[{"$nulls":8},770,"0810"]
[{"$nulls":8},771,"0811"]
[{"$nulls":8},772,"0812"]
[{"$nulls":8},773,"0813"]
[{"$nulls":8},774,"0814"]
[{"$nulls":8},775,"0815"]
[{"$nulls":8},776,"0816"]
[{"$nulls":8},777,"0817"]
[{"$nulls":8},778,"0818"]
[{"$nulls":8},779,"0819"]
[{"$nulls":8},780,"0820"]
[{"$nulls":8},781,"0821"]
[{"$nulls":8},782,"0822"]
[{"$nulls":8},783,"0823"]
[{"$nulls":8},784,"0824"]
[{"$nulls":8},785,"0825"]
[{"$nulls":8},786,"0826"]
[{"$nulls":8},787,"0827"]
[{"$nulls":8},788,"0828"]
[{"$nulls":8},789,"0829"]
[{"$nulls":8},790,"0830"]
[{"$nulls":8},791,"0831"]
[{"$nulls":8},792,"0832"]
[{"$nulls":8},793,"0833"]
[{"$nulls":8},794,"0834"]
[{"$nulls":8},795,"0835"]
[{"$nulls":8},796,"0836"]
[{"$nulls":8},797,"0837"]
[{"$nulls":8},798,"0838"]
[{"$nulls":8},799,"0839"]
[{"$nulls":8},800,"0840"]
[{"$nulls":8},801,"0841"]
[{"$nulls":8},802,"0842"]
[{"$nulls":8},803,"0843"]
[{"$nulls":8},804,"0844"]
[{"$nulls":8},805,"0845"]
[{"$nulls":8},806,"0846"]
[{"$nulls":8},807,"0847"]
[{"$nulls":8},808,"0848"]
[{"$nulls":8},809,"0849"]
[{"$nulls":8},810,"0850"]
[{"$nulls":8},811,"0851"]
[{"$nulls":8},812,"0852"]
[{"$nulls":8},813,"0853"]
[{"$nulls":8},814,"0854"]
[{"$nulls":8},815,"0855"]
[{"$nulls":8},816,"0856"]
[{"$nulls":8},817,"0857"]
[{"$nulls":8},818,"0858"]
[{"$nulls":8},819,"0859"]
[{"$nulls":8},820,"0860"]
[{"$nulls":8},821,"0861"]
[{"$nulls":8},822,"0862"]
[{"$nulls":8},823,"0863"]
[{"$nulls":8},824,"0864"]
[{"$nulls":8},825,"0865"]
[{"$nulls":8},826,"0866"]
[{"$nulls":8},827,"0867"]
[{"$nulls":8},828,"0868"]
[{"$nulls":8},829,"0869"]
[{"$nulls":8},830,"0870"]
[{"$nulls":8},831,"0871"]
[{"$nulls":8},832,"0872"]
[{"$nulls":8},833,"0873"]
[{"$nulls":8},834,"0874"]
[{"$nulls":8},835,"0875"]
[{"$nulls":8},836,"0876"]
[{"$nulls":8},837,"0877"]
[{"$nulls":8},838,"0878"]
[{"$nulls":8},839,"0879"]
[{"$nulls":8},840,"0880"]
[{"$nulls":8},841,"0881"]
[{"$nulls":8},842,"0882"]
[{"$nulls":8},843,"0883"]
[{"$nulls":8},844,"0884"]
[{"$nulls":8},845,"0885"]
[{"$nulls":8},846,"0886"]
[{"$nulls":8},847,"0887"]
[{"$nulls":8},848,"0888"]
[{"$nulls":8},849,"0889"]
[{"$nulls":8},850,"0890"]
[{"$nulls":8},851,"0891"]
[{"$nulls":8},852,"0892"]
[{"$nulls":8},853,"0893"]
[{"$nulls":8},854,"0894"]
[{"$nulls":8},855,"0895"]
[{"$nulls":8},856,"0896"]
[{"$nulls":8},857,"0897"]
[{"$nulls":8},858,"0898"]
[{"$nulls":8},859,"0899"]
[{"$nulls":8},860,"0900"]
[{"$nulls":8},861,"0901"]
[{"$nulls":8},862,"0902"]
[{"$nulls":8},863,"0903"]
[{"$nulls":8},864,"0904"]
[{"$nulls":8},865,"0905"]
[{"$nulls":8},866,"0906"]
[{"$nulls":8},867,"0907"]
[{"$nulls":8},868,"0908"]
[{"$nulls":8},869,"0909"]
[{"$nulls":8},870,"0910"]
[{"$nulls":8},871,"0911"]
[{"$nulls":8},872,"0912"]
[{"$nulls":8},873,"0913"]
[{"$nulls":8},874,"0914"]
[{"$nulls":8},875,"0915"]
[{"$nulls":8},876,"0916"]
[{"$nulls":8},877,"0917"]
[{"$nulls":8},878,"0918"]
[{"$nulls":8},879,"0919"]
[{"$nulls":8},880,"0920"]
[{"$nulls":8},881,"0921"]
[{"$nulls":8},882,"0922"]
[{"$nulls":8},883,"0923"]
[{"$nulls":8},884,"0924"]
[{"$nulls":8},885,"0925"]
[{"$nulls":8},886,"0926"]
[{"$nulls":8},887,"0927"]
[{"$nulls":8},888,"0928"]
[{"$nulls":8},889,"0929"]
[{"$nulls":8},890,"0930"]
[{"$nulls":8},891,"0931"]
[{"$nulls":8},892,"0932"]
[{"$nulls":8},893,"0933"]
[{"$nulls":8},894,"0934"]
[{"$nulls":8},895,"0935"]
[{"$nulls":8},896,"0936"]
[{"$nulls":8},897,"0937"]
[{"$nulls":8},898,"0938"]
[{"$nulls":8},899,"0939"]
[{"$nulls":8},900,"0940"]
[{"$nulls":8},901,"0941"]
[{"$nulls":8},902,"0942"]
[{"$nulls":8},903,"0943"]
[{"$nulls":8},904,"0944"]
[{"$nulls":8},905,"0945"]
[{"$nulls":8},906,"0946"]
[{"$nulls":8},907,"0947"]
[{"$nulls":8},910,"0948"]
[{"$nulls":8},911,"0949"]
[{"$nulls":8},912,"0950"]
[{"$nulls":8},913,"0951"]
[{"$nulls":8},914,"0952"]
[{"$nulls":8},915,"0953"]
[{"$nulls":8},916,"0954"]
[{"$nulls":8},917,"0955"]
[{"$nulls":8},918,"0956"]
[{"$nulls":8},919,"0957"]
[{"$nulls":8},920,"0958"]
[{"$nulls":8},921,"0959"]
[{"$nulls":8},922,"0960"]
[{"$nulls":8},923,"0961"]
[{"$nulls":8},924,"0962"]
[{"$nulls":8},925,"0963"]
[{"$nulls":8},926,"0964"]
[{"$nulls":8},927,"0965"]
[{"$nulls":8},928,"0966"]
[{"$nulls":8},929,"0967"]
[{"$nulls":8},930,"0968"]
[{"$nulls":8},931,"0969"]
[{"$nulls":8},932,"0970"]
[{"$nulls":8},933,"0971"]
[{"$nulls":8},934,"0972"]
[{"$nulls":8},935,"0973"]
[{"$nulls":8},936,"0974"]
[{"$nulls":8},937,"0975"]
[{"$nulls":8},938,"0976"]
[{"$nulls":8},939,"0977"]
[{"$nulls":8},940,"0978"]
[{"$nulls":8},941,"0979"]
[{"$nulls":8},942,"0980"]
[{"$nulls":8},943,"0981"]
[{"$nulls":8},944,"0982"]
[{"$nulls":8},945,"0983"]
[{"$nulls":8},946,"0984"]
[{"$nulls":8},947,"0985"]
[{"$nulls":8},948,"0986"]
[{"$nulls":8},949,"0987"]
[{"$nulls":8},950,"0988"]
[{"$nulls":8},951,"0989"]
[{"$nulls":8},952,"0991"]
[{"$nulls":8},953,"0992"]
[{"$nulls":8},954,"0993"]
[{"$nulls":8},955,"0994"]
[{"$nulls":8},956,"0995"]
[{"$nulls":8},957,"0996"]
[{"$nulls":8},958,"0997"]
[{"$nulls":8},959,"0998"]
[{"$nulls":8},960,"0999"]
[{"$nulls":8},961,"1001"]
[{"$nulls":8},962,"1002"]
[{"$nulls":8},963,"1003"]
[{"$nulls":8},964,"1004"]
[{"$nulls":8},965,"1005"]
[{"$nulls":8},966,"1006"]
[{"$nulls":8},967,"1007"]
[{"$nulls":8},968,"1008"]
[{"$nulls":8},969,"1011"]
[{"$nulls":8},970,"1012"]
[{"$nulls":8},971,"1013"]
[{"$nulls":8},972,"1014"]
[{"$nulls":8},973,"1015"]
[{"$nulls":8},974,"1016"]
[{"$nulls":8},975,"1017"]
[{"$nulls":8},976,"1018"]
[{"$nulls":8},979,"1019"]
[{"$nulls":8},980,"1020"]
[{"$nulls":8},981,"1021"]
[{"$nulls":8},982,"1022"]
[{"$nulls":8},983,"1023"]
[{"$nulls":8},984,"1024"]
[{"$nulls":8},985,"1025"]
[{"$nulls":8},986,"1026"]
[{"$nulls":8},987,"1027"]
[{"$nulls":8},988,"1028"]
[{"$nulls":8},989,"1029"]
[{"$nulls":8},990,"1031"]
[{"$nulls":8},991,"1032"]
[{"$nulls":8},992,"1033"]
[{"$nulls":8},993,"1034"]
[{"$nulls":8},994,"1035"]
[{"$nulls":8},995,"1036"]
[{"$nulls":8},996,"1037"]
[{"$nulls":8},997,"1038"]
[{"$nulls":8},998,"1039"]
[{"$nulls":8},999,"1041"]
[{"$nulls":9},"1042"]
[{"$nulls":9},"1043"]
[{"$nulls":9},"1044"]
[{"$nulls":9},"1045"]
[{"$nulls":9},"1046"]
[{"$nulls":9},"1047"]
[{"$nulls":9},"1051"]
[{"$nulls":9},"1052"]
[{"$nulls":9},"1053"]
[{"$nulls":9},"1054"]
[{"$nulls":9},"1056"]
[{"$nulls":9},"1057"]
[{"$nulls":9},"1058"]
[{"$nulls":9},"1061"]
[{"$nulls":9},"1063"]
[{"$nulls":9},"1064"]
[{"$nulls":9},"1066"]
[{"$nulls":9},"1100"]
[{"$nulls":9},"1101"]
[{"$nulls":9},"1102"]
[{"$nulls":9},"1103"]
[{"$nulls":9},"1104"]
[{"$nulls":9},"1105"]
[{"$nulls":9},"1106"]
[{"$nulls":9},"1107"]
[{"$nulls":9},"1108"]
[{"$nulls":9},"1109"]
[{"$nulls":9},"1110"]
[{"$nulls":9},"1111"]
[{"$nulls":9},"1112"]
[{"$nulls":9},"1113"]
[{"$nulls":9},"1114"]
[{"$nulls":9},"1115"]
[{"$nulls":9},"1116"]
[{"$nulls":9},"1117"]
[{"$nulls":9},"1118"]
[{"$nulls":9},"1119"]
[{"$nulls":9},"1120"]
[{"$nulls":9},"1121"]
[{"$nulls":9},"1122"]
[{"$nulls":9},"1123"]
[{"$nulls":9},"1124"]
[{"$nulls":9},"1125"]
[{"$nulls":9},"1126"]
[{"$nulls":9},"1127"]
[{"$nulls":9},"1128"]
[{"$nulls":9},"1129"]
[{"$nulls":9},"1130"]
[{"$nulls":9},"1131"]
[{"$nulls":9},"1132"]
[{"$nulls":9},"1133"]
[{"$nulls":9},"1134"]
[{"$nulls":9},"1135"]
[{"$nulls":9},"1136"]
[{"$nulls":9},"1137"]
[{"$nulls":9},"1138"]
[{"$nulls":9},"1139"]
[{"$nulls":9},"1140"]
[{"$nulls":9},"1141"]
[{"$nulls":9},"1142"]
[{"$nulls":9},"1143"]
[{"$nulls":9},"1144"]
[{"$nulls":9},"1145"]
[{"$nulls":9},"1146"]
[{"$nulls":9},"1147"]
[{"$nulls":9},"1148"]
[{"$nulls":9},"1149"]
[{"$nulls":9},"1150"]
[{"$nulls":9},"1151"]
[{"$nulls":9},"1152"]
[{"$nulls":9},"1153"]
[{"$nulls":9},"1154"]
[{"$nulls":9},"1155"]
[{"$nulls":9},"1156"]
[{"$nulls":9},"1157"]
[{"$nulls":9},"1158"]
[{"$nulls":9},"1159"]
[{"$nulls":9},"1160"]
[{"$nulls":9},"1161"]
[{"$nulls":9},"1162"]
[{"$nulls":9},"1163"]
[{"$nulls":9},"1164"]
[{"$nulls":9},"1165"]
[{"$nulls":9},"1166"]
[{"$nulls":9},"1167"]
[{"$nulls":9},"1168"]
[{"$nulls":9},"1169"]
[{"$nulls":9},"1170"]
[{"$nulls":9},"1171"]
[{"$nulls":9},"1172"]
[{"$nulls":9},"1173"]
[{"$nulls":9},"1174"]
[{"$nulls":9},"1175"]
[{"$nulls":9},"1176"]
[{"$nulls":9},"1177"]
[{"$nulls":9},"1178"]
[{"$nulls":9},"1179"]
[{"$nulls":9},"1181"]
[{"$nulls":9},"1182"]
[{"$nulls":9},"1183"]
[{"$nulls":9},"1184"]
[{"$nulls":9},"1185"]
[{"$nulls":9},"1186"]
[{"$nulls":9},"1187"]
[{"$nulls":9},"1188"]
[{"$nulls":9},"1189"]
[{"$nulls":9},"1191"]
[{"$nulls":9},"1192"]
[{"$nulls":9},"1193"]
[{"$nulls":9},"1194"]
[{"$nulls":9},"1195"]
[{"$nulls":9},"1196"]
[{"$nulls":9},"1197"]
[{"$nulls":9},"1200"]
[{"$nulls":9},"1201"]
[{"$nulls":9},"1202"]
[{"$nulls":9},"1203"]
[{"$nulls":9},"1204"]
[{"$nulls":9},"1205"]
[{"$nulls":9},"1206"]
[{"$nulls":9},"1207"]
[{"$nulls":9},"1208"]
[{"$nulls":9},"1209"]
[{"$nulls":9},"1210"]
[{"$nulls":9},"1211"]
[{"$nulls":9},"1212"]
[{"$nulls":9},"1213"]
[{"$nulls":9},"1214"]
[{"$nulls":9},"1215"]
[{"$nulls":9},"1216"]
[{"$nulls":9},"1217"]
[{"$nulls":9},"1218"]
[{"$nulls":9},"1219"]
[{"$nulls":9},"1220"]
[{"$nulls":9},"1221"]
[{"$nulls":9},"1222"]
[{"$nulls":9},"1223"]
[{"$nulls":9},"1224"]
[{"$nulls":9},"1225"]
[{"$nulls":9},"1226"]
[{"$nulls":9},"1227"]
[{"$nulls":9},"1228"]
[{"$nulls":9},"1229"]
[{"$nulls":9},"1230"]
[{"$nulls":9},"1231"]
[{"$nulls":9},"1232"]
[{"$nulls":9},"1233"]
[{"$nulls":9},"1234"]
[{"$nulls":9},"1235"]
[{"$nulls":9},"1236"]
[{"$nulls":9},"1237"]
[{"$nulls":9},"1238"]
[{"$nulls":9},"1239"]
[{"$nulls":9},"1240"]
[{"$nulls":9},"1241"]
[{"$nulls":9},"1242"]
[{"$nulls":9},"1243"]
[{"$nulls":9},"1244"]
[{"$nulls":9},"1245"]
[{"$nulls":9},"1246"]
[{"$nulls":9},"1247"]
[{"$nulls":9},"1248"]
[{"$nulls":9},"1249"]
[{"$nulls":9},"1251"]
[{"$nulls":9},"1252"]
[{"$nulls":9},"1253"]
[{"$nulls":9},"1254"]
[{"$nulls":9},"1255"]
[{"$nulls":9},"1256"]
[{"$nulls":9},"1257"]
[{"$nulls":9},"1258"]
[{"$nulls":9},"1259"]
[{"$nulls":9},"1260"]
[{"$nulls":9},"1261"]
[{"$nulls":9},"1262"]
[{"$nulls":9},"1263"]
[{"$nulls":9},"1264"]
[{"$nulls":9},"1265"]
[{"$nulls":9},"1266"]
[{"$nulls":9},"1267"]
[{"$nulls":9},"1268"]
[{"$nulls":9},"1269"]
[{"$nulls":9},"1270"]
[{"$nulls":9},"1271"]
[{"$nulls":9},"1272"]
[{"$nulls":9},"1273"]
[{"$nulls":9},"1274"]
[{"$nulls":9},"1275"]
[{"$nulls":9},"1276"]
[{"$nulls":9},"1277"]
[{"$nulls":9},"1278"]
[{"$nulls":9},"1279"]
[{"$nulls":9},"1280"]
[{"$nulls":9},"1281"]
[{"$nulls":9},"1282"]
[{"$nulls":9},"1283"]
[{"$nulls":9},"1284"]
[{"$nulls":9},"1285"]
[{"$nulls":9},"1286"]
[{"$nulls":9},"1287"]
[{"$nulls":9},"1288"]
[{"$nulls":9},"1289"]
[{"$nulls":9},"1300"]
[{"$nulls":9},"1301"]
[{"$nulls":9},"1302"]
[{"$nulls":9},"1303"]
[{"$nulls":9},"1304"]
[{"$nulls":9},"1305"]
[{"$nulls":9},"1306"]
[{"$nulls":9},"1307"]
[{"$nulls":9},"1308"]
[{"$nulls":9},"1309"]
[{"$nulls":9},"1310"]
[{"$nulls":9},"1311"]
[{"$nulls":9},"1312"]
[{"$nulls":9},"1313"]
[{"$nulls":9},"1314"]
[{"$nulls":9},"1315"]
[{"$nulls":9},"1316"]
[{"$nulls":9},"1317"]
[{"$nulls":9},"1318"]
[{"$nulls":9},"1319"]
[{"$nulls":9},"1320"]
[{"$nulls":9},"1321"]
[{"$nulls":9},"1322"]
[{"$nulls":9},"1323"]
[{"$nulls":9},"1324"]
[{"$nulls":9},"1325"]
[{"$nulls":9},"1326"]
[{"$nulls":9},"1327"]
[{"$nulls":9},"1328"]
[{"$nulls":9},"1329"]
[{"$nulls":9},"1330"]
[{"$nulls":9},"1331"]
[{"$nulls":9},"1332"]
[{"$nulls":9},"1333"]
[{"$nulls":9},"1334"]
[{"$nulls":9},"1335"]
[{"$nulls":9},"1336"]
[{"$nulls":9},"1337"]
[{"$nulls":9},"1338"]
[{"$nulls":9},"1339"]
[{"$nulls":9},"1341"]
[{"$nulls":9},"1342"]
[{"$nulls":9},"1343"]
[{"$nulls":9},"1344"]
[{"$nulls":9},"1345"]
[{"$nulls":9},"1346"]
[{"$nulls":9},"1347"]
[{"$nulls":9},"1348"]
[{"$nulls":9},"1349"]
[{"$nulls":9},"1350"]
[{"$nulls":9},"1351"]
[{"$nulls":9},"1352"]
[{"$nulls":9},"1353"]
[{"$nulls":9},"1354"]
[{"$nulls":9},"1355"]
[{"$nulls":9},"1356"]
[{"$nulls":9},"1357"]
[{"$nulls":9},"1358"]
[{"$nulls":9},"1359"]
[{"$nulls":9},"1360"]
[{"$nulls":9},"1361"]
[{"$nulls":9},"1362"]
[{"$nulls":9},"1363"]
[{"$nulls":9},"1364"]
[{"$nulls":9},"1365"]
[{"$nulls":9},"1366"]
[{"$nulls":9},"1367"]
[{"$nulls":9},"1368"]
[{"$nulls":9},"1369"]
[{"$nulls":9},"1371"]
[{"$nulls":9},"1372"]
[{"$nulls":9},"1373"]
[{"$nulls":9},"1374"]
[{"$nulls":9},"1375"]
[{"$nulls":9},"1376"]
[{"$nulls":9},"1377"]
[{"$nulls":9},"1378"]
[{"$nulls":9},"1379"]
[{"$nulls":9},"1381"]
[{"$nulls":9},"1382"]
[{"$nulls":9},"1383"]
[{"$nulls":9},"1384"]
[{"$nulls":9},"1385"]
[{"$nulls":9},"1386"]
[{"$nulls":9},"1387"]
[{"$nulls":9},"1388"]
[{"$nulls":9},"1391"]
[{"$nulls":9},"1392"]
[{"$nulls":9},"1393"]
[{"$nulls":9},"1395"]
[{"$nulls":9},"1396"]
[{"$nulls":9},"1400"]
[{"$nulls":9},"1401"]
[{"$nulls":9},"1402"]
[{"$nulls":9},"1403"]
[{"$nulls":9},"1404"]
[{"$nulls":9},"1405"]
[{"$nulls":9},"1406"]
[{"$nulls":9},"1407"]
[{"$nulls":9},"1408"]
[{"$nulls":9},"1409"]
[{"$nulls":9},"1410"]
[{"$nulls":9},"1411"]
[{"$nulls":9},"1412"]
[{"$nulls":9},"1413"]
[{"$nulls":9},"1414"]
[{"$nulls":9},"1415"]
[{"$nulls":9},"1416"]
[{"$nulls":9},"1417"]
[{"$nulls":9},"1418"]
[{"$nulls":9},"1419"]
[{"$nulls":9},"1420"]
[{"$nulls":9},"1421"]
[{"$nulls":9},"1422"]
[{"$nulls":9},"1423"]
[{"$nulls":9},"1424"]
[{"$nulls":9},"1425"]
[{"$nulls":9},"1426"]
[{"$nulls":9},"1427"]
[{"$nulls":9},"1428"]
[{"$nulls":9},"1429"]
[{"$nulls":9},"1431"]
[{"$nulls":9},"1432"]
[{"$nulls":9},"1433"]
[{"$nulls":9},"1434"]
[{"$nulls":9},"1435"]
[{"$nulls":9},"1436"]
[{"$nulls":9},"1437"]
[{"$nulls":9},"1438"]
[{"$nulls":9},"1439"]
[{"$nulls":9},"1441"]
[{"$nulls":9},"1442"]
[{"$nulls":9},"1443"]
[{"$nulls":9},"1444"]
[{"$nulls":9},"1445"]
[{"$nulls":9},"1446"]
[{"$nulls":9},"1447"]
[{"$nulls":9},"1448"]
[{"$nulls":9},"1449"]
[{"$nulls":9},"1451"]
[{"$nulls":9},"1452"]
[{"$nulls":9},"1453"]
[{"$nulls":9},"1454"]
[{"$nulls":9},"1455"]
[{"$nulls":9},"1456"]
[{"$nulls":9},"1457"]
[{"$nulls":9},"1458"]
[{"$nulls":9},"1459"]
[{"$nulls":9},"1460"]
[{"$nulls":9},"1461"]
[{"$nulls":9},"1462"]
[{"$nulls":9},"1463"]
[{"$nulls":9},"1464"]
[{"$nulls":9},"1465"]
[{"$nulls":9},"1466"]
[{"$nulls":9},"1467"]
[{"$nulls":9},"1468"]
[{"$nulls":9},"1469"]
[{"$nulls":9},"1471"]
[{"$nulls":9},"1472"]
[{"$nulls":9},"1473"]
[{"$nulls":9},"1474"]
[{"$nulls":9},"1475"]
[{"$nulls":9},"1476"]
[{"$nulls":9},"1477"]
[{"$nulls":9},"1478"]
[{"$nulls":9},"1479"]
[{"$nulls":9},"1480"]
[{"$nulls":9},"1481"]
[{"$nulls":9},"1482"]
[{"$nulls":9},"1483"]
[{"$nulls":9},"1484"]
[{"$nulls":9},"1485"]
[{"$nulls":9},"1486"]
[{"$nulls":9},"1488"]
[{"$nulls":9},"1489"]
[{"$nulls":9},"1500"]
[{"$nulls":9},"1501"]
[{"$nulls":9},"1502"]
[{"$nulls":9},"1503"]
[{"$nulls":9},"1504"]
[{"$nulls":9},"1505"]
[{"$nulls":9},"1506"]
[{"$nulls":9},"1507"]
[{"$nulls":9},"1508"]
[{"$nulls":9},"1509"]
[{"$nulls":9},"1510"]
[{"$nulls":9},"1511"]
[{"$nulls":9},"1512"]
[{"$nulls":9},"1513"]
[{"$nulls":9},"1514"]
[{"$nulls":9},"1515"]
[{"$nulls":9},"1516"]
[{"$nulls":9},"1517"]
[{"$nulls":9},"1518"]
[{"$nulls":9},"1519"]
[{"$nulls":9},"1520"]
[{"$nulls":9},"1521"]
[{"$nulls":9},"1522"]
[{"$nulls":9},"1523"]
[{"$nulls":9},"1524"]
[{"$nulls":9},"1525"]
[{"$nulls":9},"1526"]
[{"$nulls":9},"1527"]
[{"$nulls":9},"1528"]
[{"$nulls":9},"1529"]
[{"$nulls":9},"1531"]
[{"$nulls":9},"1532"]
[{"$nulls":9},"1533"]
[{"$nulls":9},"1534"]
[{"$nulls":9},"1535"]
[{"$nulls":9},"1536"]
[{"$nulls":9},"1537"]
[{"$nulls":9},"1538"]
[{"$nulls":9},"1539"]
[{"$nulls":9},"1540"]
[{"$nulls":9},"1541"]
[{"$nulls":9},"1542"]
[{"$nulls":9},"1543"]
[{"$nulls":9},"1544"]
[{"$nulls":9},"1545"]
[{"$nulls":9},"1546"]
[{"$nulls":9},"1547"]
[{"$nulls":9},"1548"]
[{"$nulls":9},"1549"]
[{"$nulls":9},"1550"]
[{"$nulls":9},"1551"]
[{"$nulls":9},"1552"]
[{"$nulls":9},"1553"]
[{"$nulls":9},"1554"]
[{"$nulls":9},"1555"]
[{"$nulls":9},"1556"]
[{"$nulls":9},"1557"]
[{"$nulls":9},"1558"]
[{"$nulls":9},"1559"]
[{"$nulls":9},"1561"]
[{"$nulls":9},"1562"]
[{"$nulls":9},"1563"]
[{"$nulls":9},"1564"]
[{"$nulls":9},"1565"]
[{"$nulls":9},"1566"]
[{"$nulls":9},"1567"]
[{"$nulls":9},"1568"]
[{"$nulls":9},"1570"]
[{"$nulls":9},"1571"]
[{"$nulls":9},"1572"]
[{"$nulls":9},"1573"]
[{"$nulls":9},"1574"]
[{"$nulls":9},"1575"]
[{"$nulls":9},"1576"]
[{"$nulls":9},"1577"]
[{"$nulls":9},"1578"]
[{"$nulls":9},"1579"]
[{"$nulls":9},"1581"]
[{"$nulls":9},"1582"]
[{"$nulls":9},"1583"]
[{"$nulls":9},"1584"]
[{"$nulls":9},"1585"]
[{"$nulls":9},"1586"]
[{"$nulls":9},"1587"]
[{"$nulls":9},"1600"]
[{"$nulls":9},"1601"]
[{"$nulls":9},"1602"]
[{"$nulls":9},"1603"]
[{"$nulls":9},"1604"]
[{"$nulls":9},"1605"]
[{"$nulls":9},"1606"]
[{"$nulls":9},"1607"]
[{"$nulls":9},"1608"]
[{"$nulls":9},"1609"]
[{"$nulls":9},"1610"]
[{"$nulls":9},"1611"]
[{"$nulls":9},"1612"]
[{"$nulls":9},"1613"]
[{"$nulls":9},"1614"]
[{"$nulls":9},"1615"]
[{"$nulls":9},"1616"]
[{"$nulls":9},"1617"]
[{"$nulls":9},"1618"]
[{"$nulls":9},"1619"]
[{"$nulls":9},"1620"]
[{"$nulls":9},"1621"]
[{"$nulls":9},"1622"]
[{"$nulls":9},"1623"]
[{"$nulls":9},"1624"]
[{"$nulls":9},"1625"]
[{"$nulls":9},"1626"]
[{"$nulls":9},"1627"]
[{"$nulls":9},"1628"]
[{"$nulls":9},"1629"]
[{"$nulls":9},"1630"]
[{"$nulls":9},"1631"]
[{"$nulls":9},"1632"]
[{"$nulls":9},"1633"]
[{"$nulls":9},"1634"]
[{"$nulls":9},"1635"]
[{"$nulls":9},"1636"]
[{"$nulls":9},"1637"]
[{"$nulls":9},"1638"]
[{"$nulls":9},"1639"]
[{"$nulls":9},"1641"]
[{"$nulls":9},"1642"]
[{"$nulls":9},"1643"]
[{"$nulls":9},"1644"]
[{"$nulls":9},"1645"]
[{"$nulls":9},"1646"]
[{"$nulls":9},"1648"]
[{"$nulls":9},"1651"]
[{"$nulls":9},"1652"]
[{"$nulls":9},"1653"]
[{"$nulls":9},"1654"]
[{"$nulls":9},"1655"]
[{"$nulls":9},"1656"]
[{"$nulls":9},"1657"]
[{"$nulls":9},"1658"]
[{"$nulls":9},"1661"]
[{"$nulls":9},"1662"]
[{"$nulls":9},"1663"]
[{"$nulls":9},"1664"]
[{"$nulls":9},"1665"]
[{"$nulls":9},"1666"]
[{"$nulls":9},"1667"]
[{"$nulls":9},"1672"]
[{"$nulls":9},"1673"]
[{"$nulls":9},"1674"]
[{"$nulls":9},"1675"]
[{"$nulls":9},"1676"]
[{"$nulls":9},"1681"]
[{"$nulls":9},"1682"]
[{"$nulls":9},"1683"]
[{"$nulls":9},"1684"]
[{"$nulls":9},"1685"]
[{"$nulls":9},"1693"]
[{"$nulls":9},"1700"]
[{"$nulls":9},"1701"]
[{"$nulls":9},"1702"]
[{"$nulls":9},"1703"]
[{"$nulls":9},"1704"]
[{"$nulls":9},"1705"]
[{"$nulls":9},"1706"]
[{"$nulls":9},"1707"]
[{"$nulls":9},"1708"]
[{"$nulls":9},"1709"]
[{"$nulls":9},"1711"]
[{"$nulls":9},"1712"]
[{"$nulls":9},"1713"]
[{"$nulls":9},"1714"]
[{"$nulls":9},"1715"]
[{"$nulls":9},"1716"]
[{"$nulls":9},"1717"]
[{"$nulls":9},"1718"]
[{"$nulls":9},"1720"]
[{"$nulls":9},"1721"]
[{"$nulls":9},"1722"]
[{"$nulls":9},"1723"]
[{"$nulls":9},"1724"]
[{"$nulls":9},"1725"]
[{"$nulls":9},"1726"]
[{"$nulls":9},"1727"]
[{"$nulls":9},"1731"]
[{"$nulls":9},"1732"]
[{"$nulls":9},"1733"]
[{"$nulls":9},"1734"]
[{"$nulls":9},"1735"]
[{"$nulls":9},"1736"]
[{"$nulls":9},"1737"]
[{"$nulls":9},"1738"]
[{"$nulls":9},"1739"]
[{"$nulls":9},"1740"]
[{"$nulls":9},"1741"]
[{"$nulls":9},"1742"]
[{"$nulls":9},"1743"]
[{"$nulls":9},"1744"]
[{"$nulls":9},"1745"]
[{"$nulls":9},"1746"]
[{"$nulls":9},"1747"]
[{"$nulls":9},"1748"]
[{"$nulls":9},"1749"]
[{"$nulls":9},"1750"]
[{"$nulls":9},"1751"]
[{"$nulls":9},"1752"]
[{"$nulls":9},"1753"]
[{"$nulls":9},"1754"]
[{"$nulls":9},"1755"]
[{"$nulls":9},"1756"]
[{"$nulls":9},"1757"]
[{"$nulls":9},"1758"]
[{"$nulls":9},"1759"]
[{"$nulls":9},"1760"]
[{"$nulls":9},"1761"]
[{"$nulls":9},"1762"]
[{"$nulls":9},"1763"]
[{"$nulls":9},"1764"]
[{"$nulls":9},"1765"]
[{"$nulls":9},"1766"]
[{"$nulls":9},"1767"]
[{"$nulls":9},"1771"]
[{"$nulls":9},"1772"]
[{"$nulls":9},"1773"]
[{"$nulls":9},"1774"]
[{"$nulls":9},"1780"]
[{"$nulls":9},"1781"]
[{"$nulls":9},"1782"]
[{"$nulls":9},"1783"]
[{"$nulls":9},"1784"]
[{"$nulls":9},"1785"]
[{"$nulls":9},"1787"]
[{"$nulls":9},"1788"]
[{"$nulls":9},"1789"]
[{"$nulls":9},"1800"]
[{"$nulls":9},"1801"]
[{"$nulls":9},"1802"]
[{"$nulls":9},"1803"]
[{"$nulls":9},"1804"]
[{"$nulls":9},"1805"]
[{"$nulls":9},"1806"]
[{"$nulls":9},"1807"]
[{"$nulls":9},"1808"]
[{"$nulls":9},"1811"]
[{"$nulls":9},"1812"]
[{"$nulls":9},"1813"]
[{"$nulls":9},"1814"]
[{"$nulls":9},"1815"]
[{"$nulls":9},"1816"]
[{"$nulls":9},"1817"]
[{"$nulls":9},"1818"]
[{"$nulls":9},"1821"]
[{"$nulls":9},"1822"]
[{"$nulls":9},"1823"]
[{"$nulls":9},"1824"]
[{"$nulls":9},"1825"]
[{"$nulls":9},"1826"]
[{"$nulls":9},"1827"]
[{"$nulls":9},"1828"]
[{"$nulls":9},"1831"]
[{"$nulls":9},"1832"]
[{"$nulls":9},"1833"]
[{"$nulls":9},"1834"]
[{"$nulls":9},"1835"]
[{"$nulls":9},"1836"]
[{"$nulls":9},"1837"]
[{"$nulls":9},"1841"]
[{"$nulls":9},"1842"]
[{"$nulls":9},"1843"]
[{"$nulls":9},"1844"]
[{"$nulls":9},"1845"]
[{"$nulls":9},"1846"]
[{"$nulls":9},"1847"]
[{"$nulls":9},"1848"]
[{"$nulls":9},"1851"]
[{"$nulls":9},"1852"]
[{"$nulls":9},"1853"]
[{"$nulls":9},"1854"]
[{"$nulls":9},"1855"]
[{"$nulls":9},"1856"]
[{"$nulls":9},"1857"]
[{"$nulls":9},"1858"]
[{"$nulls":9},"1861"]
[{"$nulls":9},"1862"]
[{"$nulls":9},"1863"]
[{"$nulls":9},"1864"]
[{"$nulls":9},"1865"]
[{"$nulls":9},"1866"]
[{"$nulls":9},"1867"]
[{"$nulls":9},"1868"]
[{"$nulls":9},"1871"]
[{"$nulls":9},"1872"]
[{"$nulls":9},"1873"]
[{"$nulls":9},"1874"]
[{"$nulls":9},"1875"]
[{"$nulls":9},"1876"]
[{"$nulls":9},"1877"]
[{"$nulls":9},"1878"]
[{"$nulls":9},"1879"]
[{"$nulls":9},"1881"]
[{"$nulls":9},"1882"]
[{"$nulls":9},"1883"]
[{"$nulls":9},"1885"]
[{"$nulls":9},"1886"]
[{"$nulls":9},"1888"]
[{"$nulls":9},"1900"]
[{"$nulls":9},"1901"]
[{"$nulls":9},"1902"]
[{"$nulls":9},"1903"]
[{"$nulls":9},"1904"]
[{"$nulls":9},"1905"]
[{"$nulls":9},"1906"]
[{"$nulls":9},"1907"]
[{"$nulls":9},"1908"]
[{"$nulls":9},"1909"]
[{"$nulls":9},"1910"]
[{"$nulls":9},"1911"]
[{"$nulls":9},"1912"]
[{"$nulls":9},"1913"]
[{"$nulls":9},"1914"]
[{"$nulls":9},"1915"]
[{"$nulls":9},"1916"]
[{"$nulls":9},"1917"]
[{"$nulls":9},"1918"]
[{"$nulls":9},"1919"]
[{"$nulls":9},"1921"]
[{"$nulls":9},"1922"]
[{"$nulls":9},"1923"]
[{"$nulls":9},"1924"]
[{"$nulls":9},"1925"]
[{"$nulls":9},"1926"]
[{"$nulls":9},"1927"]
[{"$nulls":9},"1928"]
[{"$nulls":9},"1929"]
[{"$nulls":9},"1930"]
[{"$nulls":9},"1931"]
[{"$nulls":9},"1932"]
[{"$nulls":9},"1933"]
[{"$nulls":9},"1934"]
[{"$nulls":9},"1935"]
[{"$nulls":9},"1936"]
[{"$nulls":9},"1937"]
[{"$nulls":9},"1938"]
[{"$nulls":9},"1941"]
[{"$nulls":9},"1942"]
[{"$nulls":9},"1943"]
[{"$nulls":9},"1944"]
[{"$nulls":9},"1945"]
[{"$nulls":9},"1946"]
[{"$nulls":9},"1947"]
[{"$nulls":9},"1948"]
[{"$nulls":9},"1949"]
[{"$nulls":9},"1951"]
[{"$nulls":9},"1952"]
[{"$nulls":9},"1953"]
[{"$nulls":9},"1954"]
[{"$nulls":9},"1955"]
[{"$nulls":9},"1956"]
[{"$nulls":9},"1957"]
[{"$nulls":9},"1958"]
[{"$nulls":9},"1959"]
[{"$nulls":9},"1961"]
[{"$nulls":9},"1962"]
[{"$nulls":9},"1963"]
[{"$nulls":9},"1964"]
[{"$nulls":9},"1965"]
[{"$nulls":9},"1966"]
[{"$nulls":9},"1967"]
[{"$nulls":9},"1968"]
[{"$nulls":9},"1969"]
[{"$nulls":9},"1971"]
[{"$nulls":9},"1972"]
[{"$nulls":9},"1973"]
[{"$nulls":9},"1974"]
[{"$nulls":9},"1975"]
[{"$nulls":9},"1976"]
[{"$nulls":9},"1977"]
[{"$nulls":9},"1978"]
[{"$nulls":9},"1979"]
[{"$nulls":9},"1982"]
[{"$nulls":9},"1984"]
[{"$nulls":9},"2000"]
[{"$nulls":9},"2001"]
[{"$nulls":9},"2002"]
[{"$nulls":9},"2003"]
[{"$nulls":9},"2004"]
[{"$nulls":9},"2005"]
[{"$nulls":9},"2006"]
[{"$nulls":9},"2007"]
[{"$nulls":9},"2011"]
[{"$nulls":9},"2012"]
[{"$nulls":9},"2013"]
[{"$nulls":9},"2014"]
[{"$nulls":9},"2015"]
[{"$nulls":9},"2016"]
[{"$nulls":9},"2017"]
[{"$nulls":9},"2018"]
[{"$nulls":9},"2021"]
[{"$nulls":9},"2022"]
[{"$nulls":9},"2023"]
[{"$nulls":9},"2024"]
[{"$nulls":9},"2025"]
[{"$nulls":9},"2026"]
[{"$nulls":9},"2027"]
[{"$nulls":9},"2028"]
[{"$nulls":9},"2031"]
[{"$nulls":9},"2032"]
[{"$nulls":9},"2033"]
[{"$nulls":9},"2034"]
[{"$nulls":9},"2035"]
[{"$nulls":9},"2036"]
[{"$nulls":9},"2037"]
[{"$nulls":9},"2038"]
[{"$nulls":9},"2039"]
[{"$nulls":9},"2041"]
[{"$nulls":9},"2042"]
[{"$nulls":9},"2043"]
[{"$nulls":9},"2044"]
[{"$nulls":9},"2045"]
[{"$nulls":9},"2046"]
[{"$nulls":9},"2047"]
[{"$nulls":9},"2048"]
[{"$nulls":9},"2049"]
[{"$nulls":9},"2051"]
[{"$nulls":9},"2052"]
[{"$nulls":9},"2053"]
[{"$nulls":9},"2054"]
[{"$nulls":9},"2055"]
[{"$nulls":9},"2056"]
[{"$nulls":9},"2057"]
[{"$nulls":9},"2058"]
[{"$nulls":9},"2059"]
[{"$nulls":9},"2061"]
[{"$nulls":9},"2062"]
[{"$nulls":9},"2063"]
[{"$nulls":9},"2064"]
[{"$nulls":9},"2065"]
[{"$nulls":9},"2066"]
[{"$nulls":9},"2071"]
[{"$nulls":9},"2072"]
[{"$nulls":9},"2073"]
[{"$nulls":9},"2074"]
[{"$nulls":9},"2075"]
[{"$nulls":9},"2076"]
[{"$nulls":9},"2081"]
[{"$nulls":9},"2082"]
[{"$nulls":9},"2083"]
[{"$nulls":9},"2085"]
[{"$nulls":9},"2086"]
[{"$nulls":9},"2100"]
[{"$nulls":9},"2101"]
[{"$nulls":9},"2102"]
[{"$nulls":9},"2103"]
[{"$nulls":9},"2104"]
[{"$nulls":9},"2105"]
[{"$nulls":9},"2106"]
[{"$nulls":9},"2107"]
[{"$nulls":9},"2108"]
[{"$nulls":9},"2109"]
[{"$nulls":9},"2110"]
[{"$nulls":9},"2111"]
[{"$nulls":9},"2112"]
[{"$nulls":9},"2113"]
[{"$nulls":9},"2114"]
[{"$nulls":9},"2115"]
[{"$nulls":9},"2116"]
[{"$nulls":9},"2117"]
[{"$nulls":9},"2118"]
[{"$nulls":9},"2119"]
[{"$nulls":9},"2120"]
[{"$nulls":9},"2121"]
[{"$nulls":9},"2122"]
[{"$nulls":9},"2123"]
[{"$nulls":9},"2124"]
[{"$nulls":9},"2125"]
[{"$nulls":9},"2126"]
[{"$nulls":9},"2127"]
[{"$nulls":9},"2128"]
[{"$nulls":9},"2129"]
[{"$nulls":9},"2130"]
[{"$nulls":9},"2131"]
[{"$nulls":9},"2132"]
[{"$nulls":9},"2133"]
[{"$nulls":9},"2134"]
[{"$nulls":9},"2135"]
[{"$nulls":9},"2136"]
[{"$nulls":9},"2137"]
[{"$nulls":9},"2138"]
[{"$nulls":9},"2139"]
[{"$nulls":9},"2140"]
[{"$nulls":9},"2141"]
[{"$nulls":9},"2142"]
[{"$nulls":9},"2143"]
[{"$nulls":9},"2144"]
[{"$nulls":9},"2145"]
[{"$nulls":9},"2146"]
[{"$nulls":9},"2147"]
[{"$nulls":9},"2148"]
[{"$nulls":9},"2149"]
[{"$nulls":9},"2151"]
[{"$nulls":9},"2152"]
[{"$nulls":9},"2153"]
[{"$nulls":9},"2154"]
[{"$nulls":9},"2155"]
[{"$nulls":9},"2156"]
[{"$nulls":9},"2157"]
[{"$nulls":9},"2158"]
[{"$nulls":9},"2159"]
[{"$nulls":9},"2161"]
[{"$nulls":9},"2162"]
[{"$nulls":9},"2163"]
[{"$nulls":9},"2164"]
[{"$nulls":9},"2165"]
[{"$nulls":9},"2166"]
[{"$nulls":9},"2167"]
[{"$nulls":9},"2168"]
[{"$nulls":9},"2170"]
[{"$nulls":9},"2171"]
[{"$nulls":9},"2172"]
[{"$nulls":9},"2173"]
[{"$nulls":9},"2174"]
[{"$nulls":9},"2175"]
[{"$nulls":9},"2176"]
[{"$nulls":9},"2177"]
[{"$nulls":9},"2178"]
[{"$nulls":9},"2179"]
[{"$nulls":9},"2181"]
[{"$nulls":9},"2182"]
[{"$nulls":9},"2183"]
[{"$nulls":9},"2184"]
[{"$nulls":9},"2185"]
[{"$nulls":9},"2186"]
[{"$nulls":9},"2187"]
[{"$nulls":9},"2188"]
[{"$nulls":9},"2189"]
[{"$nulls":9},"2200"]
[{"$nulls":9},"2201"]
[{"$nulls":9},"2202"]
[{"$nulls":9},"2203"]
[{"$nulls":9},"2204"]
[{"$nulls":9},"2205"]
[{"$nulls":9},"2206"]
[{"$nulls":9},"2207"]
[{"$nulls":9},"2208"]
[{"$nulls":9},"2209"]
[{"$nulls":9},"2211"]
[{"$nulls":9},"2212"]
[{"$nulls":9},"2213"]
[{"$nulls":9},"2214"]
[{"$nulls":9},"2215"]
[{"$nulls":9},"2216"]
[{"$nulls":9},"2217"]
[{"$nulls":9},"2218"]
[{"$nulls":9},"2219"]
[{"$nulls":9},"2220"]
[{"$nulls":9},"2221"]
[{"$nulls":9},"2222"]
[{"$nulls":9},"2223"]
[{"$nulls":9},"2224"]
[{"$nulls":9},"2225"]
[{"$nulls":9},"2226"]
[{"$nulls":9},"2227"]
[{"$nulls":9},"2228"]
[{"$nulls":9},"2229"]
[{"$nulls":9},"2231"]
[{"$nulls":9},"2232"]
[{"$nulls":9},"2233"]
[{"$nulls":9},"2234"]
[{"$nulls":9},"2235"]
[{"$nulls":9},"2236"]
[{"$nulls":9},"2237"]
[{"$nulls":9},"2238"]
[{"$nulls":9},"2239"]
[{"$nulls":9},"2241"]
[{"$nulls":9},"2242"]
[{"$nulls":9},"2243"]
[{"$nulls":9},"2244"]
[{"$nulls":9},"2245"]
[{"$nulls":9},"2246"]
[{"$nulls":9},"2247"]
[{"$nulls":9},"2248"]
[{"$nulls":9},"2249"]
[{"$nulls":9},"2251"]
[{"$nulls":9},"2252"]
[{"$nulls":9},"2253"]
[{"$nulls":9},"2254"]
[{"$nulls":9},"2255"]
[{"$nulls":9},"2256"]
[{"$nulls":9},"2257"]
[{"$nulls":9},"2258"]
[{"$nulls":9},"2259"]
[{"$nulls":9},"2261"]
[{"$nulls":9},"2262"]
[{"$nulls":9},"2263"]
[{"$nulls":9},"2264"]
[{"$nulls":9},"2265"]
[{"$nulls":9},"2266"]
[{"$nulls":9},"2267"]
[{"$nulls":9},"2268"]
[{"$nulls":9},"2269"]
[{"$nulls":9},"2271"]
[{"$nulls":9},"2272"]
[{"$nulls":9},"2273"]
[{"$nulls":9},"2274"]
[{"$nulls":9},"2275"]
[{"$nulls":9},"2276"]
[{"$nulls":9},"2277"]
[{"$nulls":9},"2278"]
[{"$nulls":9},"2279"]
[{"$nulls":9},"2281"]
[{"$nulls":9},"2282"]
[{"$nulls":9},"2283"]
[{"$nulls":9},"2284"]
[{"$nulls":9},"2285"]
[{"$nulls":9},"2286"]
[{"$nulls":9},"2300"]
[{"$nulls":9},"2301"]
[{"$nulls":9},"2302"]
[{"$nulls":9},"2303"]
[{"$nulls":9},"2304"]
[{"$nulls":9},"2305"]
[{"$nulls":9},"2306"]
[{"$nulls":9},"2307"]
[{"$nulls":9},"2308"]
[{"$nulls":9},"2309"]
[{"$nulls":9},"2310"]
[{"$nulls":9},"2311"]
[{"$nulls":9},"2312"]
[{"$nulls":9},"2313"]
[{"$nulls":9},"2314"]
[{"$nulls":9},"2315"]
[{"$nulls":9},"2316"]
[{"$nulls":9},"2317"]
[{"$nulls":9},"2318"]
[{"$nulls":9},"2319"]
[{"$nulls":9},"2321"]
[{"$nulls":9},"2322"]
[{"$nulls":9},"2323"]
[{"$nulls":9},"2324"]
[{"$nulls":9},"2325"]
[{"$nulls":9},"2326"]
[{"$nulls":9},"2327"]
[{"$nulls":9},"2328"]
[{"$nulls":9},"2329"]
[{"$nulls":9},"2331"]
[{"$nulls":9},"2332"]
[{"$nulls":9},"2333"]
[{"$nulls":9},"2334"]
[{"$nulls":9},"2335"]
[{"$nulls":9},"2336"]
[{"$nulls":9},"2337"]
[{"$nulls":9},"2338"]
[{"$nulls":9},"2339"]
[{"$nulls":9},"2341"]
[{"$nulls":9},"2342"]
[{"$nulls":9},"2343"]
[{"$nulls":9},"2344"]
[{"$nulls":9},"2345"]
[{"$nulls":9},"2346"]
[{"$nulls":9},"2347"]
[{"$nulls":9},"2348"]
[{"$nulls":9},"2349"]
[{"$nulls":9},"2351"]
[{"$nulls":9},"2352"]
[{"$nulls":9},"2353"]
[{"$nulls":9},"2354"]
[{"$nulls":9},"2355"]
[{"$nulls":9},"2356"]
[{"$nulls":9},"2357"]
[{"$nulls":9},"2358"]
[{"$nulls":9},"2359"]
[{"$nulls":9},"2361"]
[{"$nulls":9},"2362"]
[{"$nulls":9},"2363"]
[{"$nulls":9},"2364"]
[{"$nulls":9},"2365"]
[{"$nulls":9},"2366"]
[{"$nulls":9},"2367"]
[{"$nulls":9},"2368"]
[{"$nulls":9},"2369"]
[{"$nulls":9},"2371"]
[{"$nulls":9},"2372"]
[{"$nulls":9},"2373"]
[{"$nulls":9},"2374"]
[{"$nulls":9},"2375"]
[{"$nulls":9},"2376"]
[{"$nulls":9},"2377"]
[{"$nulls":9},"2378"]
[{"$nulls":9},"2379"]
[{"$nulls":9},"2380"]
[{"$nulls":9},"2381"]
[{"$nulls":9},"2382"]
[{"$nulls":9},"2383"]
[{"$nulls":9},"2384"]
[{"$nulls":9},"2385"]
[{"$nulls":9},"2386"]
[{"$nulls":9},"2387"]
[{"$nulls":9},"2388"]
[{"$nulls":9},"2389"]
[{"$nulls":9},"2400"]
[{"$nulls":9},"2401"]
[{"$nulls":9},"2402"]
[{"$nulls":9},"2403"]
[{"$nulls":9},"2404"]
[{"$nulls":9},"2405"]
[{"$nulls":9},"2406"]
[{"$nulls":9},"2407"]
[{"$nulls":9},"2408"]
[{"$nulls":9},"2409"]
[{"$nulls":9},"2410"]
[{"$nulls":9},"2411"]
[{"$nulls":9},"2412"]
[{"$nulls":9},"2413"]
[{"$nulls":9},"2414"]
[{"$nulls":9},"2415"]
[{"$nulls":9},"2416"]
[{"$nulls":9},"2417"]
[{"$nulls":9},"2418"]
[{"$nulls":9},"2419"]
[{"$nulls":9},"2420"]
[{"$nulls":9},"2421"]
[{"$nulls":9},"2422"]
[{"$nulls":9},"2423"]
[{"$nulls":9},"2424"]
[{"$nulls":9},"2425"]
[{"$nulls":9},"2426"]
[{"$nulls":9},"2427"]
[{"$nulls":9},"2428"]
[{"$nulls":9},"2429"]
[{"$nulls":9},"2430"]
[{"$nulls":9},"2431"]
[{"$nulls":9},"2432"]
[{"$nulls":9},"2433"]
[{"$nulls":9},"2434"]
[{"$nulls":9},"2435"]
[{"$nulls":9},"2436"]
[{"$nulls":9},"2437"]
[{"$nulls":9},"2438"]
[{"$nulls":9},"2439"]
[{"$nulls":9},"2440"]
[{"$nulls":9},"2441"]
[{"$nulls":9},"2442"]
[{"$nulls":9},"2443"]
[{"$nulls":9},"2444"]
[{"$nulls":9},"2445"]
[{"$nulls":9},"2446"]
[{"$nulls":9},"2447"]
[{"$nulls":9},"2448"]
[{"$nulls":9},"2449"]
[{"$nulls":9},"2451"]
[{"$nulls":9},"2452"]
[{"$nulls":9},"2453"]
[{"$nulls":9},"2454"]
[{"$nulls":9},"2455"]
[{"$nulls":9},"2456"]
[{"$nulls":9},"2457"]
[{"$nulls":9},"2458"]
[{"$nulls":9},"2459"]
[{"$nulls":9},"2460"]
[{"$nulls":9},"2461"]
[{"$nulls":9},"2462"]
[{"$nulls":9},"2463"]
[{"$nulls":9},"2464"]
[{"$nulls":9},"2465"]
[{"$nulls":9},"2466"]
[{"$nulls":9},"2467"]
[{"$nulls":9},"2468"]
[{"$nulls":9},"2469"]
[{"$nulls":9},"2471"]
[{"$nulls":9},"2472"]
[{"$nulls":9},"2473"]
[{"$nulls":9},"2474"]
[{"$nulls":9},"2475"]
[{"$nulls":9},"2476"]
[{"$nulls":9},"2477"]
[{"$nulls":9},"2478"]
[{"$nulls":9},"2479"]
[{"$nulls":9},"2481"]
[{"$nulls":9},"2482"]
[{"$nulls":9},"2483"]
[{"$nulls":9},"2491"]
[{"$nulls":9},"2495"]
[{"$nulls":9},"2500"]
[{"$nulls":9},"2501"]
[{"$nulls":9},"2502"]
[{"$nulls":9},"2503"]
[{"$nulls":9},"2504"]
[{"$nulls":9},"2505"]
[{"$nulls":9},"2506"]
[{"$nulls":9},"2507"]
[{"$nulls":9},"2508"]
[{"$nulls":9},"2509"]
[{"$nulls":9},"2510"]
[{"$nulls":9},"2511"]
[{"$nulls":9},"2512"]
[{"$nulls":9},"2513"]
[{"$nulls":9},"2514"]
[{"$nulls":9},"2515"]
[{"$nulls":9},"2516"]
[{"$nulls":9},"2517"]
[{"$nulls":9},"2518"]
[{"$nulls":9},"2519"]
[{"$nulls":9},"2520"]
[{"$nulls":9},"2521"]
[{"$nulls":9},"2522"]
[{"$nulls":9},"2523"]
[{"$nulls":9},"2524"]
[{"$nulls":9},"2525"]
[{"$nulls":9},"2526"]
[{"$nulls":9},"2527"]
[{"$nulls":9},"2528"]
[{"$nulls":9},"2529"]
[{"$nulls":9},"2530"]
[{"$nulls":9},"2531"]
[{"$nulls":9},"2532"]
[{"$nulls":9},"2533"]
[{"$nulls":9},"2534"]
[{"$nulls":9},"2535"]
[{"$nulls":9},"2536"]
[{"$nulls":9},"2537"]
[{"$nulls":9},"2538"]
[{"$nulls":9},"2539"]
[{"$nulls":9},"2541"]
[{"$nulls":9},"2542"]
[{"$nulls":9},"2543"]
[{"$nulls":9},"2544"]
[{"$nulls":9},"2545"]
[{"$nulls":9},"2546"]
[{"$nulls":9},"2547"]
[{"$nulls":9},"2548"]
[{"$nulls":9},"2549"]
[{"$nulls":9},"2551"]
[{"$nulls":9},"2552"]
[{"$nulls":9},"2553"]
[{"$nulls":9},"2554"]
[{"$nulls":9},"2555"]
[{"$nulls":9},"2556"]
[{"$nulls":9},"2557"]
[{"$nulls":9},"2558"]
[{"$nulls":9},"2559"]
[{"$nulls":9},"2560"]
[{"$nulls":9},"2561"]
[{"$nulls":9},"2562"]
[{"$nulls":9},"2563"]
[{"$nulls":9},"2564"]
[{"$nulls":9},"2565"]
[{"$nulls":9},"2566"]
[{"$nulls":9},"2567"]
[{"$nulls":9},"2568"]
[{"$nulls":9},"2569"]
[{"$nulls":9},"2570"]
[{"$nulls":9},"2571"]
[{"$nulls":9},"2572"]
[{"$nulls":9},"2573"]
[{"$nulls":9},"2574"]
[{"$nulls":9},"2575"]
[{"$nulls":9},"2576"]
[{"$nulls":9},"2577"]
[{"$nulls":9},"2578"]
[{"$nulls":9},"2579"]
[{"$nulls":9},"2582"]
[{"$nulls":9},"2583"]
[{"$nulls":9},"2584"]
[{"$nulls":9},"2585"]
[{"$nulls":9},"2586"]
[{"$nulls":9},"2587"]
[{"$nulls":9},"2588"]
[{"$nulls":9},"2600"]
[{"$nulls":9},"2601"]
[{"$nulls":9},"2602"]
[{"$nulls":9},"2603"]
[{"$nulls":9},"2604"]
[{"$nulls":9},"2605"]
[{"$nulls":9},"2606"]
[{"$nulls":9},"2607"]
[{"$nulls":9},"2608"]
[{"$nulls":9},"2609"]
[{"$nulls":9},"2611"]
[{"$nulls":9},"2612"]
[{"$nulls":9},"2613"]
[{"$nulls":9},"2614"]
[{"$nulls":9},"2615"]
[{"$nulls":9},"2616"]
[{"$nulls":9},"2617"]
[{"$nulls":9},"2618"]
[{"$nulls":9},"2619"]
[{"$nulls":9},"2621"]
[{"$nulls":9},"2622"]
[{"$nulls":9},"2623"]
[{"$nulls":9},"2624"]
[{"$nulls":9},"2625"]
[{"$nulls":9},"2626"]
[{"$nulls":9},"2627"]
[{"$nulls":9},"2628"]
[{"$nulls":9},"2629"]
[{"$nulls":9},"2631"]
[{"$nulls":9},"2632"]
[{"$nulls":9},"2633"]
[{"$nulls":9},"2634"]
[{"$nulls":9},"2635"]
[{"$nulls":9},"2636"]
[{"$nulls":9},"2637"]
[{"$nulls":9},"2638"]
[{"$nulls":9},"2639"]
[{"$nulls":9},"2641"]
[{"$nulls":9},"2642"]
[{"$nulls":9},"2643"]
[{"$nulls":9},"2644"]
[{"$nulls":9},"2645"]
[{"$nulls":9},"2646"]
[{"$nulls":9},"2647"]
[{"$nulls":9},"2648"]
[{"$nulls":9},"2649"]
[{"$nulls":9},"2651"]
[{"$nulls":9},"2652"]
[{"$nulls":9},"2653"]
[{"$nulls":9},"2654"]
[{"$nulls":9},"2655"]
[{"$nulls":9},"2656"]
[{"$nulls":9},"2657"]
[{"$nulls":9},"2658"]
[{"$nulls":9},"2659"]
[{"$nulls":9},"2661"]
[{"$nulls":9},"2662"]
[{"$nulls":9},"2663"]
[{"$nulls":9},"2664"]
[{"$nulls":9},"2665"]
[{"$nulls":9},"2666"]
[{"$nulls":9},"2667"]
[{"$nulls":9},"2668"]
[{"$nulls":9},"2669"]
[{"$nulls":9},"2671"]
[{"$nulls":9},"2672"]
[{"$nulls":9},"2673"]
[{"$nulls":9},"2674"]
[{"$nulls":9},"2675"]
[{"$nulls":9},"2676"]
[{"$nulls":9},"2677"]
[{"$nulls":9},"2678"]
[{"$nulls":9},"2681"]
[{"$nulls":9},"2682"]
[{"$nulls":9},"2683"]
[{"$nulls":9},"2686"]
[{"$nulls":9},"2687"]
[{"$nulls":9},"2688"]
[{"$nulls":9},"2700"]
[{"$nulls":9},"2701"]
[{"$nulls":9},"2702"]
[{"$nulls":9},"2703"]
[{"$nulls":9},"2704"]
[{"$nulls":9},"2705"]
[{"$nulls":9},"2706"]
[{"$nulls":9},"2707"]
[{"$nulls":9},"2708"]
[{"$nulls":9},"2709"]
[{"$nulls":9},"2711"]
[{"$nulls":9},"2712"]
[{"$nulls":9},"2713"]
[{"$nulls":9},"2714"]
[{"$nulls":9},"2715"]
[{"$nulls":9},"2716"]
[{"$nulls":9},"2717"]
[{"$nulls":9},"2718"]
[{"$nulls":9},"2721"]
[{"$nulls":9},"2722"]
[{"$nulls":9},"2723"]
[{"$nulls":9},"2724"]
[{"$nulls":9},"2725"]
[{"$nulls":9},"2726"]
[{"$nulls":9},"2727"]
[{"$nulls":9},"2728"]
[{"$nulls":9},"2729"]
[{"$nulls":9},"2731"]
[{"$nulls":9},"2732"]
[{"$nulls":9},"2733"]
[{"$nulls":9},"2734"]
[{"$nulls":9},"2735"]
[{"$nulls":9},"2736"]
[{"$nulls":9},"2738"]
[{"$nulls":9},"2741"]
[{"$nulls":9},"2742"]
[{"$nulls":9},"2743"]
[{"$nulls":9},"2744"]
[{"$nulls":9},"2745"]
[{"$nulls":9},"2746"]
[{"$nulls":9},"2747"]
[{"$nulls":9},"2748"]
[{"$nulls":9},"2749"]
[{"$nulls":9},"2751"]
[{"$nulls":9},"2752"]
[{"$nulls":9},"2753"]
[{"$nulls":9},"2754"]
[{"$nulls":9},"2755"]
[{"$nulls":9},"2756"]
[{"$nulls":9},"2757"]
[{"$nulls":9},"2761"]
[{"$nulls":9},"2762"]
[{"$nulls":9},"2763"]
[{"$nulls":9},"2772"]
[{"$nulls":9},"2773"]
[{"$nulls":9},"2774"]
[{"$nulls":9},"2775"]
[{"$nulls":9},"2776"]
[{"$nulls":9},"2777"]
[{"$nulls":9},"2778"]
[{"$nulls":9},"2779"]
[{"$nulls":9},"2781"]
[{"$nulls":9},"2782"]
[{"$nulls":9},"2785"]
[{"$nulls":9},"2800"]
[{"$nulls":9},"2801"]
[{"$nulls":9},"2802"]
[{"$nulls":9},"2803"]
[{"$nulls":9},"2804"]
[{"$nulls":9},"2805"]
[{"$nulls":9},"2806"]
[{"$nulls":9},"2807"]
[{"$nulls":9},"2808"]
[{"$nulls":9},"2809"]
[{"$nulls":9},"2811"]
[{"$nulls":9},"2812"]
[{"$nulls":9},"2813"]
[{"$nulls":9},"2814"]
[{"$nulls":9},"2815"]
[{"$nulls":9},"2816"]
[{"$nulls":9},"2817"]
[{"$nulls":9},"2818"]
[{"$nulls":9},"2821"]
[{"$nulls":9},"2822"]
[{"$nulls":9},"2823"]
[{"$nulls":9},"2824"]
[{"$nulls":9},"2825"]
[{"$nulls":9},"2826"]
[{"$nulls":9},"2827"]
[{"$nulls":9},"2828"]
[{"$nulls":9},"2831"]
[{"$nulls":9},"2832"]
[{"$nulls":9},"2833"]
[{"$nulls":9},"2834"]
[{"$nulls":9},"2835"]
[{"$nulls":9},"2836"]
[{"$nulls":9},"2837"]
[{"$nulls":9},"2838"]
[{"$nulls":9},"2839"]
[{"$nulls":9},"2841"]
[{"$nulls":9},"2842"]
[{"$nulls":9},"2843"]
[{"$nulls":9},"2844"]
[{"$nulls":9},"2845"]
[{"$nulls":9},"2846"]
[{"$nulls":9},"2847"]
[{"$nulls":9},"2851"]
[{"$nulls":9},"2852"]
[{"$nulls":9},"2853"]
[{"$nulls":9},"2854"]
[{"$nulls":9},"2855"]
[{"$nulls":9},"2856"]
[{"$nulls":9},"2857"]
[{"$nulls":9},"2858"]
[{"$nulls":9},"2861"]
[{"$nulls":9},"2862"]
[{"$nulls":9},"2863"]
[{"$nulls":9},"2864"]
[{"$nulls":9},"2865"]
[{"$nulls":9},"2866"]
[{"$nulls":9},"2867"]
[{"$nulls":9},"2871"]
[{"$nulls":9},"2873"]
[{"$nulls":9},"2874"]
[{"$nulls":9},"2875"]
[{"$nulls":9},"2877"]
[{"$nulls":9},"2901"]
[{"$nulls":9},"2902"]
[{"$nulls":9},"2903"]
[{"$nulls":9},"2904"]
[{"$nulls":9},"2905"]
[{"$nulls":9},"2906"]
[{"$nulls":9},"2907"]
[{"$nulls":9},"2908"]
[{"$nulls":9},"2911"]
[{"$nulls":9},"2921"]
[{"$nulls":9},"2922"]
[{"$nulls":9},"2923"]
[{"$nulls":9},"2924"]
[{"$nulls":9},"2931"]
[{"$nulls":9},"2932"]
[{"$nulls":9},"2933"]
[{"$nulls":9},"2934"]
[{"$nulls":9},"2936"]
[{"$nulls":9},"2937"]
[{"$nulls":9},"2941"]
[{"$nulls":9},"2942"]
[{"$nulls":9},"2943"]
[{"$nulls":9},"2944"]
[{"$nulls":9},"2946"]
[{"$nulls":9},"2947"]
[{"$nulls":9},"3000"]
[{"$nulls":9},"3002"]
[{"$nulls":9},"3006"]
[{"$nulls":9},"3013"]
[{"$nulls":9},"3014"]
[{"$nulls":9},"3015"]
[{"$nulls":9},"3016"]
[{"$nulls":9},"3017"]
[{"$nulls":9},"3021"]
[{"$nulls":9},"3022"]
[{"$nulls":9},"3023"]
[{"$nulls":9},"3024"]
[{"$nulls":9},"3025"]
[{"$nulls":9},"3026"]
[{"$nulls":9},"3027"]
[{"$nulls":9},"3032"]
[{"$nulls":9},"3033"]
[{"$nulls":9},"3034"]
[{"$nulls":9},"3036"]
[{"$nulls":9},"3037"]
[{"$nulls":9},"3041"]
[{"$nulls":9},"3042"]
[{"$nulls":9},"3044"]
[{"$nulls":9},"3045"]
[{"$nulls":9},"3047"]
[{"$nulls":9},"3100"]
[{"$nulls":9},"3101"]
[{"$nulls":9},"3102"]
[{"$nulls":9},"3103"]
[{"$nulls":9},"3104"]
[{"$nulls":9},"3105"]
[{"$nulls":9},"3106"]
[{"$nulls":9},"3107"]
[{"$nulls":9},"3108"]
[{"$nulls":9},"3109"]
[{"$nulls":9},"3110"]
[{"$nulls":9},"3111"]
[{"$nulls":9},"3112"]
[{"$nulls":9},"3113"]
[{"$nulls":9},"3114"]
[{"$nulls":9},"3115"]
[{"$nulls":9},"3116"]
[{"$nulls":9},"3117"]
[{"$nulls":9},"3118"]
[{"$nulls":9},"3119"]
[{"$nulls":9},"3120"]
[{"$nulls":9},"3121"]
[{"$nulls":9},"3122"]
[{"$nulls":9},"3123"]
[{"$nulls":9},"3124"]
[{"$nulls":9},"3125"]
[{"$nulls":9},"3126"]
[{"$nulls":9},"3127"]
[{"$nulls":9},"3128"]
[{"$nulls":9},"3129"]
[{"$nulls":9},"3131"]
[{"$nulls":9},"3132"]
[{"$nulls":9},"3133"]
[{"$nulls":9},"3134"]
[{"$nulls":9},"3135"]
[{"$nulls":9},"3136"]
[{"$nulls":9},"3137"]
[{"$nulls":9},"3138"]
[{"$nulls":9},"3139"]
[{"$nulls":9},"3141"]
[{"$nulls":9},"3142"]
[{"$nulls":9},"3143"]
[{"$nulls":9},"3144"]
[{"$nulls":9},"3145"]
[{"$nulls":9},"3146"]
[{"$nulls":9},"3147"]
[{"$nulls":9},"3148"]
[{"$nulls":9},"3149"]
[{"$nulls":9},"3151"]
[{"$nulls":9},"3152"]
[{"$nulls":9},"3153"]
[{"$nulls":9},"3154"]
[{"$nulls":9},"3155"]
[{"$nulls":9},"3156"]
[{"$nulls":9},"3157"]
[{"$nulls":9},"3158"]
[{"$nulls":9},"3159"]
[{"$nulls":9},"3161"]
[{"$nulls":9},"3162"]
[{"$nulls":9},"3163"]
[{"$nulls":9},"3164"]
[{"$nulls":9},"3165"]
[{"$nulls":9},"3166"]
[{"$nulls":9},"3167"]
[{"$nulls":9},"3168"]
[{"$nulls":9},"3169"]
[{"$nulls":9},"3171"]
[{"$nulls":9},"3172"]
[{"$nulls":9},"3173"]
[{"$nulls":9},"3174"]
[{"$nulls":9},"3175"]
[{"$nulls":9},"3176"]
[{"$nulls":9},"3177"]
[{"$nulls":9},"3178"]
[{"$nulls":9},"3179"]
[{"$nulls":9},"3180"]
[{"$nulls":9},"3181"]
[{"$nulls":9},"3182"]
[{"$nulls":9},"3183"]
[{"$nulls":9},"3184"]
[{"$nulls":9},"3185"]
[{"$nulls":9},"3186"]
[{"$nulls":9},"3187"]
[{"$nulls":9},"3188"]
[{"$nulls":9},"3200"]
[{"$nulls":9},"3201"]
[{"$nulls":9},"3202"]
[{"$nulls":9},"3203"]
[{"$nulls":9},"3204"]
[{"$nulls":9},"3205"]
[{"$nulls":9},"3206"]
[{"$nulls":9},"3207"]
[{"$nulls":9},"3208"]
[{"$nulls":9},"3209"]
[{"$nulls":9},"3210"]
[{"$nulls":9},"3211"]
[{"$nulls":9},"3212"]
[{"$nulls":9},"3213"]
[{"$nulls":9},"3214"]
[{"$nulls":9},"3215"]
[{"$nulls":9},"3216"]
[{"$nulls":9},"3217"]
[{"$nulls":9},"3218"]
[{"$nulls":9},"3219"]
[{"$nulls":9},"3220"]
[{"$nulls":9},"3221"]
[{"$nulls":9},"3222"]
[{"$nulls":9},"3223"]
[{"$nulls":9},"3224"]
[{"$nulls":9},"3225"]
[{"$nulls":9},"3226"]
[{"$nulls":9},"3227"]
[{"$nulls":9},"3228"]
[{"$nulls":9},"3229"]
[{"$nulls":9},"3230"]
[{"$nulls":9},"3231"]
[{"$nulls":9},"3232"]
[{"$nulls":9},"3233"]
[{"$nulls":9},"3234"]
[{"$nulls":9},"3235"]
[{"$nulls":9},"3236"]
[{"$nulls":9},"3237"]
[{"$nulls":9},"3238"]
[{"$nulls":9},"3239"]
[{"$nulls":9},"3241"]
[{"$nulls":9},"3242"]
[{"$nulls":9},"3243"]
[{"$nulls":9},"3244"]
[{"$nulls":9},"3245"]
[{"$nulls":9},"3246"]
[{"$nulls":9},"3247"]
[{"$nulls":9},"3248"]
[{"$nulls":9},"3249"]
[{"$nulls":9},"3250"]
[{"$nulls":9},"3251"]
[{"$nulls":9},"3252"]
[{"$nulls":9},"3253"]
[{"$nulls":9},"3254"]
[{"$nulls":9},"3255"]
[{"$nulls":9},"3256"]
[{"$nulls":9},"3257"]
[{"$nulls":9},"3258"]
[{"$nulls":9},"3259"]
[{"$nulls":9},"3261"]
[{"$nulls":9},"3262"]
[{"$nulls":9},"3263"]
[{"$nulls":9},"3264"]
[{"$nulls":9},"3265"]
[{"$nulls":9},"3266"]
[{"$nulls":9},"3267"]
[{"$nulls":9},"3268"]
[{"$nulls":9},"3271"]
[{"$nulls":9},"3272"]
[{"$nulls":9},"3273"]
[{"$nulls":9},"3274"]
[{"$nulls":9},"3275"]
[{"$nulls":9},"3278"]
[{"$nulls":9},"3281"]
[{"$nulls":9},"3282"]
[{"$nulls":9},"3283"]
[{"$nulls":9},"3284"]
[{"$nulls":9},"3285"]
[{"$nulls":9},"3286"]
[{"$nulls":9},"3287"]
[{"$nulls":9},"3288"]
[{"$nulls":9},"3300"]
[{"$nulls":9},"3301"]
[{"$nulls":9},"3302"]
[{"$nulls":9},"3303"]
[{"$nulls":9},"3304"]
[{"$nulls":9},"3305"]
[{"$nulls":9},"3306"]
[{"$nulls":9},"3307"]
[{"$nulls":9},"3308"]
[{"$nulls":9},"3309"]
[{"$nulls":9},"3310"]
[{"$nulls":9},"3311"]
[{"$nulls":9},"3312"]
[{"$nulls":9},"3313"]
[{"$nulls":9},"3314"]
[{"$nulls":9},"3315"]
[{"$nulls":9},"3316"]
[{"$nulls":9},"3317"]
[{"$nulls":9},"3318"]
[{"$nulls":9},"3321"]
[{"$nulls":9},"3322"]
[{"$nulls":9},"3323"]
[{"$nulls":9},"3324"]
[{"$nulls":9},"3325"]
[{"$nulls":9},"3326"]
[{"$nulls":9},"3327"]
[{"$nulls":9},"3328"]
[{"$nulls":9},"3329"]
[{"$nulls":9},"3331"]
[{"$nulls":9},"3332"]
[{"$nulls":9},"3333"]
[{"$nulls":9},"3334"]
[{"$nulls":9},"3335"]
[{"$nulls":9},"3336"]
[{"$nulls":9},"3337"]
[{"$nulls":9},"3338"]
[{"$nulls":9},"3339"]
[{"$nulls":9},"3341"]
[{"$nulls":9},"3342"]
[{"$nulls":9},"3343"]
[{"$nulls":9},"3344"]
[{"$nulls":9},"3345"]
[{"$nulls":9},"3346"]
[{"$nulls":9},"3347"]
[{"$nulls":9},"3348"]
[{"$nulls":9},"3351"]
[{"$nulls":9},"3352"]
[{"$nulls":9},"3353"]
[{"$nulls":9},"3354"]
[{"$nulls":9},"3355"]
[{"$nulls":9},"3356"]
[{"$nulls":9},"3357"]
[{"$nulls":9},"3358"]
[{"$nulls":9},"3360"]
[{"$nulls":9},"3361"]
[{"$nulls":9},"3362"]
[{"$nulls":9},"3363"]
[{"$nulls":9},"3364"]
[{"$nulls":9},"3365"]
[{"$nulls":9},"3366"]
[{"$nulls":9},"3367"]
[{"$nulls":9},"3368"]
[{"$nulls":9},"3369"]
[{"$nulls":9},"3371"]
[{"$nulls":9},"3372"]
[{"$nulls":9},"3373"]
[{"$nulls":9},"3374"]
[{"$nulls":9},"3375"]
[{"$nulls":9},"3376"]
[{"$nulls":9},"3377"]
[{"$nulls":9},"3378"]
[{"$nulls":9},"3379"]
[{"$nulls":9},"3381"]
[{"$nulls":9},"3382"]
[{"$nulls":9},"3383"]
[{"$nulls":9},"3384"]
[{"$nulls":9},"3385"]
[{"$nulls":9},"3386"]
[{"$nulls":9},"3400"]
[{"$nulls":9},"3401"]
[{"$nulls":9},"3402"]
[{"$nulls":9},"3403"]
[{"$nulls":9},"3404"]
[{"$nulls":9},"3405"]
[{"$nulls":9},"3406"]
[{"$nulls":9},"3407"]
[{"$nulls":9},"3408"]
[{"$nulls":9},"3409"]
[{"$nulls":9},"3410"]
[{"$nulls":9},"3411"]
[{"$nulls":9},"3412"]
[{"$nulls":9},"3413"]
[{"$nulls":9},"3414"]
[{"$nulls":9},"3415"]
[{"$nulls":9},"3416"]
[{"$nulls":9},"3417"]
[{"$nulls":9},"3418"]
[{"$nulls":9},"3419"]
[{"$nulls":9},"3421"]
[{"$nulls":9},"3422"]
[{"$nulls":9},"3423"]
[{"$nulls":9},"3424"]
[{"$nulls":9},"3425"]
[{"$nulls":9},"3426"]
[{"$nulls":9},"3427"]
[{"$nulls":9},"3428"]
[{"$nulls":9},"3429"]
[{"$nulls":9},"3430"]
[{"$nulls":9},"3431"]
[{"$nulls":9},"3432"]
[{"$nulls":9},"3433"]
[{"$nulls":9},"3434"]
[{"$nulls":9},"3435"]
[{"$nulls":9},"3436"]
[{"$nulls":9},"3437"]
[{"$nulls":9},"3438"]
[{"$nulls":9},"3439"]
[{"$nulls":9},"3440"]
[{"$nulls":9},"3441"]
[{"$nulls":9},"3442"]
[{"$nulls":9},"3443"]
[{"$nulls":9},"3444"]
[{"$nulls":9},"3445"]
[{"$nulls":9},"3446"]
[{"$nulls":9},"3447"]
[{"$nulls":9},"3448"]
[{"$nulls":9},"3449"]
[{"$nulls":9},"3451"]
[{"$nulls":9},"3452"]
[{"$nulls":9},"3453"]
[{"$nulls":9},"3454"]
[{"$nulls":9},"3455"]
[{"$nulls":9},"3456"]
[{"$nulls":9},"3457"]
[{"$nulls":9},"3461"]
[{"$nulls":9},"3462"]
[{"$nulls":9},"3463"]
[{"$nulls":9},"3464"]
[{"$nulls":9},"3465"]
[{"$nulls":9},"3466"]
[{"$nulls":9},"3467"]
[{"$nulls":9},"3470"]
[{"$nulls":9},"3471"]
[{"$nulls":9},"3473"]
[{"$nulls":9},"3480"]
[{"$nulls":9},"3481"]
[{"$nulls":9},"3482"]
[{"$nulls":9},"3483"]
[{"$nulls":9},"3484"]
[{"$nulls":9},"3500"]
[{"$nulls":9},"3501"]
[{"$nulls":9},"3502"]
[{"$nulls":9},"3503"]
[{"$nulls":9},"3504"]
[{"$nulls":9},"3505"]
[{"$nulls":9},"3506"]
[{"$nulls":9},"3507"]
[{"$nulls":9},"3508"]
[{"$nulls":9},"3509"]
[{"$nulls":9},"3510"]
[{"$nulls":9},"3511"]
[{"$nulls":9},"3512"]
[{"$nulls":9},"3513"]
[{"$nulls":9},"3514"]
[{"$nulls":9},"3515"]
[{"$nulls":9},"3516"]
[{"$nulls":9},"3517"]
[{"$nulls":9},"3518"]
[{"$nulls":9},"3519"]
[{"$nulls":9},"3520"]
[{"$nulls":9},"3521"]
[{"$nulls":9},"3522"]
[{"$nulls":9},"3523"]
[{"$nulls":9},"3524"]
[{"$nulls":9},"3525"]
[{"$nulls":9},"3526"]
[{"$nulls":9},"3527"]
[{"$nulls":9},"3528"]
[{"$nulls":9},"3529"]
[{"$nulls":9},"3531"]
[{"$nulls":9},"3532"]
[{"$nulls":9},"3533"]
[{"$nulls":9},"3534"]
[{"$nulls":9},"3535"]
[{"$nulls":9},"3536"]
[{"$nulls":9},"3537"]
[{"$nulls":9},"3538"]
[{"$nulls":9},"3539"]
[{"$nulls":9},"3541"]
[{"$nulls":9},"3542"]
[{"$nulls":9},"3543"]
[{"$nulls":9},"3544"]
[{"$nulls":9},"3545"]
[{"$nulls":9},"3546"]
[{"$nulls":9},"3547"]
[{"$nulls":9},"3548"]
[{"$nulls":9},"3551"]
[{"$nulls":9},"3552"]
[{"$nulls":9},"3553"]
[{"$nulls":9},"3554"]
[{"$nulls":9},"3555"]
[{"$nulls":9},"3556"]
[{"$nulls":9},"3557"]
[{"$nulls":9},"3558"]
[{"$nulls":9},"3559"]
[{"$nulls":9},"3561"]
[{"$nulls":9},"3562"]
[{"$nulls":9},"3563"]
[{"$nulls":9},"3564"]
[{"$nulls":9},"3565"]
[{"$nulls":9},"3566"]
[{"$nulls":9},"3571"]
[{"$nulls":9},"3572"]
[{"$nulls":9},"3573"]
[{"$nulls":9},"3574"]
[{"$nulls":9},"3575"]
[{"$nulls":9},"3576"]
[{"$nulls":9},"3577"]
[{"$nulls":9},"3578"]
[{"$nulls":9},"3579"]
[{"$nulls":9},"3582"]
[{"$nulls":9},"3586"]
[{"$nulls":9},"3600"]
[{"$nulls":9},"3601"]
[{"$nulls":9},"3602"]
[{"$nulls":9},"3603"]
[{"$nulls":9},"3604"]
[{"$nulls":9},"3605"]
[{"$nulls":9},"3606"]
[{"$nulls":9},"3607"]
[{"$nulls":9},"3608"]
[{"$nulls":9},"3609"]
[{"$nulls":9},"3610"]
[{"$nulls":9},"3611"]
[{"$nulls":9},"3612"]
[{"$nulls":9},"3613"]
[{"$nulls":9},"3614"]
[{"$nulls":9},"3615"]
[{"$nulls":9},"3616"]
[{"$nulls":9},"3617"]
[{"$nulls":9},"3618"]
[{"$nulls":9},"3619"]
[{"$nulls":9},"3620"]
[{"$nulls":9},"3621"]
[{"$nulls":9},"3622"]
[{"$nulls":9},"3623"]
[{"$nulls":9},"3624"]
[{"$nulls":9},"3625"]
[{"$nulls":9},"3626"]
[{"$nulls":9},"3627"]
[{"$nulls":9},"3629"]
[{"$nulls":9},"3631"]
[{"$nulls":9},"3632"]
[{"$nulls":9},"3633"]
[{"$nulls":9},"3634"]
[{"$nulls":9},"3635"]
[{"$nulls":9},"3636"]
[{"$nulls":9},"3637"]
[{"$nulls":9},"3638"]
[{"$nulls":9},"3639"]
[{"$nulls":9},"3640"]
[{"$nulls":9},"3641"]
[{"$nulls":9},"3642"]
[{"$nulls":9},"3643"]
[{"$nulls":9},"3644"]
[{"$nulls":9},"3645"]
[{"$nulls":9},"3646"]
[{"$nulls":9},"3647"]
[{"$nulls":9},"3648"]
[{"$nulls":9},"3651"]
[{"$nulls":9},"3652"]
[{"$nulls":9},"3653"]
[{"$nulls":9},"3654"]
[{"$nulls":9},"3656"]
[{"$nulls":9},"3658"]
[{"$nulls":9},"3659"]
[{"$nulls":9},"3661"]
[{"$nulls":9},"3662"]
[{"$nulls":9},"3663"]
[{"$nulls":9},"3664"]
[{"$nulls":9},"3665"]
[{"$nulls":9},"3666"]
[{"$nulls":9},"3667"]
[{"$nulls":9},"3671"]
[{"$nulls":9},"3672"]
[{"$nulls":9},"3673"]
[{"$nulls":9},"3674"]
[{"$nulls":9},"3675"]
[{"$nulls":9},"3676"]
[{"$nulls":9},"3682"]
[{"$nulls":9},"3684"]
[{"$nulls":9},"3700"]
[{"$nulls":9},"3701"]
[{"$nulls":9},"3702"]
[{"$nulls":9},"3703"]
[{"$nulls":9},"3704"]
[{"$nulls":9},"3705"]
[{"$nulls":9},"3706"]
[{"$nulls":9},"3707"]
[{"$nulls":9},"3708"]
[{"$nulls":9},"3709"]
[{"$nulls":9},"3710"]
[{"$nulls":9},"3711"]
[{"$nulls":9},"3712"]
[{"$nulls":9},"3713"]
[{"$nulls":9},"3714"]
[{"$nulls":9},"3715"]
[{"$nulls":9},"3716"]
[{"$nulls":9},"3717"]
[{"$nulls":9},"3718"]
[{"$nulls":9},"3719"]
[{"$nulls":9},"3720"]
[{"$nulls":9},"3721"]
[{"$nulls":9},"3722"]
[{"$nulls":9},"3723"]
[{"$nulls":9},"3724"]
[{"$nulls":9},"3725"]
[{"$nulls":9},"3726"]
[{"$nulls":9},"3727"]
[{"$nulls":9},"3728"]
[{"$nulls":9},"3729"]
[{"$nulls":9},"3730"]
[{"$nulls":9},"3731"]
[{"$nulls":9},"3732"]
[{"$nulls":9},"3733"]
[{"$nulls":9},"3734"]
[{"$nulls":9},"3735"]
[{"$nulls":9},"3736"]
[{"$nulls":9},"3737"]
[{"$nulls":9},"3738"]
[{"$nulls":9},"3741"]
[{"$nulls":9},"3742"]
[{"$nulls":9},"3743"]
[{"$nulls":9},"3744"]
[{"$nulls":9},"3745"]
[{"$nulls":9},"3746"]
[{"$nulls":9},"3747"]
[{"$nulls":9},"3748"]
[{"$nulls":9},"3749"]
[{"$nulls":9},"3751"]
[{"$nulls":9},"3752"]
[{"$nulls":9},"3753"]
[{"$nulls":9},"3754"]
[{"$nulls":9},"3755"]
[{"$nulls":9},"3756"]
[{"$nulls":9},"3757"]
[{"$nulls":9},"3761"]
[{"$nulls":9},"3762"]
[{"$nulls":9},"3763"]
[{"$nulls":9},"3764"]
[{"$nulls":9},"3765"]
[{"$nulls":9},"3766"]
[{"$nulls":9},"3770"]
[{"$nulls":9},"3771"]
[{"$nulls":9},"3772"]
[{"$nulls":9},"3773"]
[{"$nulls":9},"3774"]
[{"$nulls":9},"3776"]
[{"$nulls":9},"3777"]
[{"$nulls":9},"3778"]
[{"$nulls":9},"3779"]
[{"$nulls":9},"3781"]
[{"$nulls":9},"3782"]
[{"$nulls":9},"3783"]
[{"$nulls":9},"3784"]
[{"$nulls":9},"3785"]
[{"$nulls":9},"3786"]
[{"$nulls":9},"3787"]
[{"$nulls":9},"3788"]
[{"$nulls":9},"3789"]
[{"$nulls":9},"3800"]
[{"$nulls":9},"3801"]
[{"$nulls":9},"3802"]
[{"$nulls":9},"3803"]
[{"$nulls":9},"3804"]
[{"$nulls":9},"3805"]
[{"$nulls":9},"3806"]
[{"$nulls":9},"3807"]
[{"$nulls":9},"3808"]
[{"$nulls":9},"3809"]
[{"$nulls":9},"3811"]
[{"$nulls":9},"3812"]
[{"$nulls":9},"3813"]
[{"$nulls":9},"3814"]
[{"$nulls":9},"3815"]
[{"$nulls":9},"3816"]
[{"$nulls":9},"3817"]
[{"$nulls":9},"3818"]
[{"$nulls":9},"3821"]
[{"$nulls":9},"3822"]
[{"$nulls":9},"3823"]
[{"$nulls":9},"3824"]
[{"$nulls":9},"3825"]
[{"$nulls":9},"3826"]
[{"$nulls":9},"3827"]
[{"$nulls":9},"3828"]
[{"$nulls":9},"3829"]
[{"$nulls":9},"3831"]
[{"$nulls":9},"3832"]
[{"$nulls":9},"3833"]
[{"$nulls":9},"3834"]
[{"$nulls":9},"3835"]
[{"$nulls":9},"3836"]
[{"$nulls":9},"3837"]
[{"$nulls":9},"3838"]
[{"$nulls":9},"3839"]
[{"$nulls":9},"3841"]
[{"$nulls":9},"3842"]
[{"$nulls":9},"3843"]
[{"$nulls":9},"3844"]
[{"$nulls":9},"3845"]
[{"$nulls":9},"3846"]
[{"$nulls":9},"3847"]
[{"$nulls":9},"3848"]
[{"$nulls":9},"3853"]
[{"$nulls":9},"3854"]
[{"$nulls":9},"3861"]
[{"$nulls":9},"3862"]
[{"$nulls":9},"3863"]
[{"$nulls":9},"3864"]
[{"$nulls":9},"3865"]
[{"$nulls":9},"3867"]
[{"$nulls":9},"3868"]
[{"$nulls":9},"3871"]
[{"$nulls":9},"3872"]
[{"$nulls":9},"3873"]
[{"$nulls":9},"3874"]
[{"$nulls":9},"3875"]
[{"$nulls":9},"3876"]
[{"$nulls":9},"3877"]
[{"$nulls":9},"3878"]
[{"$nulls":9},"3881"]
[{"$nulls":9},"3883"]
[{"$nulls":9},"3884"]
[{"$nulls":9},"3885"]
[{"$nulls":9},"3886"]
[{"$nulls":9},"3887"]
[{"$nulls":9},"3888"]
[{"$nulls":9},"3900"]
[{"$nulls":9},"3901"]
[{"$nulls":9},"3902"]
[{"$nulls":9},"3903"]
[{"$nulls":9},"3904"]
[{"$nulls":9},"3905"]
[{"$nulls":9},"3906"]
[{"$nulls":9},"3907"]
[{"$nulls":9},"3908"]
[{"$nulls":9},"3909"]
[{"$nulls":9},"3910"]
[{"$nulls":9},"3911"]
[{"$nulls":9},"3912"]
[{"$nulls":9},"3913"]
[{"$nulls":9},"3914"]
[{"$nulls":9},"3915"]
[{"$nulls":9},"3916"]
[{"$nulls":9},"3917"]
[{"$nulls":9},"3918"]
[{"$nulls":9},"3919"]
[{"$nulls":9},"3921"]
[{"$nulls":9},"3922"]
[{"$nulls":9},"3923"]
[{"$nulls":9},"3924"]
[{"$nulls":9},"3925"]
[{"$nulls":9},"3926"]
[{"$nulls":9},"3927"]
[{"$nulls":9},"3928"]
[{"$nulls":9},"3929"]
[{"$nulls":9},"3930"]
[{"$nulls":9},"3931"]
[{"$nulls":9},"3932"]
[{"$nulls":9},"3933"]
[{"$nulls":9},"3934"]
[{"$nulls":9},"3935"]
[{"$nulls":9},"3936"]
[{"$nulls":9},"3937"]
[{"$nulls":9},"3938"]
[{"$nulls":9},"3939"]
[{"$nulls":9},"3941"]
[{"$nulls":9},"3942"]
[{"$nulls":9},"3943"]
[{"$nulls":9},"3944"]
[{"$nulls":9},"3945"]
[{"$nulls":9},"3946"]
[{"$nulls":9},"3947"]
[{"$nulls":9},"3948"]
[{"$nulls":9},"3951"]
[{"$nulls":9},"3952"]
[{"$nulls":9},"3953"]
[{"$nulls":9},"3954"]
[{"$nulls":9},"3955"]
[{"$nulls":9},"3958"]
[{"$nulls":9},"3961"]
[{"$nulls":9},"3962"]
[{"$nulls":9},"3963"]
[{"$nulls":9},"3964"]
[{"$nulls":9},"3965"]
[{"$nulls":9},"3966"]
[{"$nulls":9},"3969"]
[{"$nulls":9},"3971"]
[{"$nulls":9},"3973"]
[{"$nulls":9},"3974"]
[{"$nulls":9},"3975"]
[{"$nulls":9},"3977"]
[{"$nulls":9},"3978"]
[{"$nulls":9},"3979"]
[{"$nulls":9},"4001"]
[{"$nulls":9},"4002"]
[{"$nulls":9},"4003"]
[{"$nulls":9},"4004"]
[{"$nulls":9},"4006"]
[{"$nulls":9},"4007"]
[{"$nulls":9},"4011"]
[{"$nulls":9},"4012"]
[{"$nulls":9},"4013"]
[{"$nulls":9},"4015"]
[{"$nulls":9},"4016"]
[{"$nulls":9},"4017"]
[{"$nulls":9},"4021"]
[{"$nulls":9},"4023"]
[{"$nulls":9},"4024"]
[{"$nulls":9},"4027"]
[{"$nulls":9},"4100"]
[{"$nulls":9},"4101"]
[{"$nulls":9},"4102"]
[{"$nulls":9},"4103"]
[{"$nulls":9},"4104"]
[{"$nulls":9},"4105"]
[{"$nulls":9},"4106"]
[{"$nulls":9},"4107"]
[{"$nulls":9},"4108"]
[{"$nulls":9},"4109"]
[{"$nulls":9},"4111"]
[{"$nulls":9},"4112"]
[{"$nulls":9},"4113"]
[{"$nulls":9},"4114"]
[{"$nulls":9},"4115"]
[{"$nulls":9},"4116"]
[{"$nulls":9},"4117"]
[{"$nulls":9},"4118"]
[{"$nulls":9},"4119"]
[{"$nulls":9},"4120"]
[{"$nulls":9},"4121"]
[{"$nulls":9},"4122"]
[{"$nulls":9},"4123"]
[{"$nulls":9},"4124"]
[{"$nulls":9},"4125"]
[{"$nulls":9},"4126"]
[{"$nulls":9},"4127"]
[{"$nulls":9},"4128"]
[{"$nulls":9},"4129"]
[{"$nulls":9},"4130"]
[{"$nulls":9},"4131"]
[{"$nulls":9},"4132"]
[{"$nulls":9},"4133"]
[{"$nulls":9},"4134"]
[{"$nulls":9},"4135"]
[{"$nulls":9},"4136"]
[{"$nulls":9},"4137"]
[{"$nulls":9},"4138"]
[{"$nulls":9},"4139"]
[{"$nulls":9},"4140"]
[{"$nulls":9},"4141"]
[{"$nulls":9},"4142"]
[{"$nulls":9},"4143"]
[{"$nulls":9},"4144"]
[{"$nulls":9},"4145"]
[{"$nulls":9},"4146"]
[{"$nulls":9},"4147"]
[{"$nulls":9},"4148"]
[{"$nulls":9},"4149"]
[{"$nulls":9},"4151"]
[{"$nulls":9},"4152"]
[{"$nulls":9},"4153"]
[{"$nulls":9},"4154"]
[{"$nulls":9},"4155"]
[{"$nulls":9},"4156"]
[{"$nulls":9},"4157"]
[{"$nulls":9},"4161"]
[{"$nulls":9},"4162"]
[{"$nulls":9},"4163"]
[{"$nulls":9},"4164"]
[{"$nulls":9},"4165"]
[{"$nulls":9},"4166"]
[{"$nulls":9},"4167"]
[{"$nulls":9},"4168"]
[{"$nulls":9},"4169"]
[{"$nulls":9},"4171"]
[{"$nulls":9},"4172"]
[{"$nulls":9},"4173"]
[{"$nulls":9},"4174"]
[{"$nulls":9},"4175"]
[{"$nulls":9},"4176"]
[{"$nulls":9},"4177"]
[{"$nulls":9},"4178"]
[{"$nulls":9},"4179"]
[{"$nulls":9},"4182"]
[{"$nulls":9},"4183"]
[{"$nulls":9},"4184"]
[{"$nulls":9},"4185"]
[{"$nulls":9},"4200"]
[{"$nulls":9},"4201"]
[{"$nulls":9},"4202"]
[{"$nulls":9},"4203"]
[{"$nulls":9},"4204"]
[{"$nulls":9},"4205"]
[{"$nulls":9},"4206"]
[{"$nulls":9},"4207"]
[{"$nulls":9},"4208"]
[{"$nulls":9},"4209"]
[{"$nulls":9},"4211"]
[{"$nulls":9},"4212"]
[{"$nulls":9},"4213"]
[{"$nulls":9},"4214"]
[{"$nulls":9},"4215"]
[{"$nulls":9},"4216"]
[{"$nulls":9},"4217"]
[{"$nulls":9},"4218"]
[{"$nulls":9},"4219"]
[{"$nulls":9},"4221"]
[{"$nulls":9},"4222"]
[{"$nulls":9},"4223"]
[{"$nulls":9},"4224"]
[{"$nulls":9},"4225"]
[{"$nulls":9},"4226"]
[{"$nulls":9},"4227"]
[{"$nulls":9},"4228"]
[{"$nulls":9},"4229"]
[{"$nulls":9},"4231"]
[{"$nulls":9},"4232"]
[{"$nulls":9},"4233"]
[{"$nulls":9},"4234"]
[{"$nulls":9},"4235"]
[{"$nulls":9},"4236"]
[{"$nulls":9},"4237"]
[{"$nulls":9},"4238"]
[{"$nulls":9},"4239"]
[{"$nulls":9},"4241"]
[{"$nulls":9},"4242"]
[{"$nulls":9},"4243"]
[{"$nulls":9},"4244"]
[{"$nulls":9},"4245"]
[{"$nulls":9},"4246"]
[{"$nulls":9},"4247"]
[{"$nulls":9},"4248"]
[{"$nulls":9},"4249"]
[{"$nulls":9},"4251"]
[{"$nulls":9},"4252"]
[{"$nulls":9},"4253"]
[{"$nulls":9},"4254"]
[{"$nulls":9},"4255"]
[{"$nulls":9},"4256"]
[{"$nulls":9},"4257"]
[{"$nulls":9},"4261"]
[{"$nulls":9},"4262"]
[{"$nulls":9},"4263"]
[{"$nulls":9},"4264"]
[{"$nulls":9},"4265"]
[{"$nulls":9},"4266"]
[{"$nulls":9},"4267"]
[{"$nulls":9},"4271"]
[{"$nulls":9},"4272"]
[{"$nulls":9},"4273"]
[{"$nulls":9},"4274"]
[{"$nulls":9},"4275"]
[{"$nulls":9},"4276"]
[{"$nulls":9},"4277"]
[{"$nulls":9},"4281"]
[{"$nulls":9},"4282"]
[{"$nulls":9},"4283"]
[{"$nulls":9},"4285"]
[{"$nulls":9},"4286"]
[{"$nulls":9},"4300"]
[{"$nulls":9},"4301"]
[{"$nulls":9},"4302"]
[{"$nulls":9},"4303"]
[{"$nulls":9},"4304"]
[{"$nulls":9},"4305"]
[{"$nulls":9},"4306"]
[{"$nulls":9},"4307"]
[{"$nulls":9},"4308"]
[{"$nulls":9},"4309"]
[{"$nulls":9},"4311"]
[{"$nulls":9},"4312"]
[{"$nulls":9},"4313"]
[{"$nulls":9},"4314"]
[{"$nulls":9},"4315"]
[{"$nulls":9},"4316"]
[{"$nulls":9},"4317"]
[{"$nulls":9},"4318"]
[{"$nulls":9},"4321"]
[{"$nulls":9},"4322"]
[{"$nulls":9},"4323"]
[{"$nulls":9},"4324"]
[{"$nulls":9},"4325"]
[{"$nulls":9},"4326"]
[{"$nulls":9},"4327"]
[{"$nulls":9},"4328"]
[{"$nulls":9},"4329"]
[{"$nulls":9},"4331"]
[{"$nulls":9},"4332"]
[{"$nulls":9},"4333"]
[{"$nulls":9},"4334"]
[{"$nulls":9},"4335"]
[{"$nulls":9},"4336"]
[{"$nulls":9},"4337"]
[{"$nulls":9},"4338"]
[{"$nulls":9},"4341"]
[{"$nulls":9},"4342"]
[{"$nulls":9},"4343"]
[{"$nulls":9},"4344"]
[{"$nulls":9},"4345"]
[{"$nulls":9},"4346"]
[{"$nulls":9},"4347"]
[{"$nulls":9},"4348"]
[{"$nulls":9},"4349"]
[{"$nulls":9},"4351"]
[{"$nulls":9},"4352"]
[{"$nulls":9},"4353"]
[{"$nulls":9},"4354"]
[{"$nulls":9},"4355"]
[{"$nulls":9},"4356"]
[{"$nulls":9},"4357"]
[{"$nulls":9},"4358"]
[{"$nulls":9},"4361"]
[{"$nulls":9},"4362"]
[{"$nulls":9},"4363"]
[{"$nulls":9},"4364"]
[{"$nulls":9},"4365"]
[{"$nulls":9},"4366"]
[{"$nulls":9},"4367"]
[{"$nulls":9},"4368"]
[{"$nulls":9},"4369"]
[{"$nulls":9},"4371"]
[{"$nulls":9},"4372"]
[{"$nulls":9},"4373"]
[{"$nulls":9},"4374"]
[{"$nulls":9},"4375"]
[{"$nulls":9},"4376"]
[{"$nulls":9},"4377"]
[{"$nulls":9},"4378"]
[{"$nulls":9},"4381"]
[{"$nulls":9},"4382"]
[{"$nulls":9},"4383"]
[{"$nulls":9},"4384"]
[{"$nulls":9},"4385"]
[{"$nulls":9},"4386"]
[{"$nulls":9},"4387"]
[{"$nulls":9},"4388"]
[{"$nulls":9},"4389"]
[{"$nulls":9},"4400"]
[{"$nulls":9},"4401"]
[{"$nulls":9},"4402"]
[{"$nulls":9},"4403"]
[{"$nulls":9},"4404"]
[{"$nulls":9},"4405"]
[{"$nulls":9},"4406"]
[{"$nulls":9},"4407"]
[{"$nulls":9},"4408"]
[{"$nulls":9},"4409"]
[{"$nulls":9},"4410"]
[{"$nulls":9},"4411"]
[{"$nulls":9},"4412"]
[{"$nulls":9},"4413"]
[{"$nulls":9},"4414"]
[{"$nulls":9},"4415"]
[{"$nulls":9},"4416"]
[{"$nulls":9},"4417"]
[{"$nulls":9},"4418"]
[{"$nulls":9},"4419"]
[{"$nulls":9},"4421"]
[{"$nulls":9},"4422"]
[{"$nulls":9},"4423"]
[{"$nulls":9},"4424"]
[{"$nulls":9},"4425"]
[{"$nulls":9},"4426"]
[{"$nulls":9},"4427"]
[{"$nulls":9},"4428"]
[{"$nulls":9},"4429"]
[{"$nulls":9},"4431"]
[{"$nulls":9},"4432"]
[{"$nulls":9},"4433"]
[{"$nulls":9},"4434"]
[{"$nulls":9},"4435"]
[{"$nulls":9},"4436"]
[{"$nulls":9},"4437"]
[{"$nulls":9},"4438"]
[{"$nulls":9},"4439"]
[{"$nulls":9},"4441"]
[{"$nulls":9},"4442"]
[{"$nulls":9},"4443"]
[{"$nulls":9},"4444"]
[{"$nulls":9},"4445"]
[{"$nulls":9},"4446"]
[{"$nulls":9},"4449"]
[{"$nulls":9},"4451"]
[{"$nulls":9},"4452"]
[{"$nulls":9},"4453"]
[{"$nulls":9},"4454"]
[{"$nulls":9},"4455"]
[{"$nulls":9},"4456"]
[{"$nulls":9},"4457"]
[{"$nulls":9},"4461"]
[{"$nulls":9},"4462"]
[{"$nulls":9},"4463"]
[{"$nulls":9},"4464"]
[{"$nulls":9},"4465"]
[{"$nulls":9},"4468"]
[{"$nulls":9},"4471"]
[{"$nulls":9},"4472"]
[{"$nulls":9},"4473"]
[{"$nulls":9},"4474"]
[{"$nulls":9},"4475"]
[{"$nulls":9},"4481"]
[{"$nulls":9},"4482"]
[{"$nulls":9},"4483"]
[{"$nulls":9},"4484"]
[{"$nulls":9},"4485"]
[{"$nulls":9},"4486"]
[{"$nulls":9},"4487"]
[{"$nulls":9},"4488"]
[{"$nulls":9},"4491"]
[{"$nulls":9},"4492"]
[{"$nulls":9},"4493"]
[{"$nulls":9},"4494"]
[{"$nulls":9},"4495"]
[{"$nulls":9},"4496"]
[{"$nulls":9},"4497"]
[{"$nulls":9},"4500"]
[{"$nulls":9},"4501"]
[{"$nulls":9},"4502"]
[{"$nulls":9},"4503"]
[{"$nulls":9},"4504"]
[{"$nulls":9},"4505"]
[{"$nulls":9},"4506"]
[{"$nulls":9},"4507"]
[{"$nulls":9},"4508"]
[{"$nulls":9},"4509"]
[{"$nulls":9},"4510"]
[{"$nulls":9},"4511"]
[{"$nulls":9},"4512"]
[{"$nulls":9},"4513"]
[{"$nulls":9},"4514"]
[{"$nulls":9},"4515"]
[{"$nulls":9},"4516"]
[{"$nulls":9},"4517"]
[{"$nulls":9},"4518"]
[{"$nulls":9},"4519"]
[{"$nulls":9},"4521"]
[{"$nulls":9},"4522"]
[{"$nulls":9},"4523"]
[{"$nulls":9},"4524"]
[{"$nulls":9},"4525"]
[{"$nulls":9},"4526"]
[{"$nulls":9},"4527"]
[{"$nulls":9},"4528"]
[{"$nulls":9},"4529"]
[{"$nulls":9},"4531"]
[{"$nulls":9},"4532"]
[{"$nulls":9},"4533"]
[{"$nulls":9},"4534"]
[{"$nulls":9},"4535"]
[{"$nulls":9},"4536"]
[{"$nulls":9},"4537"]
[{"$nulls":9},"4538"]
[{"$nulls":9},"4539"]
[{"$nulls":9},"4540"]
[{"$nulls":9},"4541"]
[{"$nulls":9},"4542"]
[{"$nulls":9},"4543"]
[{"$nulls":9},"4544"]
[{"$nulls":9},"4545"]
[{"$nulls":9},"4546"]
[{"$nulls":9},"4547"]
[{"$nulls":9},"4548"]
[{"$nulls":9},"4549"]
[{"$nulls":9},"4551"]
[{"$nulls":9},"4552"]
[{"$nulls":9},"4553"]
[{"$nulls":9},"4554"]
[{"$nulls":9},"4555"]
[{"$nulls":9},"4556"]
[{"$nulls":9},"4557"]
[{"$nulls":9},"4560"]
[{"$nulls":9},"4561"]
[{"$nulls":9},"4562"]
[{"$nulls":9},"4563"]
[{"$nulls":9},"4564"]
[{"$nulls":9},"4565"]
[{"$nulls":9},"4566"]
[{"$nulls":9},"4567"]
[{"$nulls":9},"4568"]
[{"$nulls":9},"4569"]
[{"$nulls":9},"4570"]
[{"$nulls":9},"4571"]
[{"$nulls":9},"4572"]
[{"$nulls":9},"4573"]
[{"$nulls":9},"4574"]
[{"$nulls":9},"4575"]
[{"$nulls":9},"4576"]
[{"$nulls":9},"4577"]
[{"$nulls":9},"4578"]
[{"$nulls":9},"4579"]
[{"$nulls":9},"4580"]
[{"$nulls":9},"4581"]
[{"$nulls":9},"4582"]
[{"$nulls":9},"4583"]
[{"$nulls":9},"4584"]
[{"$nulls":9},"4585"]
[{"$nulls":9},"4586"]
[{"$nulls":9},"4587"]
[{"$nulls":9},"4588"]
[{"$nulls":9},"4589"]
[{"$nulls":9},"4600"]
[{"$nulls":9},"4601"]
[{"$nulls":9},"4602"]
[{"$nulls":9},"4603"]
[{"$nulls":9},"4604"]
[{"$nulls":9},"4605"]
[{"$nulls":9},"4606"]
[{"$nulls":9},"4607"]
[{"$nulls":9},"4608"]
[{"$nulls":9},"4609"]
[{"$nulls":9},"4611"]
[{"$nulls":9},"4612"]
[{"$nulls":9},"4613"]
[{"$nulls":9},"4614"]
[{"$nulls":9},"4615"]
[{"$nulls":9},"4616"]
[{"$nulls":9},"4617"]
[{"$nulls":9},"4618"]
[{"$nulls":9},"4621"]
[{"$nulls":9},"4622"]
[{"$nulls":9},"4623"]
[{"$nulls":9},"4624"]
[{"$nulls":9},"4625"]
[{"$nulls":9},"4626"]
[{"$nulls":9},"4631"]
[{"$nulls":9},"4632"]
[{"$nulls":9},"4633"]
[{"$nulls":9},"4634"]
[{"$nulls":9},"4635"]
[{"$nulls":9},"4636"]
[{"$nulls":9},"4641"]
[{"$nulls":9},"4643"]
[{"$nulls":9},"4644"]
[{"$nulls":9},"4645"]
[{"$nulls":9},"4661"]
[{"$nulls":9},"4662"]
[{"$nulls":9},"4671"]
[{"$nulls":9},"4673"]
[{"$nulls":9},"4674"]
[{"$nulls":9},"4700"]
[{"$nulls":9},"4701"]
[{"$nulls":9},"4702"]
[{"$nulls":9},"4703"]
[{"$nulls":9},"4704"]
[{"$nulls":9},"4705"]
[{"$nulls":9},"4706"]
[{"$nulls":9},"4707"]
[{"$nulls":9},"4709"]
[{"$nulls":9},"4711"]
[{"$nulls":9},"4712"]
[{"$nulls":9},"4713"]
[{"$nulls":9},"4715"]
[{"$nulls":9},"4716"]
[{"$nulls":9},"4721"]
[{"$nulls":9},"4722"]
[{"$nulls":9},"4723"]
[{"$nulls":9},"4724"]
[{"$nulls":9},"4726"]
[{"$nulls":9},"4727"]
[{"$nulls":9},"4731"]
[{"$nulls":9},"4732"]
[{"$nulls":9},"4733"]
[{"$nulls":9},"4735"]
[{"$nulls":9},"4736"]
[{"$nulls":9},"4737"]
[{"$nulls":9},"4741"]
[{"$nulls":9},"4742"]
[{"$nulls":9},"4743"]
[{"$nulls":9},"4744"]
[{"$nulls":9},"4745"]
[{"$nulls":9},"4746"]
[{"$nulls":9},"4751"]
[{"$nulls":9},"4752"]
[{"$nulls":9},"4753"]
[{"$nulls":9},"4754"]
[{"$nulls":9},"4755"]
[{"$nulls":9},"4756"]
[{"$nulls":9},"4757"]
[{"$nulls":9},"4758"]
[{"$nulls":9},"4761"]
[{"$nulls":9},"4762"]
[{"$nulls":9},"4763"]
[{"$nulls":9},"4764"]
[{"$nulls":9},"4765"]
[{"$nulls":9},"4766"]
[{"$nulls":9},"4767"]
[{"$nulls":9},"4768"]
[{"$nulls":9},"4769"]
[{"$nulls":9},"4771"]
[{"$nulls":9},"4772"]
[{"$nulls":9},"4773"]
[{"$nulls":9},"4774"]
[{"$nulls":9},"4775"]
[{"$nulls":9},"4776"]
[{"$nulls":9},"4777"]
[{"$nulls":9},"4778"]
[{"$nulls":9},"4800"]
[{"$nulls":9},"4801"]
[{"$nulls":9},"4802"]
[{"$nulls":9},"4803"]
[{"$nulls":9},"4804"]
[{"$nulls":9},"4805"]
[{"$nulls":9},"4806"]
[{"$nulls":9},"4807"]
[{"$nulls":9},"4808"]
[{"$nulls":9},"4811"]
[{"$nulls":9},"4812"]
[{"$nulls":9},"4813"]
[{"$nulls":9},"4814"]
[{"$nulls":9},"4815"]
[{"$nulls":9},"4816"]
[{"$nulls":9},"4821"]
[{"$nulls":9},"4822"]
[{"$nulls":9},"4823"]
[{"$nulls":9},"4824"]
[{"$nulls":9},"4825"]
[{"$nulls":9},"4826"]
[{"$nulls":9},"4827"]
[{"$nulls":9},"4901"]
[{"$nulls":9},"4902"]
[{"$nulls":9},"4903"]
[{"$nulls":9},"4904"]
[{"$nulls":9},"4911"]
[{"$nulls":9},"5100"]
[{"$nulls":9},"5101"]
[{"$nulls":9},"5102"]
[{"$nulls":9},"5103"]
[{"$nulls":9},"5104"]
[{"$nulls":9},"5105"]
[{"$nulls":9},"5106"]
[{"$nulls":9},"5107"]
[{"$nulls":9},"5108"]
[{"$nulls":9},"5111"]
[{"$nulls":9},"5112"]
[{"$nulls":9},"5113"]
[{"$nulls":9},"5114"]
[{"$nulls":9},"5115"]
[{"$nulls":9},"5116"]
[{"$nulls":9},"5117"]
[{"$nulls":9},"5118"]
[{"$nulls":9},"5119"]
[{"$nulls":9},"5121"]
[{"$nulls":9},"5122"]
[{"$nulls":9},"5123"]
[{"$nulls":9},"5124"]
[{"$nulls":9},"5125"]
[{"$nulls":9},"5126"]
[{"$nulls":9},"5127"]
[{"$nulls":9},"5128"]
[{"$nulls":9},"5130"]
[{"$nulls":9},"5131"]
[{"$nulls":9},"5132"]
[{"$nulls":9},"5133"]
[{"$nulls":9},"5134"]
[{"$nulls":9},"5135"]
[{"$nulls":9},"5136"]
[{"$nulls":9},"5137"]
[{"$nulls":9},"5138"]
[{"$nulls":9},"5139"]
[{"$nulls":9},"5141"]
[{"$nulls":9},"5142"]
[{"$nulls":9},"5143"]
[{"$nulls":9},"5144"]
[{"$nulls":9},"5145"]
[{"$nulls":9},"5146"]
[{"$nulls":9},"5147"]
[{"$nulls":9},"5148"]
[{"$nulls":9},"5151"]
[{"$nulls":9},"5152"]
[{"$nulls":9},"5153"]
[{"$nulls":9},"5154"]
[{"$nulls":9},"5155"]
[{"$nulls":9},"5156"]
[{"$nulls":9},"5161"]
[{"$nulls":9},"5162"]
[{"$nulls":9},"5163"]
[{"$nulls":9},"5164"]
[{"$nulls":9},"5165"]
[{"$nulls":9},"5166"]
[{"$nulls":9},"5170"]
[{"$nulls":9},"5171"]
[{"$nulls":9},"5172"]
[{"$nulls":9},"5173"]
[{"$nulls":9},"5174"]
[{"$nulls":9},"5175"]
[{"$nulls":9},"5176"]
[{"$nulls":9},"5177"]
[{"$nulls":9},"5178"]
[{"$nulls":9},"5179"]
[{"$nulls":9},"5181"]
[{"$nulls":9},"5183"]
[{"$nulls":9},"5184"]
[{"$nulls":9},"5185"]
[{"$nulls":9},"5191"]
[{"$nulls":9},"5200"]
[{"$nulls":9},"5201"]
[{"$nulls":9},"5202"]
[{"$nulls":9},"5203"]
[{"$nulls":9},"5204"]
[{"$nulls":9},"5205"]
[{"$nulls":9},"5206"]
[{"$nulls":9},"5207"]
[{"$nulls":9},"5208"]
[{"$nulls":9},"5209"]
[{"$nulls":9},"5211"]
[{"$nulls":9},"5212"]
[{"$nulls":9},"5213"]
[{"$nulls":9},"5214"]
[{"$nulls":9},"5215"]
[{"$nulls":9},"5216"]
[{"$nulls":9},"5217"]
[{"$nulls":9},"5219"]
[{"$nulls":9},"5220"]
[{"$nulls":9},"5221"]
[{"$nulls":9},"5222"]
[{"$nulls":9},"5223"]
[{"$nulls":9},"5224"]
[{"$nulls":9},"5225"]
[{"$nulls":9},"5226"]
[{"$nulls":9},"5227"]
[{"$nulls":9},"5228"]
[{"$nulls":9},"5229"]
[{"$nulls":9},"5231"]
[{"$nulls":9},"5232"]
[{"$nulls":9},"5233"]
[{"$nulls":9},"5234"]
[{"$nulls":9},"5235"]
[{"$nulls":9},"5237"]
[{"$nulls":9},"5238"]
[{"$nulls":9},"5241"]
[{"$nulls":9},"5242"]
[{"$nulls":9},"5243"]
[{"$nulls":9},"5244"]
[{"$nulls":9},"5245"]
[{"$nulls":9},"5246"]
[{"$nulls":9},"5251"]
[{"$nulls":9},"5252"]
[{"$nulls":9},"5253"]
[{"$nulls":9},"5254"]
[{"$nulls":9},"5255"]
[{"$nulls":9},"5256"]
[{"$nulls":9},"5257"]
[{"$nulls":9},"5258"]
[{"$nulls":9},"5261"]
[{"$nulls":9},"5262"]
[{"$nulls":9},"5263"]
[{"$nulls":9},"5264"]
[{"$nulls":9},"5265"]
[{"$nulls":9},"5266"]
[{"$nulls":9},"5267"]
[{"$nulls":9},"5268"]
[{"$nulls":9},"5271"]
[{"$nulls":9},"5272"]
[{"$nulls":9},"5273"]
[{"$nulls":9},"5274"]
[{"$nulls":9},"5280"]
[{"$nulls":9},"5281"]
[{"$nulls":9},"5282"]
[{"$nulls":9},"5284"]
[{"$nulls":9},"5285"]
[{"$nulls":9},"5286"]
[{"$nulls":9},"5287"]
[{"$nulls":9},"5288"]
[{"$nulls":9},"5300"]
[{"$nulls":9},"5301"]
[{"$nulls":9},"5302"]
[{"$nulls":9},"5303"]
[{"$nulls":9},"5304"]
[{"$nulls":9},"5305"]
[{"$nulls":9},"5306"]
[{"$nulls":9},"5307"]
[{"$nulls":9},"5308"]
[{"$nulls":9},"5309"]
[{"$nulls":9},"5311"]
[{"$nulls":9},"5312"]
[{"$nulls":9},"5313"]
[{"$nulls":9},"5314"]
[{"$nulls":9},"5315"]
[{"$nulls":9},"5316"]
[{"$nulls":9},"5317"]
[{"$nulls":9},"5320"]
[{"$nulls":9},"5321"]
[{"$nulls":9},"5322"]
[{"$nulls":9},"5323"]
[{"$nulls":9},"5324"]
[{"$nulls":9},"5325"]
[{"$nulls":9},"5326"]
[{"$nulls":9},"5327"]
[{"$nulls":9},"5328"]
[{"$nulls":9},"5329"]
[{"$nulls":9},"5331"]
[{"$nulls":9},"5332"]
[{"$nulls":9},"5333"]
[{"$nulls":9},"5334"]
[{"$nulls":9},"5335"]
[{"$nulls":9},"5336"]
[{"$nulls":9},"5337"]
[{"$nulls":9},"5338"]
[{"$nulls":9},"5339"]
[{"$nulls":9},"5341"]
[{"$nulls":9},"5342"]
[{"$nulls":9},"5343"]
[{"$nulls":9},"5344"]
[{"$nulls":9},"5345"]
[{"$nulls":9},"5346"]
[{"$nulls":9},"5347"]
[{"$nulls":9},"5351"]
[{"$nulls":9},"5352"]
[{"$nulls":9},"5353"]
[{"$nulls":9},"5354"]
[{"$nulls":9},"5355"]
[{"$nulls":9},"5357"]
[{"$nulls":9},"5358"]
[{"$nulls":9},"5361"]
[{"$nulls":9},"5362"]
[{"$nulls":9},"5363"]
[{"$nulls":9},"5364"]
[{"$nulls":9},"5365"]
[{"$nulls":9},"5366"]
[{"$nulls":9},"5367"]
[{"$nulls":9},"5368"]
[{"$nulls":9},"5369"]
[{"$nulls":9},"5371"]
[{"$nulls":9},"5372"]
[{"$nulls":9},"5373"]
[{"$nulls":9},"5374"]
[{"$nulls":9},"5375"]
[{"$nulls":9},"5376"]
[{"$nulls":9},"5377"]
[{"$nulls":9},"5378"]
[{"$nulls":9},"5379"]
[{"$nulls":9},"5381"]
[{"$nulls":9},"5382"]
[{"$nulls":9},"5383"]
[{"$nulls":9},"5384"]
[{"$nulls":9},"5400"]
[{"$nulls":9},"5401"]
[{"$nulls":9},"5402"]
[{"$nulls":9},"5403"]
[{"$nulls":9},"5404"]
[{"$nulls":9},"5405"]
[{"$nulls":9},"5406"]
[{"$nulls":9},"5407"]
[{"$nulls":9},"5408"]
[{"$nulls":9},"5409"]
[{"$nulls":9},"5410"]
[{"$nulls":9},"5411"]
[{"$nulls":9},"5412"]
[{"$nulls":9},"5413"]
[{"$nulls":9},"5414"]
[{"$nulls":9},"5415"]
[{"$nulls":9},"5416"]
[{"$nulls":9},"5421"]
[{"$nulls":9},"5422"]
[{"$nulls":9},"5423"]
[{"$nulls":9},"5424"]
[{"$nulls":9},"5425"]
[{"$nulls":9},"5426"]
[{"$nulls":9},"5431"]
[{"$nulls":9},"5432"]
[{"$nulls":9},"5433"]
[{"$nulls":9},"5434"]
[{"$nulls":9},"5435"]
[{"$nulls":9},"5436"]
[{"$nulls":9},"5437"]
[{"$nulls":9},"5441"]
[{"$nulls":9},"5442"]
[{"$nulls":9},"5443"]
[{"$nulls":9},"5444"]
[{"$nulls":9},"5451"]
[{"$nulls":9},"5452"]
[{"$nulls":9},"5453"]
[{"$nulls":9},"5454"]
[{"$nulls":9},"5455"]
[{"$nulls":9},"5456"]
[{"$nulls":9},"5461"]
[{"$nulls":9},"5462"]
[{"$nulls":9},"5463"]
[{"$nulls":9},"5464"]
[{"$nulls":9},"5465"]
[{"$nulls":9},"5466"]
[{"$nulls":9},"5467"]
[{"$nulls":9},"5468"]
[{"$nulls":9},"5469"]
[{"$nulls":9},"5500"]
[{"$nulls":9},"5501"]
[{"$nulls":9},"5502"]
[{"$nulls":9},"5503"]
[{"$nulls":9},"5504"]
[{"$nulls":9},"5505"]
[{"$nulls":9},"5506"]
[{"$nulls":9},"5507"]
[{"$nulls":9},"5508"]
[{"$nulls":9},"5509"]
[{"$nulls":9},"5510"]
[{"$nulls":9},"5511"]
[{"$nulls":9},"5512"]
[{"$nulls":9},"5513"]
[{"$nulls":9},"5514"]
[{"$nulls":9},"5515"]
[{"$nulls":9},"5516"]
[{"$nulls":9},"5517"]
[{"$nulls":9},"5518"]
[{"$nulls":9},"5519"]
[{"$nulls":9},"5521"]
[{"$nulls":9},"5522"]
[{"$nulls":9},"5523"]
[{"$nulls":9},"5524"]
[{"$nulls":9},"5525"]
[{"$nulls":9},"5526"]
[{"$nulls":9},"5527"]
[{"$nulls":9},"5531"]
[{"$nulls":9},"5532"]
[{"$nulls":9},"5533"]
[{"$nulls":9},"5534"]
[{"$nulls":9},"5535"]
[{"$nulls":9},"5536"]
[{"$nulls":9},"5537"]
[{"$nulls":9},"5539"]
[{"$nulls":9},"5541"]
[{"$nulls":9},"5542"]
[{"$nulls":9},"5543"]
[{"$nulls":9},"5544"]
[{"$nulls":9},"5545"]
[{"$nulls":9},"5546"]
[{"$nulls":9},"5547"]
[{"$nulls":9},"5548"]
[{"$nulls":9},"5551"]
[{"$nulls":9},"5552"]
[{"$nulls":9},"5553"]
[{"$nulls":9},"5554"]
[{"$nulls":9},"5555"]
[{"$nulls":9},"5556"]
[{"$nulls":9},"5557"]
[{"$nulls":9},"5562"]
[{"$nulls":9},"5563"]
[{"$nulls":9},"5564"]
[{"$nulls":9},"5571"]
[{"$nulls":9},"5573"]
[{"$nulls":9},"5574"]
[{"$nulls":9},"5576"]
[{"$nulls":9},"5600"]
[{"$nulls":9},"5601"]
[{"$nulls":9},"5602"]
[{"$nulls":9},"5603"]
[{"$nulls":9},"5604"]
[{"$nulls":9},"5605"]
[{"$nulls":9},"5606"]
[{"$nulls":9},"5607"]
[{"$nulls":9},"5608"]
[{"$nulls":9},"5609"]
[{"$nulls":9},"5610"]
[{"$nulls":9},"5611"]
[{"$nulls":9},"5612"]
[{"$nulls":9},"5613"]
[{"$nulls":9},"5614"]
[{"$nulls":9},"5615"]
[{"$nulls":9},"5616"]
[{"$nulls":9},"5617"]
[{"$nulls":9},"5618"]
[{"$nulls":9},"5619"]
[{"$nulls":9},"5621"]
[{"$nulls":9},"5622"]
[{"$nulls":9},"5623"]
[{"$nulls":9},"5624"]
[{"$nulls":9},"5625"]
[{"$nulls":9},"5626"]
[{"$nulls":9},"5627"]
[{"$nulls":9},"5629"]
[{"$nulls":9},"5631"]
[{"$nulls":9},"5632"]
[{"$nulls":9},"5633"]
[{"$nulls":9},"5634"]
[{"$nulls":9},"5635"]
[{"$nulls":9},"5636"]
[{"$nulls":9},"5641"]
[{"$nulls":9},"5642"]
[{"$nulls":9},"5643"]
[{"$nulls":9},"5645"]
[{"$nulls":9},"5646"]
[{"$nulls":9},"5651"]
[{"$nulls":9},"5652"]
[{"$nulls":9},"5654"]
[{"$nulls":9},"5655"]
[{"$nulls":9},"5663"]
[{"$nulls":9},"5664"]
[{"$nulls":9},"5671"]
[{"$nulls":9},"5672"]
[{"$nulls":9},"5683"]
[{"$nulls":9},"5684"]
[{"$nulls":9},"5685"]
[{"$nulls":9},"5700"]
[{"$nulls":9},"5701"]
[{"$nulls":9},"5702"]
[{"$nulls":9},"5703"]
[{"$nulls":9},"5704"]
[{"$nulls":9},"5705"]
[{"$nulls":9},"5706"]
[{"$nulls":9},"5707"]
[{"$nulls":9},"5711"]
[{"$nulls":9},"5712"]
[{"$nulls":9},"5713"]
[{"$nulls":9},"5714"]
[{"$nulls":9},"5721"]
[{"$nulls":9},"5722"]
[{"$nulls":9},"5723"]
[{"$nulls":9},"5725"]
[{"$nulls":9},"5731"]
[{"$nulls":9},"5732"]
[{"$nulls":9},"5733"]
[{"$nulls":9},"5734"]
[{"$nulls":9},"5741"]
[{"$nulls":9},"5742"]
[{"$nulls":9},"5743"]
[{"$nulls":9},"5744"]
[{"$nulls":9},"5745"]
[{"$nulls":9},"5751"]
[{"$nulls":9},"5752"]
[{"$nulls":9},"5753"]
[{"$nulls":9},"5754"]
[{"$nulls":9},"5755"]
[{"$nulls":9},"5756"]
[{"$nulls":9},"5757"]
[{"$nulls":9},"5761"]
[{"$nulls":9},"5762"]
[{"$nulls":9},"5763"]
[{"$nulls":9},"5765"]
[{"$nulls":9},"5801"]
[{"$nulls":9},"5802"]
[{"$nulls":9},"5803"]
[{"$nulls":9},"5804"]
[{"$nulls":9},"5805"]
[{"$nulls":9},"5806"]
[{"$nulls":9},"5807"]
[{"$nulls":9},"5808"]
[{"$nulls":9},"5812"]
[{"$nulls":9},"5813"]
[{"$nulls":9},"5814"]
[{"$nulls":9},"5815"]
[{"$nulls":9},"5816"]
[{"$nulls":9},"5821"]
[{"$nulls":9},"5822"]
[{"$nulls":9},"5823"]
[{"$nulls":9},"5825"]
[{"$nulls":9},"5832"]
[{"$nulls":9},"5834"]
[{"$nulls":9},"5835"]
[{"$nulls":9},"5851"]
[{"$nulls":9},"5865"]
[{"$nulls":9},"5866"]
[{"$nulls":9},"5868"]
[{"$nulls":9},"5869"]
[{"$nulls":9},"5952"]
[{"$nulls":9},"5953"]
[{"$nulls":9},"5955"]
[{"$nulls":9},"6001"]
[{"$nulls":9},"6002"]
[{"$nulls":9},"6003"]
[{"$nulls":9},"6004"]
[{"$nulls":9},"6005"]
[{"$nulls":9},"6006"]
[{"$nulls":9},"6008"]
[{"$nulls":9},"6011"]
[{"$nulls":9},"6012"]
[{"$nulls":9},"6013"]
[{"$nulls":9},"6014"]
[{"$nulls":9},"6015"]
[{"$nulls":9},"6017"]
[{"$nulls":9},"6021"]
[{"$nulls":9},"6022"]
[{"$nulls":9},"6023"]
[{"$nulls":9},"6024"]
[{"$nulls":9},"6025"]
[{"$nulls":9},"6026"]
[{"$nulls":9},"6027"]
[{"$nulls":9},"6028"]
[{"$nulls":9},"6029"]
[{"$nulls":9},"6031"]
[{"$nulls":9},"6032"]
[{"$nulls":9},"6033"]
[{"$nulls":9},"6034"]
[{"$nulls":9},"6035"]
[{"$nulls":9},"6036"]
[{"$nulls":9},"6037"]
[{"$nulls":9},"6038"]
[{"$nulls":9},"6041"]
[{"$nulls":9},"6042"]
[{"$nulls":9},"6043"]
[{"$nulls":9},"6044"]
[{"$nulls":9},"6045"]
[{"$nulls":9},"6046"]
[{"$nulls":9},"6047"]
[{"$nulls":9},"6051"]
[{"$nulls":9},"6052"]
[{"$nulls":9},"6053"]
[{"$nulls":9},"6054"]
[{"$nulls":9},"6055"]
[{"$nulls":9},"6056"]
[{"$nulls":9},"6057"]
[{"$nulls":9},"6058"]
[{"$nulls":9},"6059"]
[{"$nulls":9},"6061"]
[{"$nulls":9},"6062"]
[{"$nulls":9},"6063"]
[{"$nulls":9},"6064"]
[{"$nulls":9},"6065"]
[{"$nulls":9},"6066"]
[{"$nulls":9},"6068"]
[{"$nulls":9},"6069"]
[{"$nulls":9},"6072"]
[{"$nulls":9},"6073"]
[{"$nulls":9},"6074"]
[{"$nulls":9},"6075"]
[{"$nulls":9},"6076"]
[{"$nulls":9},"6077"]
[{"$nulls":9},"6078"]
[{"$nulls":9},"6079"]
[{"$nulls":9},"6081"]
[{"$nulls":9},"6082"]
[{"$nulls":9},"6083"]
[{"$nulls":9},"6084"]
[{"$nulls":9},"6085"]
[{"$nulls":9},"6086"]
[{"$nulls":9},"6087"]
[{"$nulls":9},"6088"]
[{"$nulls":9},"6091"]
[{"$nulls":9},"6092"]
[{"$nulls":9},"6094"]
[{"$nulls":9},"6095"]
[{"$nulls":9},"6096"]
[{"$nulls":9},"6097"]
[{"$nulls":9},"6100"]
[{"$nulls":9},"6101"]
[{"$nulls":9},"6102"]
[{"$nulls":9},"6103"]
[{"$nulls":9},"6104"]
[{"$nulls":9},"6105"]
[{"$nulls":9},"6106"]
[{"$nulls":9},"6107"]
[{"$nulls":9},"6108"]
[{"$nulls":9},"6111"]
[{"$nulls":9},"6112"]
[{"$nulls":9},"6113"]
[{"$nulls":9},"6114"]
[{"$nulls":9},"6115"]
[{"$nulls":9},"6116"]
[{"$nulls":9},"6117"]
[{"$nulls":9},"6118"]
[{"$nulls":9},"6119"]
[{"$nulls":9},"6121"]
[{"$nulls":9},"6122"]
[{"$nulls":9},"6123"]
[{"$nulls":9},"6124"]
[{"$nulls":9},"6125"]
[{"$nulls":9},"6126"]
[{"$nulls":9},"6127"]
[{"$nulls":9},"6128"]
[{"$nulls":9},"6129"]
[{"$nulls":9},"6131"]
[{"$nulls":9},"6132"]
[{"$nulls":9},"6133"]
[{"$nulls":9},"6134"]
[{"$nulls":9},"6135"]
[{"$nulls":9},"6136"]
[{"$nulls":9},"6141"]
[{"$nulls":9},"6142"]
[{"$nulls":9},"6143"]
[{"$nulls":9},"6144"]
[{"$nulls":9},"6145"]
[{"$nulls":9},"6146"]
[{"$nulls":9},"6147"]
[{"$nulls":9},"6151"]
[{"$nulls":9},"6152"]
[{"$nulls":9},"6153"]
[{"$nulls":9},"6154"]
[{"$nulls":9},"6155"]
[{"$nulls":9},"6156"]
[{"$nulls":9},"6157"]
[{"$nulls":9},"6158"]
[{"$nulls":9},"6159"]
[{"$nulls":9},"6161"]
[{"$nulls":9},"6162"]
[{"$nulls":9},"6163"]
[{"$nulls":9},"6164"]
[{"$nulls":9},"6165"]
[{"$nulls":9},"6166"]
[{"$nulls":9},"6167"]
[{"$nulls":9},"6171"]
[{"$nulls":9},"6172"]
[{"$nulls":9},"6173"]
[{"$nulls":9},"6174"]
[{"$nulls":9},"6175"]
[{"$nulls":9},"6177"]
[{"$nulls":9},"6180"]
[{"$nulls":9},"6181"]
[{"$nulls":9},"6182"]
[{"$nulls":9},"6183"]
[{"$nulls":9},"6184"]
[{"$nulls":9},"6185"]
[{"$nulls":9},"6189"]
[{"$nulls":9},"6200"]
[{"$nulls":9},"6201"]
[{"$nulls":9},"6202"]
[{"$nulls":9},"6203"]
[{"$nulls":9},"6204"]
[{"$nulls":9},"6205"]
[{"$nulls":9},"6206"]
[{"$nulls":9},"6207"]
[{"$nulls":9},"6208"]
[{"$nulls":9},"6211"]
[{"$nulls":9},"6212"]
[{"$nulls":9},"6213"]
[{"$nulls":9},"6214"]
[{"$nulls":9},"6215"]
[{"$nulls":9},"6216"]
[{"$nulls":9},"6217"]
[{"$nulls":9},"6218"]
[{"$nulls":9},"6219"]
[{"$nulls":9},"6221"]
[{"$nulls":9},"6222"]
[{"$nulls":9},"6223"]
[{"$nulls":9},"6224"]
[{"$nulls":9},"6225"]
[{"$nulls":9},"6226"]
[{"$nulls":9},"6227"]
[{"$nulls":9},"6228"]
[{"$nulls":9},"6229"]
[{"$nulls":9},"6231"]
[{"$nulls":9},"6232"]
[{"$nulls":9},"6233"]
[{"$nulls":9},"6234"]
[{"$nulls":9},"6235"]
[{"$nulls":9},"6236"]
[{"$nulls":9},"6237"]
[{"$nulls":9},"6238"]
[{"$nulls":9},"6239"]
[{"$nulls":9},"6241"]
[{"$nulls":9},"6242"]
[{"$nulls":9},"6243"]
[{"$nulls":9},"6244"]
[{"$nulls":9},"6246"]
[{"$nulls":9},"6248"]
[{"$nulls":9},"6251"]
[{"$nulls":9},"6252"]
[{"$nulls":9},"6253"]
[{"$nulls":9},"6254"]
[{"$nulls":9},"6255"]
[{"$nulls":9},"6256"]
[{"$nulls":9},"6257"]
[{"$nulls":9},"6258"]
[{"$nulls":9},"6261"]
[{"$nulls":9},"6262"]
[{"$nulls":9},"6263"]
[{"$nulls":9},"6264"]
[{"$nulls":9},"6265"]
[{"$nulls":9},"6266"]
[{"$nulls":9},"6267"]
[{"$nulls":9},"6268"]
[{"$nulls":9},"6271"]
[{"$nulls":9},"6272"]
[{"$nulls":9},"6273"]
[{"$nulls":9},"6274"]
[{"$nulls":9},"6275"]
[{"$nulls":9},"6300"]
[{"$nulls":9},"6301"]
[{"$nulls":9},"6302"]
[{"$nulls":9},"6303"]
[{"$nulls":9},"6304"]
[{"$nulls":9},"6305"]
[{"$nulls":9},"6306"]
[{"$nulls":9},"6307"]
[{"$nulls":9},"6308"]
[{"$nulls":9},"6311"]
[{"$nulls":9},"6312"]
[{"$nulls":9},"6313"]
[{"$nulls":9},"6314"]
[{"$nulls":9},"6315"]
[{"$nulls":9},"6316"]
[{"$nulls":9},"6317"]
[{"$nulls":9},"6318"]
[{"$nulls":9},"6321"]
[{"$nulls":9},"6322"]
[{"$nulls":9},"6323"]
[{"$nulls":9},"6324"]
[{"$nulls":9},"6325"]
[{"$nulls":9},"6326"]
[{"$nulls":9},"6327"]
[{"$nulls":9},"6328"]
[{"$nulls":9},"6329"]
[{"$nulls":9},"6330"]
[{"$nulls":9},"6331"]
[{"$nulls":9},"6332"]
[{"$nulls":9},"6333"]
[{"$nulls":9},"6334"]
[{"$nulls":9},"6335"]
[{"$nulls":9},"6336"]
[{"$nulls":9},"6337"]
[{"$nulls":9},"6338"]
[{"$nulls":9},"6339"]
[{"$nulls":9},"6341"]
[{"$nulls":9},"6342"]
[{"$nulls":9},"6343"]
[{"$nulls":9},"6351"]
[{"$nulls":9},"6352"]
[{"$nulls":9},"6353"]
[{"$nulls":9},"6355"]
[{"$nulls":9},"6361"]
[{"$nulls":9},"6362"]
[{"$nulls":9},"6363"]
[{"$nulls":9},"6364"]
[{"$nulls":9},"6365"]
[{"$nulls":9},"6366"]
[{"$nulls":9},"6371"]
[{"$nulls":9},"6372"]
[{"$nulls":9},"6373"]
[{"$nulls":9},"6384"]
[{"$nulls":9},"6385"]
[{"$nulls":9},"6400"]
[{"$nulls":9},"6401"]
[{"$nulls":9},"6402"]
[{"$nulls":9},"6403"]
[{"$nulls":9},"6404"]
[{"$nulls":9},"6405"]
[{"$nulls":9},"6406"]
[{"$nulls":9},"6407"]
[{"$nulls":9},"6408"]
[{"$nulls":9},"6409"]
[{"$nulls":9},"6411"]
[{"$nulls":9},"6412"]
[{"$nulls":9},"6413"]
[{"$nulls":9},"6414"]
[{"$nulls":9},"6415"]
[{"$nulls":9},"6416"]
[{"$nulls":9},"6417"]
[{"$nulls":9},"6418"]
[{"$nulls":9},"6421"]
[{"$nulls":9},"6422"]
[{"$nulls":9},"6423"]
[{"$nulls":9},"6424"]
[{"$nulls":9},"6425"]
[{"$nulls":9},"6426"]
[{"$nulls":9},"6427"]
[{"$nulls":9},"6428"]
[{"$nulls":9},"6431"]
[{"$nulls":9},"6432"]
[{"$nulls":9},"6433"]
[{"$nulls":9},"6434"]
[{"$nulls":9},"6435"]
[{"$nulls":9},"6436"]
[{"$nulls":9},"6437"]
[{"$nulls":9},"6438"]
[{"$nulls":9},"6439"]
[{"$nulls":9},"6441"]
[{"$nulls":9},"6442"]
[{"$nulls":9},"6443"]
[{"$nulls":9},"6444"]
[{"$nulls":9},"6445"]
[{"$nulls":9},"6446"]
[{"$nulls":9},"6447"]
[{"$nulls":9},"6451"]
[{"$nulls":9},"6453"]
[{"$nulls":9},"6459"]
[{"$nulls":9},"6461"]
[{"$nulls":9},"6462"]
[{"$nulls":9},"6463"]
[{"$nulls":9},"6464"]
[{"$nulls":9},"6465"]
[{"$nulls":9},"6466"]
[{"$nulls":9},"6471"]
[{"$nulls":9},"6472"]
[{"$nulls":9},"6500"]
[{"$nulls":9},"6501"]
[{"$nulls":9},"6502"]
[{"$nulls":9},"6503"]
[{"$nulls":9},"6504"]
[{"$nulls":9},"6505"]
[{"$nulls":9},"6506"]
[{"$nulls":9},"6507"]
[{"$nulls":9},"6508"]
[{"$nulls":9},"6509"]
[{"$nulls":9},"6511"]
[{"$nulls":9},"6512"]
[{"$nulls":9},"6513"]
[{"$nulls":9},"6514"]
[{"$nulls":9},"6515"]
[{"$nulls":9},"6516"]
[{"$nulls":9},"6518"]
[{"$nulls":9},"6519"]
[{"$nulls":9},"6521"]
[{"$nulls":9},"6522"]
[{"$nulls":9},"6523"]
[{"$nulls":9},"6524"]
[{"$nulls":9},"6525"]
[{"$nulls":9},"6526"]
[{"$nulls":9},"6528"]
[{"$nulls":9},"6531"]
[{"$nulls":9},"6532"]
[{"$nulls":9},"6533"]
[{"$nulls":9},"6534"]
[{"$nulls":9},"6535"]
[{"$nulls":9},"6536"]
[{"$nulls":9},"6538"]
[{"$nulls":9},"6541"]
[{"$nulls":9},"6542"]
[{"$nulls":9},"6543"]
[{"$nulls":9},"6544"]
[{"$nulls":9},"6545"]
[{"$nulls":9},"6546"]
[{"$nulls":9},"6547"]
[{"$nulls":9},"6548"]
[{"$nulls":9},"6551"]
[{"$nulls":9},"6552"]
[{"$nulls":9},"6553"]
[{"$nulls":9},"6554"]
[{"$nulls":9},"6555"]
[{"$nulls":9},"6556"]
[{"$nulls":9},"6557"]
[{"$nulls":9},"6558"]
[{"$nulls":9},"6559"]
[{"$nulls":9},"6561"]
[{"$nulls":9},"6562"]
[{"$nulls":9},"6563"]
[{"$nulls":9},"6564"]
[{"$nulls":9},"6565"]
[{"$nulls":9},"6566"]
[{"$nulls":9},"6571"]
[{"$nulls":9},"6572"]
[{"$nulls":9},"6573"]
[{"$nulls":9},"6574"]
[{"$nulls":9},"6575"]
[{"$nulls":9},"6576"]
[{"$nulls":9},"6581"]
[{"$nulls":9},"6583"]
[{"$nulls":9},"6584"]
[{"$nulls":9},"6586"]
[{"$nulls":9},"6600"]
[{"$nulls":9},"6601"]
[{"$nulls":9},"6602"]
[{"$nulls":9},"6603"]
[{"$nulls":9},"6604"]
[{"$nulls":9},"6605"]
[{"$nulls":9},"6606"]
[{"$nulls":9},"6607"]
[{"$nulls":9},"6608"]
[{"$nulls":9},"6609"]
[{"$nulls":9},"6611"]
[{"$nulls":9},"6612"]
[{"$nulls":9},"6613"]
[{"$nulls":9},"6614"]
[{"$nulls":9},"6615"]
[{"$nulls":9},"6616"]
[{"$nulls":9},"6621"]
[{"$nulls":9},"6622"]
[{"$nulls":9},"6623"]
[{"$nulls":9},"6624"]
[{"$nulls":9},"6625"]
[{"$nulls":9},"6626"]
[{"$nulls":9},"6631"]
[{"$nulls":9},"6632"]
[{"$nulls":9},"6633"]
[{"$nulls":9},"6634"]
[{"$nulls":9},"6635"]
[{"$nulls":9},"6636"]
[{"$nulls":9},"6641"]
[{"$nulls":9},"6642"]
[{"$nulls":9},"6643"]
[{"$nulls":9},"6644"]
[{"$nulls":9},"6645"]
[{"$nulls":9},"6652"]
[{"$nulls":9},"6672"]
[{"$nulls":9},"6680"]
[{"$nulls":9},"6681"]
[{"$nulls":9},"6682"]
[{"$nulls":9},"6700"]
[{"$nulls":9},"6701"]
[{"$nulls":9},"6702"]
[{"$nulls":9},"6703"]
[{"$nulls":9},"6704"]
[{"$nulls":9},"6705"]
[{"$nulls":9},"6706"]
[{"$nulls":9},"6707"]
[{"$nulls":9},"6711"]
[{"$nulls":9},"6712"]
[{"$nulls":9},"6713"]
[{"$nulls":9},"6714"]
[{"$nulls":9},"6715"]
[{"$nulls":9},"6716"]
[{"$nulls":9},"6721"]
[{"$nulls":9},"6722"]
[{"$nulls":9},"6723"]
[{"$nulls":9},"6724"]
[{"$nulls":9},"6725"]
[{"$nulls":9},"6726"]
[{"$nulls":9},"6727"]
[{"$nulls":9},"6731"]
[{"$nulls":9},"6732"]
[{"$nulls":9},"6733"]
[{"$nulls":9},"6734"]
[{"$nulls":9},"6735"]
[{"$nulls":9},"6741"]
[{"$nulls":9},"6742"]
[{"$nulls":9},"6743"]
[{"$nulls":9},"6744"]
[{"$nulls":9},"6745"]
[{"$nulls":9},"6746"]
[{"$nulls":9},"6747"]
[{"$nulls":9},"6751"]
[{"$nulls":9},"6752"]
[{"$nulls":9},"6753"]
[{"$nulls":9},"6754"]
[{"$nulls":9},"6755"]
[{"$nulls":9},"6756"]
[{"$nulls":9},"6757"]
[{"$nulls":9},"6758"]
[{"$nulls":9},"6759"]
[{"$nulls":9},"6761"]
[{"$nulls":9},"6762"]
[{"$nulls":9},"6763"]
[{"$nulls":9},"6764"]
[{"$nulls":9},"6765"]
[{"$nulls":9},"6766"]
[{"$nulls":9},"6771"]
[{"$nulls":9},"6772"]
[{"$nulls":9},"6773"]
[{"$nulls":9},"6774"]
[{"$nulls":9},"6775"]
[{"$nulls":9},"6801"]
[{"$nulls":9},"6802"]
[{"$nulls":9},"6803"]
[{"$nulls":9},"6804"]
[{"$nulls":9},"6805"]
[{"$nulls":9},"6806"]
[{"$nulls":9},"6807"]
[{"$nulls":9},"6808"]
[{"$nulls":9},"6811"]
[{"$nulls":9},"6812"]
[{"$nulls":9},"6813"]
[{"$nulls":9},"6814"]
[{"$nulls":9},"6815"]
[{"$nulls":9},"6816"]
[{"$nulls":9},"6817"]
[{"$nulls":9},"6818"]
[{"$nulls":9},"6819"]
[{"$nulls":9},"6821"]
[{"$nulls":9},"6822"]
[{"$nulls":9},"6823"]
[{"$nulls":9},"6824"]
[{"$nulls":9},"6825"]
[{"$nulls":9},"6826"]
[{"$nulls":9},"6827"]
[{"$nulls":9},"6831"]
[{"$nulls":9},"6832"]
[{"$nulls":9},"6833"]
[{"$nulls":9},"6834"]
[{"$nulls":9},"6835"]
[{"$nulls":9},"6836"]
[{"$nulls":9},"6837"]
[{"$nulls":9},"6838"]
[{"$nulls":9},"6841"]
[{"$nulls":9},"6842"]
[{"$nulls":9},"6843"]
[{"$nulls":9},"6844"]
[{"$nulls":9},"6845"]
[{"$nulls":9},"6846"]
[{"$nulls":9},"6847"]
[{"$nulls":9},"6848"]
[{"$nulls":9},"6849"]
[{"$nulls":9},"6851"]
[{"$nulls":9},"6852"]
[{"$nulls":9},"6853"]
[{"$nulls":9},"6854"]
[{"$nulls":9},"6855"]
[{"$nulls":9},"6856"]
[{"$nulls":9},"6857"]
[{"$nulls":9},"6861"]
[{"$nulls":9},"6862"]
[{"$nulls":9},"6863"]
[{"$nulls":9},"6864"]
[{"$nulls":9},"6865"]
[{"$nulls":9},"6866"]
[{"$nulls":9},"6867"]
[{"$nulls":9},"6868"]
[{"$nulls":9},"6871"]
[{"$nulls":9},"6872"]
[{"$nulls":9},"6873"]
[{"$nulls":9},"6874"]
[{"$nulls":9},"6875"]
[{"$nulls":9},"6876"]
[{"$nulls":9},"6877"]
[{"$nulls":9},"6878"]
[{"$nulls":9},"6879"]
[{"$nulls":9},"6881"]
[{"$nulls":9},"6882"]
[{"$nulls":9},"6883"]
[{"$nulls":9},"6884"]
[{"$nulls":9},"6885"]
[{"$nulls":9},"6901"]
[{"$nulls":9},"6902"]
[{"$nulls":9},"6903"]
[{"$nulls":9},"6904"]
[{"$nulls":9},"6905"]
[{"$nulls":9},"6906"]
[{"$nulls":9},"6907"]
[{"$nulls":9},"6908"]
[{"$nulls":9},"6911"]
[{"$nulls":9},"6912"]
[{"$nulls":9},"6913"]
[{"$nulls":9},"6914"]
[{"$nulls":9},"6915"]
[{"$nulls":9},"6916"]
[{"$nulls":9},"6917"]
[{"$nulls":9},"6918"]
[{"$nulls":9},"6919"]
[{"$nulls":9},"6921"]
[{"$nulls":9},"6922"]
[{"$nulls":9},"6923"]
[{"$nulls":9},"6924"]
[{"$nulls":9},"6925"]
[{"$nulls":9},"6926"]
[{"$nulls":9},"6927"]
[{"$nulls":9},"6928"]
[{"$nulls":9},"6929"]
[{"$nulls":9},"6931"]
[{"$nulls":9},"6932"]
[{"$nulls":9},"6933"]
[{"$nulls":9},"6934"]
[{"$nulls":9},"6935"]
[{"$nulls":9},"6936"]
[{"$nulls":9},"6937"]
[{"$nulls":9},"6938"]
[{"$nulls":9},"6939"]
[{"$nulls":9},"6941"]
[{"$nulls":9},"6942"]
[{"$nulls":9},"6943"]
[{"$nulls":9},"6944"]
[{"$nulls":9},"6945"]
[{"$nulls":9},"6946"]
[{"$nulls":9},"6947"]
[{"$nulls":9},"6948"]
[{"$nulls":9},"6949"]
[{"$nulls":9},"6951"]
[{"$nulls":9},"6952"]
[{"$nulls":9},"6953"]
[{"$nulls":9},"6954"]
[{"$nulls":9},"6955"]
[{"$nulls":9},"6956"]
[{"$nulls":9},"6957"]
[{"$nulls":9},"6958"]
[{"$nulls":9},"6961"]
[{"$nulls":9},"6962"]
[{"$nulls":9},"6963"]
[{"$nulls":9},"6964"]
[{"$nulls":9},"6965"]
[{"$nulls":9},"6966"]
[{"$nulls":9},"6967"]
[{"$nulls":9},"6968"]
[{"$nulls":9},"6969"]
[{"$nulls":9},"6971"]
[{"$nulls":9},"6972"]
[{"$nulls":9},"6973"]
[{"$nulls":9},"6974"]
[{"$nulls":9},"6975"]
[{"$nulls":9},"6976"]
[{"$nulls":9},"6977"]
[{"$nulls":9},"6978"]
[{"$nulls":9},"6979"]
[{"$nulls":9},"6981"]
[{"$nulls":9},"6982"]
[{"$nulls":9},"6983"]
[{"$nulls":9},"6984"]
[{"$nulls":9},"6985"]
[{"$nulls":9},"7100"]
[{"$nulls":9},"7101"]
[{"$nulls":9},"7102"]
[{"$nulls":9},"7103"]
[{"$nulls":9},"7104"]
[{"$nulls":9},"7105"]
[{"$nulls":9},"7106"]
[{"$nulls":9},"7107"]
[{"$nulls":9},"7108"]
[{"$nulls":9},"7109"]
[{"$nulls":9},"7111"]
[{"$nulls":9},"7112"]
[{"$nulls":9},"7113"]
[{"$nulls":9},"7114"]
[{"$nulls":9},"7115"]
[{"$nulls":9},"7116"]
[{"$nulls":9},"7117"]
[{"$nulls":9},"7121"]
[{"$nulls":9},"7122"]
[{"$nulls":9},"7123"]
[{"$nulls":9},"7124"]
[{"$nulls":9},"7125"]
[{"$nulls":9},"7126"]
[{"$nulls":9},"7127"]
[{"$nulls":9},"7131"]
[{"$nulls":9},"7132"]
[{"$nulls":9},"7133"]
[{"$nulls":9},"7134"]
[{"$nulls":9},"7135"]
[{"$nulls":9},"7136"]
[{"$nulls":9},"7137"]
[{"$nulls":9},"7138"]
[{"$nulls":9},"7141"]
[{"$nulls":9},"7142"]
[{"$nulls":9},"7143"]
[{"$nulls":9},"7144"]
[{"$nulls":9},"7145"]
[{"$nulls":9},"7151"]
[{"$nulls":9},"7152"]
[{"$nulls":9},"7153"]
[{"$nulls":9},"7154"]
[{"$nulls":9},"7155"]
[{"$nulls":9},"7161"]
[{"$nulls":9},"7162"]
[{"$nulls":9},"7163"]
[{"$nulls":9},"7164"]
[{"$nulls":9},"7165"]
[{"$nulls":9},"7166"]
[{"$nulls":9},"7172"]
[{"$nulls":9},"7174"]
[{"$nulls":9},"7175"]
[{"$nulls":9},"7200"]
[{"$nulls":9},"7201"]
[{"$nulls":9},"7202"]
[{"$nulls":9},"7203"]
[{"$nulls":9},"7204"]
[{"$nulls":9},"7205"]
[{"$nulls":9},"7206"]
[{"$nulls":9},"7207"]
[{"$nulls":9},"7208"]
[{"$nulls":9},"7209"]
[{"$nulls":9},"7211"]
[{"$nulls":9},"7212"]
[{"$nulls":9},"7213"]
[{"$nulls":9},"7214"]
[{"$nulls":9},"7215"]
[{"$nulls":9},"7216"]
[{"$nulls":9},"7221"]
[{"$nulls":9},"7222"]
[{"$nulls":9},"7223"]
[{"$nulls":9},"7224"]
[{"$nulls":9},"7225"]
[{"$nulls":9},"7226"]
[{"$nulls":9},"7227"]
[{"$nulls":9},"7228"]
[{"$nulls":9},"7229"]
[{"$nulls":9},"7231"]
[{"$nulls":9},"7232"]
[{"$nulls":9},"7233"]
[{"$nulls":9},"7234"]
[{"$nulls":9},"7235"]
[{"$nulls":9},"7236"]
[{"$nulls":9},"7241"]
[{"$nulls":9},"7242"]
[{"$nulls":9},"7243"]
[{"$nulls":9},"7244"]
[{"$nulls":9},"7245"]
[{"$nulls":9},"7246"]
[{"$nulls":9},"7247"]
[{"$nulls":9},"7248"]
[{"$nulls":9},"7251"]
[{"$nulls":9},"7252"]
[{"$nulls":9},"7253"]
[{"$nulls":9},"7254"]
[{"$nulls":9},"7255"]
[{"$nulls":9},"7256"]
[{"$nulls":9},"7261"]
[{"$nulls":9},"7262"]
[{"$nulls":9},"7263"]
[{"$nulls":9},"7264"]
[{"$nulls":9},"7300"]
[{"$nulls":9},"7301"]
[{"$nulls":9},"7302"]
[{"$nulls":9},"7303"]
[{"$nulls":9},"7304"]
[{"$nulls":9},"7305"]
[{"$nulls":9},"7306"]
[{"$nulls":9},"7307"]
[{"$nulls":9},"7308"]
[{"$nulls":9},"7311"]
[{"$nulls":9},"7312"]
[{"$nulls":9},"7313"]
[{"$nulls":9},"7314"]
[{"$nulls":9},"7315"]
[{"$nulls":9},"7316"]
[{"$nulls":9},"7317"]
[{"$nulls":9},"7318"]
[{"$nulls":9},"7319"]
[{"$nulls":9},"7321"]
[{"$nulls":9},"7322"]
[{"$nulls":9},"7323"]
[{"$nulls":9},"7324"]
[{"$nulls":9},"7326"]
[{"$nulls":9},"7401"]
[{"$nulls":9},"7402"]
[{"$nulls":9},"7403"]
[{"$nulls":9},"7404"]
[{"$nulls":9},"7405"]
[{"$nulls":9},"7406"]
[{"$nulls":9},"7411"]
[{"$nulls":9},"7412"]
[{"$nulls":9},"7413"]
[{"$nulls":9},"7414"]
[{"$nulls":9},"7415"]
[{"$nulls":9},"7416"]
[{"$nulls":9},"7417"]
[{"$nulls":9},"7418"]
[{"$nulls":9},"7421"]
[{"$nulls":9},"7422"]
[{"$nulls":9},"7423"]
[{"$nulls":9},"7424"]
[{"$nulls":9},"7425"]
[{"$nulls":9},"7426"]
[{"$nulls":9},"7461"]
[{"$nulls":9},"7462"]
[{"$nulls":9},"7463"]
[{"$nulls":9},"7464"]
[{"$nulls":9},"7500"]
[{"$nulls":9},"7501"]
[{"$nulls":9},"7502"]
[{"$nulls":9},"7503"]
[{"$nulls":9},"7504"]
[{"$nulls":9},"7505"]
[{"$nulls":9},"7506"]
[{"$nulls":9},"7507"]
[{"$nulls":9},"7508"]
[{"$nulls":9},"7511"]
[{"$nulls":9},"7512"]
[{"$nulls":9},"7513"]
[{"$nulls":9},"7514"]
[{"$nulls":9},"7515"]
[{"$nulls":9},"7516"]
[{"$nulls":9},"7517"]
[{"$nulls":9},"7521"]
[{"$nulls":9},"7522"]
[{"$nulls":9},"7523"]
[{"$nulls":9},"7524"]
[{"$nulls":9},"7525"]
[{"$nulls":9},"7526"]
[{"$nulls":9},"7527"]
[{"$nulls":9},"7531"]
[{"$nulls":9},"7532"]
[{"$nulls":9},"7533"]
[{"$nulls":9},"7534"]
[{"$nulls":9},"7535"]
[{"$nulls":9},"7536"]
[{"$nulls":9},"7537"]
[{"$nulls":9},"7541"]
[{"$nulls":9},"7542"]
[{"$nulls":9},"7543"]
[{"$nulls":9},"7544"]
[{"$nulls":9},"7545"]
[{"$nulls":9},"7546"]
[{"$nulls":9},"7547"]
[{"$nulls":9},"7548"]
[{"$nulls":9},"7551"]
[{"$nulls":9},"7552"]
[{"$nulls":9},"7553"]
[{"$nulls":9},"7554"]
[{"$nulls":9},"7555"]
[{"$nulls":9},"7556"]
[{"$nulls":9},"7557"]
[{"$nulls":9},"7561"]
[{"$nulls":9},"7562"]
[{"$nulls":9},"7563"]
[{"$nulls":9},"7564"]
[{"$nulls":9},"7565"]
[{"$nulls":9},"7566"]
[{"$nulls":9},"7567"]
[{"$nulls":9},"7600"]
[{"$nulls":9},"7601"]
[{"$nulls":9},"7602"]
[{"$nulls":9},"7603"]
[{"$nulls":9},"7604"]
[{"$nulls":9},"7605"]
[{"$nulls":9},"7606"]
[{"$nulls":9},"7607"]
[{"$nulls":9},"7608"]
[{"$nulls":9},"7611"]
[{"$nulls":9},"7612"]
[{"$nulls":9},"7613"]
[{"$nulls":9},"7614"]
[{"$nulls":9},"7615"]
[{"$nulls":9},"7616"]
[{"$nulls":9},"7617"]
[{"$nulls":9},"7618"]
[{"$nulls":9},"7619"]
[{"$nulls":9},"7621"]
[{"$nulls":9},"7622"]
[{"$nulls":9},"7623"]
[{"$nulls":9},"7624"]
[{"$nulls":9},"7625"]
[{"$nulls":9},"7626"]
[{"$nulls":9},"7627"]
[{"$nulls":9},"7628"]
[{"$nulls":9},"7629"]
[{"$nulls":9},"7631"]
[{"$nulls":9},"7632"]
[{"$nulls":9},"7633"]
[{"$nulls":9},"7634"]
[{"$nulls":9},"7635"]
[{"$nulls":9},"7636"]
[{"$nulls":9},"7637"]
[{"$nulls":9},"7638"]
[{"$nulls":9},"7641"]
[{"$nulls":9},"7642"]
[{"$nulls":9},"7643"]
[{"$nulls":9},"7644"]
[{"$nulls":9},"7645"]
[{"$nulls":9},"7646"]
[{"$nulls":9},"7651"]
[{"$nulls":9},"7652"]
[{"$nulls":9},"7653"]
[{"$nulls":9},"7654"]
[{"$nulls":9},"7655"]
[{"$nulls":9},"7656"]
[{"$nulls":9},"7657"]
[{"$nulls":9},"7661"]
[{"$nulls":9},"7662"]
[{"$nulls":9},"7663"]
[{"$nulls":9},"7664"]
[{"$nulls":9},"7671"]
[{"$nulls":9},"7672"]
[{"$nulls":9},"7673"]
[{"$nulls":9},"7674"]
[{"$nulls":9},"7675"]
[{"$nulls":9},"7676"]
[{"$nulls":9},"7677"]
[{"$nulls":9},"7678"]
[{"$nulls":9},"7679"]
[{"$nulls":9},"7681"]
[{"$nulls":9},"7682"]
[{"$nulls":9},"7683"]
[{"$nulls":9},"7685"]
[{"$nulls":9},"7700"]
[{"$nulls":9},"7701"]
[{"$nulls":9},"7702"]
[{"$nulls":9},"7703"]
[{"$nulls":9},"7704"]
[{"$nulls":9},"7705"]
[{"$nulls":9},"7706"]
[{"$nulls":9},"7707"]
[{"$nulls":9},"7708"]
[{"$nulls":9},"7711"]
[{"$nulls":9},"7712"]
[{"$nulls":9},"7713"]
[{"$nulls":9},"7714"]
[{"$nulls":9},"7715"]
[{"$nulls":9},"7716"]
[{"$nulls":9},"7717"]
[{"$nulls":9},"7718"]
[{"$nulls":9},"7719"]
[{"$nulls":9},"7721"]
[{"$nulls":9},"7722"]
[{"$nulls":9},"7723"]
[{"$nulls":9},"7724"]
[{"$nulls":9},"7725"]
[{"$nulls":9},"7726"]
[{"$nulls":9},"7731"]
[{"$nulls":9},"7732"]
[{"$nulls":9},"7733"]
[{"$nulls":9},"7734"]
[{"$nulls":9},"7741"]
[{"$nulls":9},"7742"]
[{"$nulls":9},"7743"]
[{"$nulls":9},"7744"]
[{"$nulls":9},"7745"]
[{"$nulls":9},"7746"]
[{"$nulls":9},"7747"]
[{"$nulls":9},"7748"]
[{"$nulls":9},"7749"]
[{"$nulls":9},"7751"]
[{"$nulls":9},"7752"]
[{"$nulls":9},"7753"]
[{"$nulls":9},"7754"]
[{"$nulls":9},"7755"]
[{"$nulls":9},"7756"]
[{"$nulls":9},"7757"]
[{"$nulls":9},"7759"]
[{"$nulls":9},"7761"]
[{"$nulls":9},"7762"]
[{"$nulls":9},"7763"]
[{"$nulls":9},"7764"]
[{"$nulls":9},"7765"]
[{"$nulls":9},"7766"]
[{"$nulls":9},"7767"]
[{"$nulls":9},"7768"]
[{"$nulls":9},"7769"]
[{"$nulls":9},"7771"]
[{"$nulls":9},"7772"]
[{"$nulls":9},"7773"]
[{"$nulls":9},"7774"]
[{"$nulls":9},"7775"]
[{"$nulls":9},"7776"]
[{"$nulls":9},"7777"]
[{"$nulls":9},"7781"]
[{"$nulls":9},"7782"]
[{"$nulls":9},"7784"]
[{"$nulls":9},"7785"]
[{"$nulls":9},"7801"]
[{"$nulls":9},"7802"]
[{"$nulls":9},"7803"]
[{"$nulls":9},"7804"]
[{"$nulls":9},"7805"]
[{"$nulls":9},"7806"]
[{"$nulls":9},"7807"]
[{"$nulls":9},"7808"]
[{"$nulls":9},"7811"]
[{"$nulls":9},"7812"]
[{"$nulls":9},"7813"]
[{"$nulls":9},"7814"]
[{"$nulls":9},"7815"]
[{"$nulls":9},"7816"]
[{"$nulls":9},"7817"]
[{"$nulls":9},"7818"]
[{"$nulls":9},"7821"]
[{"$nulls":9},"7822"]
[{"$nulls":9},"7823"]
[{"$nulls":9},"7824"]
[{"$nulls":9},"7825"]
[{"$nulls":9},"7826"]
[{"$nulls":9},"7831"]
[{"$nulls":9},"7832"]
[{"$nulls":9},"7834"]
[{"$nulls":9},"7835"]
[{"$nulls":9},"7837"]
[{"$nulls":9},"7841"]
[{"$nulls":9},"7843"]
[{"$nulls":9},"7844"]
[{"$nulls":9},"7848"]
[{"$nulls":9},"7851"]
[{"$nulls":9},"7852"]
[{"$nulls":9},"7854"]
[{"$nulls":9},"7855"]
[{"$nulls":9},"7857"]
[{"$nulls":9},"7858"]
[{"$nulls":9},"7859"]
[{"$nulls":9},"7861"]
[{"$nulls":9},"7864"]
[{"$nulls":9},"7865"]
[{"$nulls":9},"7866"]
[{"$nulls":9},"7867"]
[{"$nulls":9},"7871"]
[{"$nulls":9},"7872"]
[{"$nulls":9},"7873"]
[{"$nulls":9},"7874"]
[{"$nulls":9},"7875"]
[{"$nulls":9},"7881"]
[{"$nulls":9},"7882"]
[{"$nulls":9},"7883"]
[{"$nulls":9},"7884"]
[{"$nulls":9},"7885"]
[{"$nulls":9},"7886"]
[{"$nulls":9},"7900"]
[{"$nulls":9},"7905"]
[{"$nulls":9},"7915"]
[{"$nulls":9},"8001"]
[{"$nulls":9},"8002"]
[{"$nulls":9},"8003"]
[{"$nulls":9},"8004"]
[{"$nulls":9},"8005"]
[{"$nulls":9},"8006"]
[{"$nulls":9},"8007"]
[{"$nulls":9},"8008"]
[{"$nulls":9},"8009"]
[{"$nulls":9},"8010"]
[{"$nulls":9},"8011"]
[{"$nulls":9},"8012"]
[{"$nulls":9},"8013"]
[{"$nulls":9},"8014"]
[{"$nulls":9},"8015"]
[{"$nulls":9},"8016"]
[{"$nulls":9},"8017"]
[{"$nulls":9},"8018"]
[{"$nulls":9},"8019"]
[{"$nulls":9},"8020"]
[{"$nulls":9},"8021"]
[{"$nulls":9},"8022"]
[{"$nulls":9},"8023"]
[{"$nulls":9},"8024"]
[{"$nulls":9},"8025"]
[{"$nulls":9},"8026"]
[{"$nulls":9},"8027"]
[{"$nulls":9},"8028"]
[{"$nulls":9},"8029"]
[{"$nulls":9},"8030"]
[{"$nulls":9},"8031"]
[{"$nulls":9},"8032"]
[{"$nulls":9},"8033"]
[{"$nulls":9},"8034"]
[{"$nulls":9},"8035"]
[{"$nulls":9},"8036"]
[{"$nulls":9},"8037"]
[{"$nulls":9},"8038"]
[{"$nulls":9},"8039"]
[{"$nulls":9},"8040"]
[{"$nulls":9},"8041"]
[{"$nulls":9},"8042"]
[{"$nulls":9},"8043"]
[{"$nulls":9},"8044"]
[{"$nulls":9},"8045"]
[{"$nulls":9},"8046"]
[{"$nulls":9},"8047"]
[{"$nulls":9},"8048"]
[{"$nulls":9},"8049"]
[{"$nulls":9},"8050"]
[{"$nulls":9},"8051"]
[{"$nulls":9},"8052"]
[{"$nulls":9},"8053"]
[{"$nulls":9},"8054"]
[{"$nulls":9},"8055"]
[{"$nulls":9},"8056"]
[{"$nulls":9},"8057"]
[{"$nulls":9},"8058"]
[{"$nulls":9},"8059"]
[{"$nulls":9},"8060"]
[{"$nulls":9},"8061"]
[{"$nulls":9},"8062"]
[{"$nulls":9},"8063"]
[{"$nulls":9},"8064"]
[{"$nulls":9},"8065"]
[{"$nulls":9},"8066"]
[{"$nulls":9},"8067"]
[{"$nulls":9},"8068"]
[{"$nulls":9},"8069"]
[{"$nulls":9},"8070"]
[{"$nulls":9},"8071"]
[{"$nulls":9},"8072"]
[{"$nulls":9},"8073"]
[{"$nulls":9},"8074"]
[{"$nulls":9},"8075"]
[{"$nulls":9},"8076"]
[{"$nulls":9},"8077"]
[{"$nulls":9},"8078"]
[{"$nulls":9},"8079"]
[{"$nulls":9},"8080"]
[{"$nulls":9},"8081"]
[{"$nulls":9},"8082"]
[{"$nulls":9},"8083"]
[{"$nulls":9},"8084"]
[{"$nulls":9},"8085"]
[{"$nulls":9},"8086"]
[{"$nulls":9},"8087"]
[{"$nulls":9},"8088"]
[{"$nulls":9},"8089"]
[{"$nulls":9},"8090"]
[{"$nulls":9},"8091"]
[{"$nulls":9},"8092"]
[{"$nulls":9},"8093"]
[{"$nulls":9},"8094"]
[{"$nulls":9},"8095"]
[{"$nulls":9},"8096"]
[{"$nulls":9},"8097"]
[{"$nulls":9},"8098"]
[{"$nulls":9},"8099"]
[{"$nulls":9},"8100"]
[{"$nulls":9},"8101"]
[{"$nulls":9},"8102"]
[{"$nulls":9},"8103"]
[{"$nulls":9},"8104"]
[{"$nulls":9},"8105"]
[{"$nulls":9},"8106"]
[{"$nulls":9},"8107"]
[{"$nulls":9},"8108"]
[{"$nulls":9},"8109"]
[{"$nulls":9},"8110"]
[{"$nulls":9},"8111"]
[{"$nulls":9},"8112"]
[{"$nulls":9},"8113"]
[{"$nulls":9},"8114"]
[{"$nulls":9},"8115"]
[{"$nulls":9},"8116"]
[{"$nulls":9},"8117"]
[{"$nulls":9},"8118"]
[{"$nulls":9},"8119"]
[{"$nulls":9},"8120"]
[{"$nulls":9},"8121"]
[{"$nulls":9},"8122"]
[{"$nulls":9},"8123"]
[{"$nulls":9},"8124"]
[{"$nulls":9},"8125"]
[{"$nulls":9},"8126"]
[{"$nulls":9},"8127"]
[{"$nulls":9},"8128"]
[{"$nulls":9},"8129"]
[{"$nulls":9},"8130"]
[{"$nulls":9},"8131"]
[{"$nulls":9},"8132"]
[{"$nulls":9},"8133"]
[{"$nulls":9},"8134"]
[{"$nulls":9},"8135"]
[{"$nulls":9},"8136"]
[{"$nulls":9},"8137"]
[{"$nulls":9},"8138"]
[{"$nulls":9},"8139"]
[{"$nulls":9},"8141"]
[{"$nulls":9},"8142"]
[{"$nulls":9},"8143"]
[{"$nulls":9},"8144"]
[{"$nulls":9},"8145"]
[{"$nulls":9},"8146"]
[{"$nulls":9},"8147"]
[{"$nulls":9},"8148"]
[{"$nulls":9},"8149"]
[{"$nulls":9},"8150"]
[{"$nulls":9},"8151"]
[{"$nulls":9},"8152"]
[{"$nulls":9},"8153"]
[{"$nulls":9},"8154"]
[{"$nulls":9},"8155"]
[{"$nulls":9},"8156"]
[{"$nulls":9},"8157"]
[{"$nulls":9},"8158"]
[{"$nulls":9},"8159"]
[{"$nulls":9},"8160"]
[{"$nulls":9},"8161"]
[{"$nulls":9},"8162"]
[{"$nulls":9},"8163"]
[{"$nulls":9},"8164"]
[{"$nulls":9},"8165"]
[{"$nulls":9},"8166"]
[{"$nulls":9},"8167"]
[{"$nulls":9},"8168"]
[{"$nulls":9},"8169"]
[{"$nulls":9},"8170"]
[{"$nulls":9},"8171"]
[{"$nulls":9},"8172"]
[{"$nulls":9},"8173"]
[{"$nulls":9},"8174"]
[{"$nulls":9},"8175"]
[{"$nulls":9},"8176"]
[{"$nulls":9},"8177"]
[{"$nulls":9},"8178"]
[{"$nulls":9},"8179"]
[{"$nulls":9},"8180"]
[{"$nulls":9},"8181"]
[{"$nulls":9},"8182"]
[{"$nulls":9},"8183"]
[{"$nulls":9},"8184"]
[{"$nulls":9},"8185"]
[{"$nulls":9},"8186"]
[{"$nulls":9},"8187"]
[{"$nulls":9},"8188"]
[{"$nulls":9},"8189"]
[{"$nulls":9},"8190"]
[{"$nulls":9},"8191"]
[{"$nulls":9},"8192"]
[{"$nulls":9},"8193"]
[{"$nulls":9},"8194"]
[{"$nulls":9},"8195"]
[{"$nulls":9},"8196"]
[{"$nulls":9},"8197"]
[{"$nulls":9},"8198"]
[{"$nulls":9},"8200"]
[{"$nulls":9},"8201"]
[{"$nulls":9},"8202"]
[{"$nulls":9},"8203"]
[{"$nulls":9},"8204"]
[{"$nulls":9},"8205"]
[{"$nulls":9},"8206"]
[{"$nulls":9},"8207"]
[{"$nulls":9},"8208"]
[{"$nulls":9},"8209"]
[{"$nulls":9},"8210"]
[{"$nulls":9},"8211"]
[{"$nulls":9},"8212"]
[{"$nulls":9},"8213"]
[{"$nulls":9},"8214"]
[{"$nulls":9},"8215"]
[{"$nulls":9},"8216"]
[{"$nulls":9},"8217"]
[{"$nulls":9},"8218"]
[{"$nulls":9},"8219"]
[{"$nulls":9},"8220"]
[{"$nulls":9},"8221"]
[{"$nulls":9},"8222"]
[{"$nulls":9},"8223"]
[{"$nulls":9},"8224"]
[{"$nulls":9},"8225"]
[{"$nulls":9},"8226"]
[{"$nulls":9},"8227"]
[{"$nulls":9},"8228"]
[{"$nulls":9},"8229"]
[{"$nulls":9},"8230"]
[{"$nulls":9},"8231"]
[{"$nulls":9},"8232"]
[{"$nulls":9},"8233"]
[{"$nulls":9},"8234"]
[{"$nulls":9},"8235"]
[{"$nulls":9},"8236"]
[{"$nulls":9},"8237"]
[{"$nulls":9},"8238"]
[{"$nulls":9},"8239"]
[{"$nulls":9},"8240"]
[{"$nulls":9},"8241"]
[{"$nulls":9},"8242"]
[{"$nulls":9},"8243"]
[{"$nulls":9},"8244"]
[{"$nulls":9},"8245"]
[{"$nulls":9},"8246"]
[{"$nulls":9},"8247"]
[{"$nulls":9},"8248"]
[{"$nulls":9},"8249"]
[{"$nulls":9},"8251"]
[{"$nulls":9},"8252"]
[{"$nulls":9},"8253"]
[{"$nulls":9},"8254"]
[{"$nulls":9},"8255"]
[{"$nulls":9},"8256"]
[{"$nulls":9},"8257"]
[{"$nulls":9},"8258"]
[{"$nulls":9},"8259"]
[{"$nulls":9},"8261"]
[{"$nulls":9},"8262"]
[{"$nulls":9},"8263"]
[{"$nulls":9},"8264"]
[{"$nulls":9},"8265"]
[{"$nulls":9},"8266"]
[{"$nulls":9},"8267"]
[{"$nulls":9},"8268"]
[{"$nulls":9},"8269"]
[{"$nulls":9},"8271"]
[{"$nulls":9},"8272"]
[{"$nulls":9},"8273"]
[{"$nulls":9},"8274"]
[{"$nulls":9},"8275"]
[{"$nulls":9},"8276"]
[{"$nulls":9},"8277"]
[{"$nulls":9},"8278"]
[{"$nulls":9},"8279"]
[{"$nulls":9},"8280"]
[{"$nulls":9},"8281"]
[{"$nulls":9},"8282"]
[{"$nulls":9},"8283"]
[{"$nulls":9},"8284"]
[{"$nulls":9},"8285"]
[{"$nulls":9},"8286"]
[{"$nulls":9},"8287"]
[{"$nulls":9},"8288"]
[{"$nulls":9},"8289"]
[{"$nulls":9},"8290"]
[{"$nulls":9},"8291"]
[{"$nulls":9},"8292"]
[{"$nulls":9},"8293"]
[{"$nulls":9},"8294"]
[{"$nulls":9},"8295"]
[{"$nulls":9},"8296"]
[{"$nulls":9},"8297"]
[{"$nulls":9},"8298"]
[{"$nulls":9},"8299"]
[{"$nulls":9},"8300"]
[{"$nulls":9},"8301"]
[{"$nulls":9},"8302"]
[{"$nulls":9},"8303"]
[{"$nulls":9},"8304"]
[{"$nulls":9},"8305"]
[{"$nulls":9},"8306"]
[{"$nulls":9},"8307"]
[{"$nulls":9},"8308"]
[{"$nulls":9},"8309"]
[{"$nulls":9},"8310"]
[{"$nulls":9},"8311"]
[{"$nulls":9},"8312"]
[{"$nulls":9},"8313"]
[{"$nulls":9},"8314"]
[{"$nulls":9},"8315"]
[{"$nulls":9},"8316"]
[{"$nulls":9},"8317"]
[{"$nulls":9},"8318"]
[{"$nulls":9},"8319"]
[{"$nulls":9},"8320"]
[{"$nulls":9},"8321"]
[{"$nulls":9},"8322"]
[{"$nulls":9},"8323"]
[{"$nulls":9},"8324"]
[{"$nulls":9},"8325"]
[{"$nulls":9},"8326"]
[{"$nulls":9},"8327"]
[{"$nulls":9},"8328"]
[{"$nulls":9},"8329"]
[{"$nulls":9},"8330"]
[{"$nulls":9},"8331"]
[{"$nulls":9},"8332"]
[{"$nulls":9},"8333"]
[{"$nulls":9},"8334"]
[{"$nulls":9},"8335"]
[{"$nulls":9},"8336"]
[{"$nulls":9},"8337"]
[{"$nulls":9},"8338"]
[{"$nulls":9},"8339"]
[{"$nulls":9},"8341"]
[{"$nulls":9},"8342"]
[{"$nulls":9},"8343"]
[{"$nulls":9},"8344"]
[{"$nulls":9},"8345"]
[{"$nulls":9},"8346"]
[{"$nulls":9},"8347"]
[{"$nulls":9},"8348"]
[{"$nulls":9},"8349"]
[{"$nulls":9},"8350"]
[{"$nulls":9},"8351"]
[{"$nulls":9},"8352"]
[{"$nulls":9},"8353"]
[{"$nulls":9},"8354"]
[{"$nulls":9},"8355"]
[{"$nulls":9},"8356"]
[{"$nulls":9},"8357"]
[{"$nulls":9},"8358"]
[{"$nulls":9},"8359"]
[{"$nulls":9},"8360"]
[{"$nulls":9},"8361"]
[{"$nulls":9},"8362"]
[{"$nulls":9},"8363"]
[{"$nulls":9},"8364"]
[{"$nulls":9},"8365"]
[{"$nulls":9},"8366"]
[{"$nulls":9},"8367"]
[{"$nulls":9},"8368"]
[{"$nulls":9},"8369"]
[{"$nulls":9},"8371"]
[{"$nulls":9},"8372"]
[{"$nulls":9},"8373"]
[{"$nulls":9},"8374"]
[{"$nulls":9},"8375"]
[{"$nulls":9},"8376"]
[{"$nulls":9},"8377"]
[{"$nulls":9},"8378"]
[{"$nulls":9},"8379"]
[{"$nulls":9},"8380"]
[{"$nulls":9},"8381"]
[{"$nulls":9},"8382"]
[{"$nulls":9},"8383"]
[{"$nulls":9},"8384"]
[{"$nulls":9},"8385"]
[{"$nulls":9},"8386"]
[{"$nulls":9},"8387"]
[{"$nulls":9},"8388"]
[{"$nulls":9},"8389"]
[{"$nulls":9},"8390"]
[{"$nulls":9},"8391"]
[{"$nulls":9},"8392"]
[{"$nulls":9},"8393"]
[{"$nulls":9},"8394"]
[{"$nulls":9},"8395"]
[{"$nulls":9},"8396"]
[{"$nulls":9},"8397"]
[{"$nulls":9},"8398"]
[{"$nulls":9},"8399"]
[{"$nulls":9},"8400"]
[{"$nulls":9},"8401"]
[{"$nulls":9},"8402"]
[{"$nulls":9},"8403"]
[{"$nulls":9},"8404"]
[{"$nulls":9},"8405"]
[{"$nulls":9},"8406"]
[{"$nulls":9},"8407"]
[{"$nulls":9},"8408"]
[{"$nulls":9},"8409"]
[{"$nulls":9},"8410"]
[{"$nulls":9},"8411"]
[{"$nulls":9},"8412"]
[{"$nulls":9},"8413"]
[{"$nulls":9},"8414"]
[{"$nulls":9},"8415"]
[{"$nulls":9},"8416"]
[{"$nulls":9},"8417"]
[{"$nulls":9},"8418"]
[{"$nulls":9},"8419"]
[{"$nulls":9},"8420"]
[{"$nulls":9},"8421"]
[{"$nulls":9},"8422"]
[{"$nulls":9},"8423"]
[{"$nulls":9},"8424"]
[{"$nulls":9},"8425"]
[{"$nulls":9},"8426"]
[{"$nulls":9},"8427"]
[{"$nulls":9},"8428"]
[{"$nulls":9},"8429"]
[{"$nulls":9},"8430"]
[{"$nulls":9},"8431"]
[{"$nulls":9},"8432"]
[{"$nulls":9},"8433"]
[{"$nulls":9},"8434"]
[{"$nulls":9},"8435"]
[{"$nulls":9},"8436"]
[{"$nulls":9},"8437"]
[{"$nulls":9},"8438"]
[{"$nulls":9},"8439"]
[{"$nulls":9},"8441"]
[{"$nulls":9},"8442"]
[{"$nulls":9},"8443"]
[{"$nulls":9},"8444"]
[{"$nulls":9},"8445"]
[{"$nulls":9},"8446"]
[{"$nulls":9},"8447"]
[{"$nulls":9},"8448"]
[{"$nulls":9},"8449"]
[{"$nulls":9},"8450"]
[{"$nulls":9},"8451"]
[{"$nulls":9},"8452"]
[{"$nulls":9},"8453"]
[{"$nulls":9},"8454"]
[{"$nulls":9},"8455"]
[{"$nulls":9},"8456"]
[{"$nulls":9},"8457"]
[{"$nulls":9},"8458"]
[{"$nulls":9},"8459"]
[{"$nulls":9},"8460"]
[{"$nulls":9},"8461"]
[{"$nulls":9},"8462"]
[{"$nulls":9},"8463"]
[{"$nulls":9},"8464"]
[{"$nulls":9},"8465"]
[{"$nulls":9},"8466"]
[{"$nulls":9},"8467"]
[{"$nulls":9},"8468"]
[{"$nulls":9},"8469"]
[{"$nulls":9},"8471"]
[{"$nulls":9},"8472"]
[{"$nulls":9},"8473"]
[{"$nulls":9},"8474"]
[{"$nulls":9},"8475"]
[{"$nulls":9},"8476"]
[{"$nulls":9},"8477"]
[{"$nulls":9},"8478"]
[{"$nulls":9},"8479"]
[{"$nulls":9},"8480"]
[{"$nulls":9},"8481"]
[{"$nulls":9},"8482"]
[{"$nulls":9},"8483"]
[{"$nulls":9},"8484"]
[{"$nulls":9},"8485"]
[{"$nulls":9},"8486"]
[{"$nulls":9},"8487"]
[{"$nulls":9},"8488"]
[{"$nulls":9},"8489"]
[{"$nulls":9},"8490"]
[{"$nulls":9},"8491"]
[{"$nulls":9},"8492"]
[{"$nulls":9},"8493"]
[{"$nulls":9},"8494"]
[{"$nulls":9},"8495"]
[{"$nulls":9},"8496"]
[{"$nulls":9},"8497"]
[{"$nulls":9},"8498"]
[{"$nulls":9},"8499"]
[{"$nulls":9},"8501"]
[{"$nulls":9},"8502"]
[{"$nulls":9},"8503"]
[{"$nulls":9},"8504"]
[{"$nulls":9},"8505"]
[{"$nulls":9},"8511"]
[{"$nulls":9},"8521"]
[{"$nulls":9},"8522"]
[{"$nulls":9},"8523"]
[{"$nulls":9},"8524"]
[{"$nulls":9},"8525"]
[{"$nulls":9},"8526"]
[{"$nulls":9},"8527"]
[{"$nulls":9},"8531"]
[{"$nulls":9},"8532"]
[{"$nulls":9},"8533"]
[{"$nulls":9},"8534"]
[{"$nulls":9},"8541"]
[{"$nulls":9},"8542"]
[{"$nulls":9},"8543"]
[{"$nulls":9},"8544"]
[{"$nulls":9},"8545"]
[{"$nulls":9},"8551"]
[{"$nulls":9},"8552"]
[{"$nulls":9},"8554"]
[{"$nulls":9},"8555"]
[{"$nulls":9},"8556"]
[{"$nulls":9},"8557"]
[{"$nulls":9},"8558"]
[{"$nulls":9},"8561"]
[{"$nulls":9},"8562"]
[{"$nulls":9},"8600"]
[{"$nulls":9},"8601"]
[{"$nulls":9},"8602"]
[{"$nulls":9},"8603"]
[{"$nulls":9},"8604"]
[{"$nulls":9},"8605"]
[{"$nulls":9},"8606"]
[{"$nulls":9},"8608"]
[{"$nulls":9},"8609"]
[{"$nulls":9},"8611"]
[{"$nulls":9},"8612"]
[{"$nulls":9},"8613"]
[{"$nulls":9},"8614"]
[{"$nulls":9},"8615"]
[{"$nulls":9},"8616"]
[{"$nulls":9},"8617"]
[{"$nulls":9},"8618"]
[{"$nulls":9},"8711"]
[{"$nulls":9},"8712"]
[{"$nulls":9},"8713"]
[{"$nulls":9},"8721"]
[{"$nulls":9},"8722"]
[{"$nulls":9},"8723"]
[{"$nulls":9},"8724"]
[{"$nulls":9},"8725"]
[{"$nulls":9},"8726"]
[{"$nulls":9},"8727"]
[{"$nulls":9},"8728"]
[{"$nulls":9},"8731"]
[{"$nulls":9},"8801"]
[{"$nulls":9},"8802"]
[{"$nulls":9},"8803"]
[{"$nulls":9},"8804"]
[{"$nulls":9},"8805"]
[{"$nulls":9},"8806"]
[{"$nulls":9},"8807"]
[{"$nulls":9},"8808"]
[{"$nulls":9},"8809"]
[{"$nulls":9},"8811"]
[{"$nulls":9},"8812"]
[{"$nulls":9},"8813"]
[{"$nulls":9},"8814"]
[{"$nulls":9},"8815"]
[{"$nulls":9},"8816"]
[{"$nulls":9},"8817"]
[{"$nulls":9},"8818"]
[{"$nulls":9},"8819"]
[{"$nulls":9},"8821"]
[{"$nulls":9},"8822"]
[{"$nulls":9},"8823"]
[{"$nulls":9},"8824"]
[{"$nulls":9},"8825"]
[{"$nulls":9},"8826"]
[{"$nulls":9},"8827"]
[{"$nulls":9},"8828"]
[{"$nulls":9},"8829"]
[{"$nulls":9},"8831"]
[{"$nulls":9},"8832"]
[{"$nulls":9},"8833"]
[{"$nulls":9},"8834"]
[{"$nulls":9},"8835"]
[{"$nulls":9},"8836"]
[{"$nulls":9},"8837"]
[{"$nulls":9},"8838"]
[{"$nulls":9},"8839"]
[{"$nulls":9},"8841"]
[{"$nulls":9},"8842"]
[{"$nulls":9},"8843"]
[{"$nulls":9},"8844"]
[{"$nulls":9},"8845"]
[{"$nulls":9},"8846"]
[{"$nulls":9},"8847"]
[{"$nulls":9},"8848"]
[{"$nulls":9},"8849"]
[{"$nulls":9},"8851"]
[{"$nulls":9},"8852"]
[{"$nulls":9},"8853"]
[{"$nulls":9},"8854"]
[{"$nulls":9},"8855"]
[{"$nulls":9},"8856"]
[{"$nulls":9},"8857"]
[{"$nulls":9},"8858"]
[{"$nulls":9},"8859"]
[{"$nulls":9},"8861"]
[{"$nulls":9},"8862"]
[{"$nulls":9},"8863"]
[{"$nulls":9},"8864"]
[{"$nulls":9},"8865"]
[{"$nulls":9},"8866"]
[{"$nulls":9},"8867"]
[{"$nulls":9},"8868"]
[{"$nulls":9},"8869"]
[{"$nulls":9},"8871"]
[{"$nulls":9},"8872"]
[{"$nulls":9},"8873"]
[{"$nulls":9},"8874"]
[{"$nulls":9},"8875"]
[{"$nulls":9},"8876"]
[{"$nulls":9},"8877"]
[{"$nulls":9},"8878"]
[{"$nulls":9},"8879"]
[{"$nulls":9},"8881"]
[{"$nulls":9},"8882"]
[{"$nulls":9},"8883"]
[{"$nulls":9},"8884"]
[{"$nulls":9},"8885"]
[{"$nulls":9},"8886"]
[{"$nulls":9},"8887"]
[{"$nulls":9},"8888"]
[{"$nulls":9},"8889"]
[{"$nulls":9},"8891"]
[{"$nulls":9},"8892"]
[{"$nulls":9},"8893"]
[{"$nulls":9},"8894"]
[{"$nulls":9},"8895"]
[{"$nulls":9},"8896"]
[{"$nulls":9},"8897"]
[{"$nulls":9},"8898"]
[{"$nulls":9},"8899"]
[{"$nulls":9},"9100"]
[{"$nulls":9},"9101"]
[{"$nulls":9},"9103"]
[{"$nulls":9},"9111"]
[{"$nulls":9},"9116"]
[{"$nulls":9},"9122"]
[{"$nulls":9},"9125"]
[{"$nulls":9},"9131"]
[{"$nulls":9},"9132"]
[{"$nulls":9},"9134"]
[{"$nulls":9},"9136"]
[{"$nulls":9},"9201"]
[{"$nulls":9},"9203"]
[{"$nulls":9},"9204"]
[{"$nulls":9},"9207"]
[{"$nulls":9},"9211"]
[{"$nulls":9},"9213"]
[{"$nulls":9},"9231"]
[{"$nulls":9},"9232"]
[{"$nulls":9},"9233"]
[{"$nulls":9},"9301"]
[{"$nulls":9},"9303"]
[{"$nulls":9},"9306"]
[{"$nulls":9},"9307"]
[{"$nulls":9},"9308"]
[{"$nulls":9},"9309"]
[{"$nulls":9},"9400"]
[{"$nulls":9},"9421"]
[{"$nulls":9},"9422"]
[{"$nulls":9},"9511"]
[{"$nulls":9},"9601"]

{"sheet":"->","index":2,"n_rows":0,"n_cols":0,"rows_kept":0}

{"sheet":"Articles of Incorporation定款","index":3,"n_rows":609,"n_cols":10,"rows_kept":609,"merged":[[0,0,0,1],[1,0,1,1],[2,0,2,1],[3,0,3,1],[4,0,4,1],[5,0,5,1],[6,0,6,1],[7,0,7,1],[8,0,8,1],[9,0,9,1],[10,0,10,1],[112,0,112,1],[113,0,113,1],[114,0,114,1],[115,0,115,1],[116,0,116,1],[117,0,117,1],[119,0,119,1],[121,0,121,1],[122,0,122,1],[123,0,123,1],[124,0,124,1],[126,0,126,1],[128,0,128,1],[130,0,130,1],[132,0,132,1],[134,0,134,1],[136,0,136,1],[138,0,138,1],[140,0,140,1],[142,0,142,1],[144,0,144,1],[146,0,146,1],[148,0,148,1],[150,0,150,1],[152,0,152,1],[154,0,154,1],[156,0,156,1],[158,0,158,1],[160,0,160,1],[162,0,162,1],[164,0,164,1],[166,0,166,1],[168,0,168,1],[170,0,170,1],[172,0,172,1],[174,0,174,1],[176,0,176,1],[178,0,178,1],[180,0,180,1],[182,0,182,1],[184,0,184,1],[186,0,186,1],[188,0,188,1],[190,0,190,1],[192,0,192,1],[194,0,194,1],[196,0,196,1],[198,0,198,1],[200,0,200,1],[202,0,202,1],[204,0,204,1],[206,0,206,1],[208,0,208,1],[210,0,210,1],[212,0,212,1],[214,0,214,1],[216,0,216,1],[218,0,218,1],[220,0,220,1],[222,0,222,1],[224,0,224,1],[226,0,226,1],[228,0,228,1],[230,0,230,1],[232,0,232,1],[234,0,234,1],[236,0,236,1],[238,0,238,1],[240,0,240,1],[242,0,242,1],[244,0,244,1],[246,0,246,1],[248,0,248,1],[250,0,250,1],[252,0,252,1],[254,0,254,1],[256,0,256,1],[258,0,258,1],[260,0,260,1],[262,0,262,1],[264,0,264,1],[266,0,266,1],[268,0,268,1],[270,0,270,1],[272,0,272,1],[274,0,274,1],[276,0,276,1],[278,0,278,1],[280,0,280,1],[282,0,282,1],[284,0,284,1],[286,0,286,1],[288,0,288,1],[290,0,290,1],[292,0,292,1],[294,0,294,1],[296,0,296,1],[298,0,298,1],[300,0,300,1],[300,2,300,3],[300,4,300,5],[300,6,300,7],[300,8,300,9],[300,10,300,11],[300,12,300,13],[300,14,300,15],[300,16,300,17],[300,18,300,19],[300,20,300,21],[300,22,300,23],[300,24,300,25],[300,26,300,27],[300,28,300,29],[300,30,300,31],[300,32,300,33],[300,34,300,35],[300,36,300,37],[300,38,300,39],[300,40,300,41],[300,42,300,43],[300,44,300,45],[300,46,300,47],[300,48,300,49],[300,50,300,51],[300,52,300,53],[300,54,300,55],[300,56,300,57],[300,58,300,59],[300,60,300,61],[300,62,300,63],[300,64,300,65],[300,66,300,67],[300,68,300,69],[300,70,300,71],[300,72,300,73],[300,74,300,75],[300,76,300,77],[300,78,300,79],[300,80,300,81],[300,82,300,83],[300,84,300,85],[300,86,300,87],[300,88,300,89],[300,90,300,91],[300,92,300,93],[300,94,300,95],[300,96,300,97],[300,98,300,99],[300,100,300,101],[300,102,300,103],[300,104,300,105],[300,106,300,107],[300,108,300,109],[300,110,300,111],[300,112,300,113],[300,114,300,115],[300,116,300,117],[300,118,300,119],[300,120,300,121],[300,122,300,123],[300,124,300,125],[300,126,300,127],[300,128,300,129],[300,130,300,131],[300,132,300,133],[300,134,300,135],[300,136,300,137],[300,138,300,139],[300,140,300,141],[300,142,300,143],[300,144,300,145],[300,146,300,147],[300,148,300,149],[300,150,300,151],[300,152,300,153],[300,154,300,155],[300,156,300,157],[300,158,300,159],[300,160,300,161],[300,162,300,163],[300,164,300,165],[300,166,300,167],[300,168,300,169],[300,170,300,171],[300,172,300,173],[300,174,300,175],[300,176,300,177],[300,178,300,179],[300,180,300,181],[300,182,300,183],[300,184,300,185],[300,186,300,187],[300,188,300,189],[300,190,300,191],[300,192,300,193],[300,194,300,195],[300,196,300,197],[300,198,300,199],[300,200,300,201],[300,202,300,203],[300,204,300,205],[300,206,300,207],[300,208,300,209],[300,210,300,211],[300,212,300,213],[300,214,300,215],[300,216,300,217],[300,218,300,219],[300,220,300,221],[300,222,300,223],[300,224,300,225],[300,226,300,227],[300,228,300,229],[300,230,300,231],[300,232,300,233],[300,234,300,235],[300,236,300,237],[300,238,300,239],[300,240,300,241],[300,242,300,243],[300,244,300,245],[300,246,300,247],[300,248,300,249],[300,250,300,251],[300,252,300,253],[300,254,300,255],[300,256,300,257],[300,258,300,259],[300,260,300,261],[300,262,300,263],[300,264,300,265],[300,266,300,267],[300,268,300,269],[300,270,300,271],[300,272,300,273],[300,274,300,275],[300,276,300,277],[300,278,300,279],[300,280,300,281],[300,282,300,283],[300,284,300,285],[300,286,300,287],[300,288,300,289],[300,290,300,291],[300,292,300,293],[300,294,300,295],[300,296,300,297],[300,298,300,299],[300,300,300,301],[300,302,300,303],[300,304,300,305],[300,306,300,307],[300,308,300,309],[300,310,300,311],[300,312,300,313],[300,314,300,315],[300,316,300,317],[300,318,300,319],[300,320,300,321],[300,322,300,323],[300,324,300,325],[300,326,300,327],[300,328,300,329],[300,330,300,331],[300,332,300,333],[300,334,300,335],[300,336,300,337],[300,338,300,339],[300,340,300,341],[300,342,300,343],[300,344,300,345],[300,346,300,347],[300,348,300,349],[300,350,300,351],[300,352,300,353],[300,354,300,355],[300,356,300,357],[300,358,300,359],[300,360,300,361],[300,362,300,363],[300,364,300,365],[300,366,300,367],[300,368,300,369],[300,370,300,371],[300,372,300,373],[300,374,300,375],[300,376,300,377],[300,378,300,379],[300,380,300,381],[300,382,300,383],[300,384,300,385],[300,386,300,387],[300,388,300,389],[300,390,300,391],[300,392,300,393],[300,394,300,395],[300,396,300,397],[300,398,300,399],[300,400,300,401],[300,402,300,403],[300,404,300,405],[300,406,300,407],[300,408,300,409],[300,410,300,411],[300,412,300,413],[300,414,300,415],[300,416,300,417],[300,418,300,419],[300,420,300,421],[300,422,300,423],[300,424,300,425],[300,426,300,427],[300,428,300,429],[300,430,300,431],[300,432,300,433],[300,434,300,435],[300,436,300,437],[300,438,300,439],[300,440,300,441],[300,442,300,443],[300,444,300,445],[300,446,300,447],[300,448,300,449],[300,450,300,451],[300,452,300,453],[300,454,300,455],[300,456,300,457],[300,458,300,459],[300,460,300,461],[300,462,300,463],[300,464,300,465],[300,466,300,467],[300,468,300,469],[300,470,300,471],[300,472,300,473],[300,474,300,475],[300,476,300,477],[300,478,300,479],[300,480,300,481],[300,482,300,483],[300,484,300,485],[300,486,300,487],[300,488,300,489],[300,490,300,491],[300,492,300,493],[300,494,300,495],[300,496,300,497],[300,498,300,499],[300,500,300,501],[300,502,300,503],[300,504,300,505],[300,506,300,507],[300,508,300,509],[300,510,300,511],[300,512,300,513],[300,514,300,515],[300,516,300,517],[300,518,300,519],[300,520,300,521],[300,522,300,523],[300,524,300,525],[300,526,300,527],[300,528,300,529],[300,530,300,531],[300,532,300,533],[300,534,300,535],[300,536,300,537],[300,538,300,539],[300,540,300,541],[300,542,300,543],[300,544,300,545],[300,546,300,547],[300,548,300,549],[300,550,300,551],[300,552,300,553],[300,554,300,555],[300,556,300,557],[300,558,300,559],[300,560,300,561],[300,562,300,563],[300,564,300,565],[300,566,300,567],[300,568,300,569],[300,570,300,571],[300,572,300,573],[300,574,300,575],[300,576,300,577],[300,578,300,579],[300,580,300,581],[300,582,300,583],[300,584,300,585],[300,586,300,587],[300,588,300,589],[300,590,300,591],[300,592,300,593],[300,594,300,595],[300,596,300,597],[300,598,300,599],[300,600,300,601],[300,602,300,603],[300,604,300,605],[300,606,300,607],[300,608,300,609],[300,610,300,611],[300,612,300,613],[300,614,300,615],[300,616,300,617],[300,618,300,619],[300,620,300,621],[300,622,300,623],[300,624,300,625],[300,626,300,627],[300,628,300,629],[300,630,300,631],[300,632,300,633],[300,634,300,635],[300,636,300,637],[300,638,300,639],[300,640,300,641],[300,642,300,643],[300,644,300,645],[300,646,300,647],[300,648,300,649],[300,650,300,651],[300,652,300,653],[300,654,300,655],[300,656,300,657],[300,658,300,659],[300,660,300,661],[300,662,300,663],[300,664,300,665],[300,666,300,667],[300,668,300,669],[300,670,300,671],[300,672,300,673],[300,674,300,675],[300,676,300,677],[300,678,300,679],[300,680,300,681],[300,682,300,683],[300,684,300,685],[300,686,300,687],[300,688,300,689],[300,690,300,691],[300,692,300,693],[300,694,300,695],[300,696,300,697],[300,698,300,699],[300,700,300,701],[300,702,300,703],[300,704,300,705],[300,706,300,707],[300,708,300,709],[300,710,300,711],[300,712,300,713],[300,714,300,715],[300,716,300,717],[300,718,300,719],[300,720,300,721],[300,722,300,723],[300,724,300,725],[300,726,300,727],[300,728,300,729],[300,730,300,731],[300,732,300,733],[300,734,300,735],[300,736,300,737],[300,738,300,739],[300,740,300,741],[300,742,300,743],[300,744,300,745],[300,746,300,747],[300,748,300,749],[300,750,300,751],[300,752,300,753],[300,754,300,755],[300,756,300,757],[300,758,300,759],[300,760,300,761],[300,762,300,763],[300,764,300,765],[300,766,300,767],[300,768,300,769],[300,770,300,771],[300,772,300,773],[300,774,300,775],[300,776,300,777],[300,778,300,779],[300,780,300,781],[300,782,300,783],[300,784,300,785],[300,786,300,787],[300,788,300,789],[300,790,300,791],[300,792,300,793],[300,794,300,795],[300,796,300,797],[300,798,300,799],[300,800,300,801],[300,802,300,803],[300,804,300,805],[300,806,300,807],[300,808,300,809],[300,810,300,811],[300,812,300,813],[300,814,300,815],[300,816,300,817],[300,818,300,819],[300,820,300,821],[300,822,300,823],[300,824,300,825],[300,826,300,827],[300,828,300,829],[300,830,300,831],[300,832,300,833],[300,834,300,835],[300,836,300,837],[300,838,300,839],[300,840,300,841],[300,842,300,843],[300,844,300,845],[300,846,300,847],[300,848,300,849],[300,850,300,851],[300,852,300,853],[300,854,300,855],[300,856,300,857],[300,858,300,859],[300,860,300,861],[300,862,300,863],[300,864,300,865],[300,866,300,867],[300,868,300,869],[300,870,300,871],[300,872,300,873],[300,874,300,875],[300,876,300,877],[300,878,300,879],[300,880,300,881],[300,882,300,883],[300,884,300,885],[300,886,300,887],[300,888,300,889],[300,890,300,891],[300,892,300,893],[300,894,300,895],[300,896,300,897],[300,898,300,899],[300,900,300,901],[300,902,300,903],[300,904,300,905],[300,906,300,907],[300,908,300,909],[300,910,300,911],[300,912,300,913],[300,914,300,915],[300,916,300,917],[300,918,300,919],[300,920,300,921],[300,922,300,923],[300,924,300,925],[300,926,300,927],[300,928,300,929],[300,930,300,931],[300,932,300,933],[300,934,300,935],[300,936,300,937],[300,938,300,939],[300,940,300,941],[300,942,300,943],[300,944,300,945],[300,946,300,947],[300,948,300,949],[300,950,300,951],[300,952,300,953],[300,954,300,955],[300,956,300,957],[300,958,300,959],[300,960,300,961],[300,962,300,963],[300,964,300,965],[300,966,300,967],[300,968,300,969],[300,970,300,971],[300,972,300,973],[300,974,300,975],[300,976,300,977],[300,978,300,979],[300,980,300,981],[300,982,300,983],[300,984,300,985],[300,986,300,987],[300,988,300,989],[300,990,300,991],[300,992,300,993],[300,994,300,995],[300,996,300,997],[300,998,300,999],[300,1000,300,1001],[300,1002,300,1003],[300,1004,300,1005],[300,1006,300,1007],[300,1008,300,1009],[300,1010,300,1011],[300,1012,300,1013],[300,1014,300,1015],[300,1016,300,1017],[300,1018,300,1019],[300,1020,300,1021],[300,1022,300,1023],[300,1024,300,1025],[300,1026,300,1027],[300,1028,300,1029],[300,1030,300,1031],[300,1032,300,1033],[300,1034,300,1035],[300,1036,300,1037],[300,1038,300,1039],[300,1040,300,1041],[300,1042,300,1043],[300,1044,300,1045],[300,1046,300,1047],[300,1048,300,1049],[300,1050,300,1051],[300,1052,300,1053],[300,1054,300,1055],[300,1056,300,1057],[300,1058,300,1059],[300,1060,300,1061],[300,1062,300,1063],[300,1064,300,1065],[300,1066,300,1067],[300,1068,300,1069],[300,1070,300,1071],[300,1072,300,1073],[300,1074,300,1075],[300,1076,300,1077],[300,1078,300,1079],[300,1080,300,1081],[300,1082,300,1083],[300,1084,300,1085],[300,1086,300,1087],[300,1088,300,1089],[300,1090,300,1091],[300,1092,300,1093],[300,1094,300,1095],[300,1096,300,1097],[300,1098,300,1099],[300,1100,300,1101],[300,1102,300,1103],[300,1104,300,1105],[300,1106,300,1107],[300,1108,300,1109],[300,1110,300,1111],[300,1112,300,1113],[300,1114,300,1115],[300,1116,300,1117],[300,1118,300,1119],[300,1120,300,1121],[300,1122,300,1123],[300,1124,300,1125],[300,1126,300,1127],[300,1128,300,1129],[300,1130,300,1131],[300,1132,300,1133],[300,1134,300,1135],[300,1136,300,1137],[300,1138,300,1139],[300,1140,300,1141],[300,1142,300,1143],[300,1144,300,1145],[300,1146,300,1147],[300,1148,300,1149],[300,1150,300,1151],[300,1152,300,1153],[300,1154,300,1155],[300,1156,300,1157],[300,1158,300,1159],[300,1160,300,1161],[300,1162,300,1163],[300,1164,300,1165],[300,1166,300,1167],[300,1168,300,1169],[300,1170,300,1171],[300,1172,300,1173],[300,1174,300,1175],[300,1176,300,1177],[300,1178,300,1179],[300,1180,300,1181],[300,1182,300,1183],[300,1184,300,1185],[300,1186,300,1187],[300,1188,300,1189],[300,1190,300,1191],[300,1192,300,1193],[300,1194,300,1195],[300,1196,300,1197],[300,1198,300,1199],[300,1200,300,1201],[300,1202,300,1203],[300,1204,300,1205],[300,1206,300,1207],[300,1208,300,1209],[300,1210,300,1211],[300,1212,300,1213],[300,1214,300,1215],[300,1216,300,1217],[300,1218,300,1219],[300,1220,300,1221],[300,1222,300,1223],[300,1224,300,1225],[300,1226,300,1227],[300,1228,300,1229],[300,1230,300,1231],[300,1232,300,1233],[300,1234,300,1235],[300,1236,300,1237],[300,1238,300,1239],[300,1240,300,1241],[300,1242,300,1243],[300,1244,300,1245],[300,1246,300,1247],[300,1248,300,1249],[300,1250,300,1251],[300,1252,300,1253],[300,1254,300,1255],[300,1256,300,1257],[300,1258,300,1259],[300,1260,300,1261],[300,1262,300,1263],[300,1264,300,1265],[300,1266,300,1267],[300,1268,300,1269],[300,1270,300,1271],[300,1272,300,1273],[300,1274,300,1275],[300,1276,300,1277],[300,1278,300,1279],[300,1280,300,1281],[300,1282,300,1283],[300,1284,300,1285],[300,1286,300,1287],[300,1288,300,1289],[300,1290,300,1291],[300,1292,300,1293],[300,1294,300,1295],[300,1296,300,1297],[300,1298,300,1299],[300,1300,300,1301],[300,1302,300,1303],[300,1304,300,1305],[300,1306,300,1307],[300,1308,300,1309],[300,1310,300,1311],[300,1312,300,1313],[300,1314,300,1315],[300,1316,300,1317],[300,1318,300,1319],[300,1320,300,1321],[300,1322,300,1323],[300,1324,300,1325],[300,1326,300,1327],[300,1328,300,1329],[300,1330,300,1331],[300,1332,300,1333],[300,1334,300,1335],[300,1336,300,1337],[300,1338,300,1339],[300,1340,300,1341],[300,1342,300,1343],[300,1344,300,1345],[300,1346,300,1347],[300,1348,300,1349],[300,1350,300,1351],[300,1352,300,1353],[300,1354,300,1355],[300,1356,300,1357],[300,1358,300,1359],[300,1360,300,1361],[300,1362,300,1363],[300,1364,300,1365],[300,1366,300,1367],[300,1368,300,1369],[300,1370,300,1371],[300,1372,300,1373],[300,1374,300,1375],[300,1376,300,1377],[300,1378,300,1379],[300,1380,300,1381],[300,1382,300,1383],[300,1384,300,1385],[300,1386,300,1387],[300,1388,300,1389],[300,1390,300,1391],[300,1392,300,1393],[300,1394,300,1395],[300,1396,300,1397],[300,1398,300,1399],[300,1400,300,1401],[300,1402,300,1403],[300,1404,300,1405],[300,1406,300,1407],[300,1408,300,1409],[300,1410,300,1411],[300,1412,300,1413],[300,1414,300,1415],[300,1416,300,1417],[300,1418,300,1419],[300,1420,300,1421],[300,1422,300,1423],[300,1424,300,1425],[300,1426,300,1427],[300,1428,300,1429],[300,1430,300,1431],[300,1432,300,1433],[300,1434,300,1435],[300,1436,300,1437],[300,1438,300,1439],[300,1440,300,1441],[300,1442,300,1443],[300,1444,300,1445],[300,1446,300,1447],[300,1448,300,1449],[300,1450,300,1451],[300,1452,300,1453],[300,1454,300,1455],[300,1456,300,1457],[300,1458,300,1459],[300,1460,300,1461],[300,1462,300,1463],[300,1464,300,1465],[300,1466,300,1467],[300,1468,300,1469],[300,1470,300,1471],[300,1472,300,1473],[300,1474,300,1475],[300,1476,300,1477],[300,1478,300,1479],[300,1480,300,1481],[300,1482,300,1483],[300,1484,300,1485],[300,1486,300,1487],[300,1488,300,1489],[300,1490,300,1491],[300,1492,300,1493],[300,1494,300,1495],[300,1496,300,1497],[300,1498,300,1499],[300,1500,300,1501],[300,1502,300,1503],[300,1504,300,1505],[300,1506,300,1507],[300,1508,300,1509],[300,1510,300,1511],[300,1512,300,1513],[300,1514,300,1515],[300,1516,300,1517],[300,1518,300,1519],[300,1520,300,1521],[300,1522,300,1523],[300,1524,300,1525],[300,1526,300,1527],[300,1528,300,1529],[300,1530,300,1531],[300,1532,300,1533],[300,1534,300,1535],[300,1536,300,1537],[300,1538,300,1539],[300,1540,300,1541],[300,1542,300,1543],[300,1544,300,1545],[300,1546,300,1547],[300,1548,300,1549],[300,1550,300,1551],[300,1552,300,1553],[300,1554,300,1555],[300,1556,300,1557],[300,1558,300,1559],[300,1560,300,1561],[300,1562,300,1563],[300,1564,300,1565],[300,1566,300,1567],[300,1568,300,1569],[300,1570,300,1571],[300,1572,300,1573],[300,1574,300,1575],[300,1576,300,1577],[300,1578,300,1579],[300,1580,300,1581],[300,1582,300,1583],[300,1584,300,1585],[300,1586,300,1587],[300,1588,300,1589],[300,1590,300,1591],[300,1592,300,1593],[300,1594,300,1595],[300,1596,300,1597],[300,1598,300,1599],[300,1600,300,1601],[300,1602,300,1603],[300,1604,300,1605],[300,1606,300,1607],[300,1608,300,1609],[300,1610,300,1611],[300,1612,300,1613],[300,1614,300,1615],[300,1616,300,1617],[300,1618,300,1619],[300,1620,300,1621],[300,1622,300,1623],[300,1624,300,1625],[300,1626,300,1627],[300,1628,300,1629],[300,1630,300,1631],[300,1632,300,1633],[300,1634,300,1635],[300,1636,300,1637],[300,1638,300,1639],[300,1640,300,1641],[300,1642,300,1643],[300,1644,300,1645],[300,1646,300,1647],[300,1648,300,1649],[300,1650,300,1651],[300,1652,300,1653],[300,1654,300,1655],[300,1656,300,1657],[300,1658,300,1659],[300,1660,300,1661],[300,1662,300,1663],[300,1664,300,1665],[300,1666,300,1667],[300,1668,300,1669],[300,1670,300,1671],[300,1672,300,1673],[300,1674,300,1675],[300,1676,300,1677],[300,1678,300,1679],[300,1680,300,1681],[300,1682,300,1683],[300,1684,300,1685],[300,1686,300,1687],[300,1688,300,1689],[300,1690,300,1691],[300,1692,300,1693],[300,1694,300,1695],[300,1696,300,1697],[300,1698,300,1699],[300,1700,300,1701],[300,1702,300,1703],[300,1712,300,1713],[300,1714,300,1715],[300,1716,300,1717],[300,1718,300,1719],[300,1720,300,1721],[300,1722,300,1723],[300,1724,300,1725],[300,1726,300,1727],[300,1728,300,1729],[302,0,302,1],[306,0,306,1],[310,0,310,1],[314,0,314,1],[318,0,318,1],[326,0,326,1],[327,0,327,1],[328,0,328,1],[329,0,329,1],[330,0,330,1],[331,0,331,1],[332,0,332,1],[333,0,333,1],[334,0,334,1],[335,0,335,1],[336,0,336,1],[337,0,337,1],[438,0,438,1],[439,0,439,1],[441,0,441,1],[442,0,442,1],[443,0,443,1],[445,0,445,1],[446,0,446,1],[447,0,447,1],[449,0,449,1],[450,0,450,1],[451,0,451,1],[454,0,454,1],[455,0,455,1]],"merged_total":4206,"flags":["merged_cut"]}
[{"$f":"\"Articles of Incorporation of \" &入力情報!E6&\" Limited Liability Company\"","v":"Articles of Incorporation of SampleName Limited Liability Company"}]
[{"$f":"入力情報!E6&\"合同会社定款\"","v":"SampleName合同会社定款"}]
[]
["Chapter 1. General Provisions 第１章 総 則 "]
["(Trade Name) （商号） "]
[{"$f":"\" Article 1 The name of the Company shall be \"&入力情報!E6&\" Limited Liability Company.\"","v":" Article 1 The name of the Company shall be SampleName Limited Liability Company."}]
[{"$f":"\"第１条 当会社は、\"&入力情報!E6&\"合同会社と称する。\"","v":"第１条 当会社は、SampleName合同会社と称する。"}]
[]
["(Purpose) （目的）"]
["Article 2 The purpose of the Company shall be the following businesses:"]
["第２条 当会社は、次の事業を営むことを目的とする。"]
["1.",{"$f":"IF(入力情報!F645=\"\",\"\",入力情報!F645)","v":"Business concerning finance"}]
["1.",{"$f":"IF(入力情報!F646=\"\",\"\",入力情報!F646)","v":"金融に関する事業"}]
["2.",{"$f":"IF(入力情報!F647=\"\",\"\",入力情報!F647)","v":"Sales of daily necessities, sports equipment, etc."},{"$nulls":4}," "]
["2.",{"$f":"IF(入力情報!F648=\"\",\"\",入力情報!F648)","v":"日用雑貨、スポーツ用品等の販売"}]
["3.",{"$f":"IF(入力情報!F649=\"\",\"\",入力情報!F649)","v":"Manufacture of various kinds of food products"}]
["3.",{"$f":"IF(入力情報!F650=\"\",\"\",入力情報!F650)","v":"各種食品の製造"}]
["4.",{"$f":"IF(入力情報!F651=\"\",\"\",入力情報!F651)","v":"Cargo transportation by automobiles"}]
["4.",{"$f":"IF(入力情報!F652=\"\",\"\",入力情報!F652)","v":"貨物自動車運送事業"}]
["5.",{"$f":"IF(入力情報!F653=\"\",\"\",入力情報!F653)","v":"Provision of various services relating to the medical field"}]
["5.",{"$f":"IF(入力情報!F654=\"\",\"\",入力情報!F654)","v":"医療に関連する各種サービスの提供"}]
["6.",{"$f":"IF(入力情報!F655=\"\",\"\",入力情報!F655)","v":"Investment consulting services"}]
["6.",{"$f":"IF(入力情報!F656=\"\",\"\",入力情報!F656)","v":"投資コンサルティング業務"}]
["7.",{"$f":"IF(入力情報!F657=\"\",\"\",入力情報!F657)","v":"Business related to ocean resources development"}]
["7.",{"$f":"IF(入力情報!F658=\"\",\"\",入力情報!F658)","v":"海洋資源開発に関する事業"}]
["8.",{"$f":"IF(入力情報!F659=\"\",\"\",入力情報!F659)","v":"All businesses incidental to the preceding items."}]
["8.",{"$f":"IF(入力情報!F660=\"\",\"\",入力情報!F660)","v":"前各号に付帯する一切の事業"}]
["9.",{"$f":"IF(入力情報!F661=\"\",\"\",入力情報!F661)","v":""}]
["9.",{"$f":"IF(入力情報!F662=\"\",\"\",入力情報!F662)","v":""}]
["10.",{"$f":"IF(入力情報!F663=\"\",\"\",入力情報!F663)","v":""}]
["10.",{"$f":"IF(入力情報!F664=\"\",\"\",入力情報!F664)","v":""}]
["11.",{"$f":"IF(入力情報!F665=\"\",\"\",入力情報!F665)","v":""}]
["11.",{"$f":"IF(入力情報!F666=\"\",\"\",入力情報!F666)","v":""}]
["12.",{"$f":"IF(入力情報!F667=\"\",\"\",入力情報!F667)","v":""}]
["12.",{"$f":"IF(入力情報!F668=\"\",\"\",入力情報!F668)","v":""}]
["13.",{"$f":"IF(入力情報!F669=\"\",\"\",入力情報!F669)","v":""}]
["13.",{"$f":"IF(入力情報!F670=\"\",\"\",入力情報!F670)","v":""}]
["14.",{"$f":"IF(入力情報!F671=\"\",\"\",入力情報!F671)","v":""}]
["14.",{"$f":"IF(入力情報!F672=\"\",\"\",入力情報!F672)","v":""}]
["15.",{"$f":"IF(入力情報!F673=\"\",\"\",入力情報!F673)","v":""}]
["15.",{"$f":"IF(入力情報!F674=\"\",\"\",入力情報!F674)","v":""}]
["16.",{"$f":"IF(入力情報!F675=\"\",\"\",入力情報!F675)","v":""}]
["16.",{"$f":"IF(入力情報!F676=\"\",\"\",入力情報!F676)","v":""}]
["17.",{"$f":"IF(入力情報!F677=\"\",\"\",入力情報!F677)","v":""}]
["17.",{"$f":"IF(入力情報!F678=\"\",\"\",入力情報!F678)","v":""}]
["18.",{"$f":"IF(入力情報!F679=\"\",\"\",入力情報!F679)","v":""}]
["18.",{"$f":"IF(入力情報!F680=\"\",\"\",入力情報!F680)","v":""}]
["19.",{"$f":"IF(入力情報!F681=\"\",\"\",入力情報!F681)","v":""}]
["19.",{"$f":"IF(入力情報!F682=\"\",\"\",入力情報!F682)","v":""}]
["20.",{"$f":"IF(入力情報!F683=\"\",\"\",入力情報!F683)","v":""}]
["20.",{"$f":"IF(入力情報!F684=\"\",\"\",入力情報!F684)","v":""}]
["21.",{"$f":"IF(入力情報!F685=\"\",\"\",入力情報!F685)","v":""}]
["21.",{"$f":"IF(入力情報!F686=\"\",\"\",入力情報!F686)","v":""}]
["22.",{"$f":"IF(入力情報!F687=\"\",\"\",入力情報!F687)","v":""}]
["22.",{"$f":"IF(入力情報!F688=\"\",\"\",入力情報!F688)","v":""}]
["23.",{"$f":"IF(入力情報!F689=\"\",\"\",入力情報!F689)","v":""}]
["23.",{"$f":"IF(入力情報!F690=\"\",\"\",入力情報!F690)","v":""}]
["24.",{"$f":"IF(入力情報!F691=\"\",\"\",入力情報!F691)","v":""}]
["24.",{"$f":"IF(入力情報!F692=\"\",\"\",入力情報!F692)","v":""}]
["25.",{"$f":"IF(入力情報!F693=\"\",\"\",入力情報!F693)","v":""}]
["25.",{"$f":"IF(入力情報!F694=\"\",\"\",入力情報!F694)","v":""}]
["26.",{"$f":"IF(入力情報!F695=\"\",\"\",入力情報!F695)","v":""}]
["26.",{"$f":"IF(入力情報!F696=\"\",\"\",入力情報!F696)","v":""}]
["27.",{"$f":"IF(入力情報!F697=\"\",\"\",入力情報!F697)","v":""}]
["27.",{"$f":"IF(入力情報!F698=\"\",\"\",入力情報!F698)","v":""}]
["28.",{"$f":"IF(入力情報!F699=\"\",\"\",入力情報!F699)","v":""}]
["28.",{"$f":"IF(入力情報!F700=\"\",\"\",入力情報!F700)","v":""}]
["29.",{"$f":"IF(入力情報!F701=\"\",\"\",入力情報!F701)","v":""}]
["29.",{"$f":"IF(入力情報!F702=\"\",\"\",入力情報!F702)","v":""}]
["30.",{"$f":"IF(入力情報!F703=\"\",\"\",入力情報!F703)","v":""}]
["30.",{"$f":"IF(入力情報!F704=\"\",\"\",入力情報!F704)","v":""}]
["31.",{"$f":"IF(入力情報!F705=\"\",\"\",入力情報!F705)","v":""}]
["31.",{"$f":"IF(入力情報!F706=\"\",\"\",入力情報!F706)","v":""}]
["32.",{"$f":"IF(入力情報!F707=\"\",\"\",入力情報!F707)","v":""}]
["32.",{"$f":"IF(入力情報!F708=\"\",\"\",入力情報!F708)","v":""}]
["33.",{"$f":"IF(入力情報!F709=\"\",\"\",入力情報!F709)","v":""}]
["33.",{"$f":"IF(入力情報!F710=\"\",\"\",入力情報!F710)","v":""}]
["34.",{"$f":"IF(入力情報!F711=\"\",\"\",入力情報!F711)","v":""}]
["34.",{"$f":"IF(入力情報!F712=\"\",\"\",入力情報!F712)","v":""}]
["35.",{"$f":"IF(入力情報!F713=\"\",\"\",入力情報!F713)","v":""}]
["35.",{"$f":"IF(入力情報!F714=\"\",\"\",入力情報!F714)","v":""}]
["36.",{"$f":"IF(入力情報!F715=\"\",\"\",入力情報!F715)","v":""}]
["36.",{"$f":"IF(入力情報!F716=\"\",\"\",入力情報!F716)","v":""}]
["37.",{"$f":"IF(入力情報!F717=\"\",\"\",入力情報!F717)","v":""}]
["37.",{"$f":"IF(入力情報!F718=\"\",\"\",入力情報!F718)","v":""}]
["38.",{"$f":"IF(入力情報!F719=\"\",\"\",入力情報!F719)","v":""}]
["38.",{"$f":"IF(入力情報!F720=\"\",\"\",入力情報!F720)","v":""}]
["39.",{"$f":"IF(入力情報!F721=\"\",\"\",入力情報!F721)","v":""}]
["39.",{"$f":"IF(入力情報!F722=\"\",\"\",入力情報!F722)","v":""}]
["40.",{"$f":"IF(入力情報!F723=\"\",\"\",入力情報!F723)","v":""}]
["40.",{"$f":"IF(入力情報!F724=\"\",\"\",入力情報!F724)","v":""}]
["41.",{"$f":"IF(入力情報!F725=\"\",\"\",入力情報!F725)","v":""}]
["41.",{"$f":"IF(入力情報!F726=\"\",\"\",入力情報!F726)","v":""}]
["42.",{"$f":"IF(入力情報!F727=\"\",\"\",入力情報!F727)","v":""}]
["42.",{"$f":"IF(入力情報!F728=\"\",\"\",入力情報!F728)","v":""}]
["43.",{"$f":"IF(入力情報!F729=\"\",\"\",入力情報!F729)","v":""}]
["43.",{"$f":"IF(入力情報!F730=\"\",\"\",入力情報!F730)","v":""}]
["44.",{"$f":"IF(入力情報!F731=\"\",\"\",入力情報!F731)","v":""}]
["44.",{"$f":"IF(入力情報!F732=\"\",\"\",入力情報!F732)","v":""}]
["45.",{"$f":"IF(入力情報!F733=\"\",\"\",入力情報!F733)","v":""}]
["45.",{"$f":"IF(入力情報!F734=\"\",\"\",入力情報!F734)","v":""}]
["46.",{"$f":"IF(入力情報!F735=\"\",\"\",入力情報!F735)","v":""}]
["46.",{"$f":"IF(入力情報!F736=\"\",\"\",入力情報!F736)","v":""}]
["47.",{"$f":"IF(入力情報!F737=\"\",\"\",入力情報!F737)","v":""}]
["47.",{"$f":"IF(入力情報!F738=\"\",\"\",入力情報!F738)","v":""}]
["48.",{"$f":"IF(入力情報!F739=\"\",\"\",入力情報!F739)","v":""}]
["48.",{"$f":"IF(入力情報!F740=\"\",\"\",入力情報!F740)","v":""}]
["49.",{"$f":"IF(入力情報!F741=\"\",\"\",入力情報!F741)","v":""}]
["49.",{"$f":"IF(入力情報!F742=\"\",\"\",入力情報!F742)","v":""}]
["50.",{"$f":"IF(入力情報!F743=\"\",\"\",入力情報!F743)","v":""}]
["50.",{"$f":"IF(入力情報!F744=\"\",\"\",入力情報!F744)","v":""}]
[]
["(Location of Head Office) （本店の所在地）"]
[{"$f":"\"Article 3 The Company shall have its head office in \"&入力情報!E632&\" \"&入力情報!E634&\" \"&入力情報!E635","v":"Article 3 The Company shall have its head office in Tokyoto Otaku Chuo 22-33-44 Shinsekai Building Room 101"},{"$nulls":8},{"$f":"A114","v":"Article 3 The Company shall have its head office in Tokyoto Otaku Chuo 22-33-44 Shinsekai Building Room 101"}]
[{"$f":"\"第３条 当会社は、本店を\"&IF(入力情報!E633=\"\",\"                                               \",入力情報!E633)&DBCS(入力情報!E634)&入力情報!E636&\"に置く。 \"","v":"第３条 当会社は、本店を東京都 大田区 中央２２－３３－４４新世界ビル101号室に置く。 "}]
[]
["(Method of Public Notice) （公告の方法）"]
[{"$f":"\"Article 4 Public notices of the Company shall be \"&入力情報!E637&\".\"","v":"Article 4 Public notices of the Company shall be electronic public notice."}]
["If it is unable to give public notices by way of electronic public notice due to an accident or other unavoidable circumstances, the public notices shall be publication on the Official Gazette."]
[{"$f":"\"第４条 当会社の公告は、\" & 入力情報!E638 & IF(入力情報!E638=\"電子公告\", \"の方法により行う。\", \"に掲載してする。\")","v":"第４条 当会社の公告は、電子公告の方法により行う。"}]
["事故その他やむを得ない事由によって電子公告による公告をすることができない場合は、官報に掲載する方法により行う。"]
[]
["(Name, Address, Contribution and Liability of Members)（社員の氏名、住所、出資及び責任）"]
["Article 5 The names, addresses, the value of contribution and liabilities of the members shall be as follows;"]
["第５条　社員の氏名及び住所、出資の価額並びに責任は次のとおりである。"]
[{"$f":"\"1.\"","v":"1."},{"$f":"IF(入力情報!E31=\"\",DBCS(TEXT(入力情報!E30,\"0,000\"))&\"yen　\"&入力情報!E37,DBCS(TEXT(入力情報!E30,\"0,000\"))&\"yen　\"&入力情報!E32&DBCS(入力情報!E34)&\" \"&入力情報!E35)","v":"１，０００，０００yen　Tokyoto Otaku Chuo１－１－１１ Shinsekai Building Room 99"}]
[{"$f":"IF(入力情報!E28<>\"\",\"Member with Limited Liability Partner:　\"&入力情報!E28,\"\")","v":"Member with Limited Liability Partner:　Mary Smith"},{"$nulls":8},{"$f":"A127","v":"Member with Limited Liability Partner:　Mary Smith"}]
[{"$f":"\"1.\"","v":"1."},{"$f":"IF(入力情報!E31=\"\",\"金\"&DBCS(TEXT(入力情報!E30,\"0,000\"))&\"円　\"&入力情報!E38,\"金\"&DBCS(TEXT(入力情報!E30,\"0,000\"))&\"円　\"&入力情報!E33&DBCS(入力情報!E34)&\" \"&入力情報!E36)","v":"金１，０００，０００円　東京都 大田区 中央１－１－１１ 新世界ビル99号室"}]
[{"$f":"IF(入力情報!E29<>\"\",\"　　　　　　有限責任社員　\"&入力情報!E29,\"\")","v":"　　　　　　有限責任社員　メアリー　スミス "}]
[{"$f":"\"2.\"","v":"2."},{"$f":"IF(入力情報!E43=\"\",DBCS(TEXT(入力情報!E42,\"0,000\"))&\"yen　\"&入力情報!E49,DBCS(TEXT(入力情報!E42,\"0,000\"))&\"yen　\"&入力情報!E44&DBCS(入力情報!E46)&\" \"&入力情報!E47)","v":"１，０００，０００yen　3 Sunset St, San Francisco, CA USA"},{"$nulls":7},{"$f":"#REF!","v":{"$error":"#REF!"}}]
[{"$f":"IF(入力情報!E40<>\"\",\"Member with Limited Liability Partner:　\"&入力情報!E40,\"\")","v":"Member with Limited Liability Partner:　Michael Smith"},{"$nulls":8},{"$f":"A131","v":"Member with Limited Liability Partner:　Michael Smith"}]
[{"$f":"\"2.\"","v":"2."},{"$f":"IF(入力情報!E43=\"\",\"金\"&DBCS(TEXT(入力情報!E42,\"0,000\"))&\"円　\"&入力情報!E50,\"金\"&DBCS(TEXT(入力情報!E42,\"0,000\"))&\"円　\"&入力情報!E45&DBCS(入力情報!E46)&\" \"&入力情報!E48)","v":"金１，０００，０００円　アメリカ合衆国カリフォルニア州サンフランシスコ市サンセット通３番地"}]
[{"$f":"IF(入力情報!E41<>\"\",\"　　　　　　有限責任社員　\"&入力情報!E41,\"\")","v":"　　　　　　有限責任社員　マイケル　スミス"}]
[{"$f":"\"3.\"","v":"3."},{"$f":"IF(入力情報!E55=\"\",DBCS(TEXT(入力情報!E54,\"0,000\"))&\"yen　\"&入力情報!E61,DBCS(TEXT(入力情報!E54,\"0,000\"))&\"yen　\"&入力情報!E56&DBCS(入力情報!E58)&\" \"&入力情報!E59)","v":"１，０００，０００yen　Fukuokaken Nakamashi Habu１０－４０－８０ Shinsekai Building Room 103"},{"$nulls":7},{"$f":"#REF!","v":{"$error":"#REF!"}}]
[{"$f":"IF(入力情報!E52<>\"\",\"Member with Limited Liability Partner:　\"&入力情報!E52,\"\")","v":"Member with Limited Liability Partner:　Hanako Suzuki"},{"$nulls":8},{"$f":"A135","v":"Member with Limited Liability Partner:　Hanako Suzuki"}]
[{"$f":"\"3.\"","v":"3."},{"$f":"IF(入力情報!E55=\"\",\"金\"&DBCS(TEXT(入力情報!E54,\"0,000\"))&\"円　\"&入力情報!E62,\"金\"&DBCS(TEXT(入力情報!E54,\"0,000\"))&\"円　\"&入力情報!E57&DBCS(入力情報!E58)&\" \"&入力情報!E60)","v":"金１，０００，０００円　福岡県 中間市 垣生１０－４０－８０ 新世界ビル 103号室"}]
[{"$f":"IF(入力情報!E53<>\"\",\"　　　　　　有限責任社員　\"&入力情報!E53,\"\")","v":"　　　　　　有限責任社員　鈴木 花子"}]
[{"$f":"\"4.\"","v":"4."},{"$f":"IF(入力情報!E67=\"\",DBCS(TEXT(入力情報!E66,\"0,000\"))&\"yen　\"&入力情報!E73,DBCS(TEXT(入力情報!E66,\"0,000\"))&\"yen　\"&入力情報!E68&DBCS(入力情報!E70)&\" \"&入力情報!E71)","v":"０，０００yen　"},{"$nulls":7},{"$f":"#REF!","v":{"$error":"#REF!"}}]
[{"$f":"IF(入力情報!E64<>\"\",\"Member with Limited Liability Partner:　\"&入力情報!E64,\"\")","v":""},{"$nulls":8},{"$f":"A139","v":""}]
[{"$f":"\"4.\"","v":"4."},{"$f":"IF(入力情報!E67=\"\",\"金\"&DBCS(TEXT(入力情報!E66,\"0,000\"))&\"円　\"&入力情報!E74,\"金\"&DBCS(TEXT(入力情報!E66,\"0,000\"))&\"円　\"&入力情報!E69&DBCS(入力情報!E70)&\" \"&入力情報!E72)","v":"金０，０００円　"}]
[{"$f":"IF(入力情報!E65<>\"\",\"　　　　　　有限責任社員　\"&入力情報!E65,\"\")","v":""}]
[{"$f":"\"5.\"","v":"5."},{"$f":"IF(入力情報!E79=\"\",DBCS(TEXT(入力情報!E78,\"0,000\"))&\"yen　\"&入力情報!E85,DBCS(TEXT(入力情報!E78,\"0,000\"))&\"yen　\"&入力情報!E80&DBCS(入力情報!E82)&\" \"&入力情報!E83)","v":"０，０００yen　"},{"$nulls":7},{"$f":"#REF!","v":{"$error":"#REF!"}}]
[{"$f":"IF(入力情報!E76<>\"\",\"Member with Limited Liability Partner:　\"&入力情報!E76,\"\")","v":""},{"$nulls":8},{"$f":"A143","v":""}]
[{"$f":"\"5.\"","v":"5."},{"$f":"IF(入力情報!E79=\"\",\"金\"&DBCS(TEXT(入力情報!E78,\"0,000\"))&\"円　\"&入力情報!E86,\"金\"&DBCS(TEXT(入力情報!E78,\"0,000\"))&\"円　\"&入力情報!E81&DBCS(入力情報!E82)&\" \"&入力情報!E84)","v":"金０，０００円　"}]
[{"$f":"IF(入力情報!E77<>\"\",\"　　　　　　有限責任社員　\"&入力情報!E77,\"\")","v":""}]
[{"$f":"\"6.\"","v":"6."},{"$f":"IF(入力情報!E91=\"\",DBCS(TEXT(入力情報!E90,\"0,000\"))&\"yen　\"&入力情報!E97,DBCS(TEXT(入力情報!E90,\"0,000\"))&\"yen　\"&入力情報!E92&DBCS(入力情報!E94)&\" \"&入力情報!E95)","v":"０，０００yen　"},{"$nulls":7},{"$f":"#REF!","v":{"$error":"#REF!"}}]
[{"$f":"IF(入力情報!E88<>\"\",\"Member with Limited Liability Partner:　\"&入力情報!E88,\"\")","v":""},{"$nulls":8},{"$f":"A147","v":""}]
[{"$f":"\"6.\"","v":"6."},{"$f":"IF(入力情報!E91=\"\",\"金\"&DBCS(TEXT(入力情報!E90,\"0,000\"))&\"円　\"&入力情報!E98,\"金\"&DBCS(TEXT(入力情報!E90,\"0,000\"))&\"円　\"&入力情報!E93&DBCS(入力情報!E94)&\" \"&入力情報!E96)","v":"金０，０００円　"}]
[{"$f":"IF(入力情報!E89<>\"\",\"　　　　　　有限責任社員　\"&入力情報!E89,\"\")","v":""}]
[{"$f":"\"7.\"","v":"7."},{"$f":"IF(入力情報!E103=\"\",DBCS(TEXT(入力情報!E102,\"0,000\"))&\"yen　\"&入力情報!E109,DBCS(TEXT(入力情報!E102,\"0,000\"))&\"yen　\"&入力情報!E104&DBCS(入力情報!E106)&\" \"&入力情報!E107)","v":"０，０００yen　"},{"$nulls":7},{"$f":"#REF!","v":{"$error":"#REF!"}}]
[{"$f":"IF(入力情報!E100<>\"\",\"Member with Limited Liability Partner:　\"&入力情報!E100,\"\")","v":""}]
[{"$f":"\"7.\"","v":"7."},{"$f":"IF(入力情報!E103=\"\",\"金\"&DBCS(TEXT(入力情報!E102,\"0,000\"))&\"円　\"&入力情報!E110,\"金\"&DBCS(TEXT(入力情報!E102,\"0,000\"))&\"円　\"&入力情報!E105&DBCS(入力情報!E106)&\" \"&入力情報!E108)","v":"金０，０００円　"}]
[{"$f":"IF(入力情報!E101<>\"\",\"　　　　　　有限責任社員　\"&入力情報!E101,\"\")","v":""}]
[{"$f":"\"8.\"","v":"8."},{"$f":"IF(入力情報!E115=\"\",DBCS(TEXT(入力情報!E114,\"0,000\"))&\"yen　\"&入力情報!E121,DBCS(TEXT(入力情報!E114,\"0,000\"))&\"yen　\"&入力情報!E116&DBCS(入力情報!E118)&\" \"&入力情報!E119)","v":"０，０００yen　"}]
[{"$f":"IF(入力情報!E112<>\"\",\"Member with Limited Liability Partner:　\"&入力情報!E112,\"\")","v":""}]
[{"$f":"\"8.\"","v":"8."},{"$f":"IF(入力情報!E115=\"\",\"金\"&DBCS(TEXT(入力情報!E114,\"0,000\"))&\"円　\"&入力情報!E122,\"金\"&DBCS(TEXT(入力情報!E114,\"0,000\"))&\"円　\"&入力情報!E117&DBCS(入力情報!E118)&\" \"&入力情報!E120)","v":"金０，０００円　"}]
[{"$f":"IF(入力情報!E113<>\"\",\"　　　　　　有限責任社員　\"&入力情報!E113,\"\")","v":""}]
[{"$f":"\"9.\"","v":"9."},{"$f":"IF(入力情報!E127=\"\",DBCS(TEXT(入力情報!E126,\"0,000\"))&\"yen　\"&入力情報!E133,DBCS(TEXT(入力情報!E126,\"0,000\"))&\"yen　\"&入力情報!E128&DBCS(入力情報!E130)&\" \"&入力情報!E131)","v":"０，０００yen　"}]
[{"$f":"IF(入力情報!E124<>\"\",\"Member with Limited Liability Partner:　\"&入力情報!E124,\"\")","v":""}]
[{"$f":"\"9.\"","v":"9."},{"$f":"IF(入力情報!E127=\"\",\"金\"&DBCS(TEXT(入力情報!E126,\"0,000\"))&\"円　\"&入力情報!E134,\"金\"&DBCS(TEXT(入力情報!E126,\"0,000\"))&\"円　\"&入力情報!E129&DBCS(入力情報!E130)&\" \"&入力情報!E132)","v":"金０，０００円　"}]
[{"$f":"IF(入力情報!E125<>\"\",\"　　　　　　有限責任社員　\"&入力情報!E125,\"\")","v":""}]
[{"$f":"\"10.\"","v":"10."},{"$f":"IF(入力情報!E139=\"\",DBCS(TEXT(入力情報!E138,\"0,000\"))&\"yen　\"&入力情報!E145,DBCS(TEXT(入力情報!E138,\"0,000\"))&\"yen　\"&入力情報!E140&DBCS(入力情報!E142)&\" \"&入力情報!E143)","v":"０，０００yen　"}]
[{"$f":"IF(入力情報!E136<>\"\",\"Member with Limited Liability Partner:　\"&入力情報!E136,\"\")","v":""}]
[{"$f":"\"10.\"","v":"10."},{"$f":"IF(入力情報!E139=\"\",\"金\"&DBCS(TEXT(入力情報!E138,\"0,000\"))&\"円　\"&入力情報!E146,\"金\"&DBCS(TEXT(入力情報!E138,\"0,000\"))&\"円　\"&入力情報!E141&DBCS(入力情報!E142)&\" \"&入力情報!E144)","v":"金０，０００円　"}]
[{"$f":"IF(入力情報!E137<>\"\",\"　　　　　　有限責任社員　\"&入力情報!E137,\"\")","v":""}]
[{"$f":"\"11.\"","v":"11."},{"$f":"IF(入力情報!E151=\"\",DBCS(TEXT(入力情報!E150,\"0,000\"))&\"yen　\"&入力情報!E157,DBCS(TEXT(入力情報!E150,\"0,000\"))&\"yen　\"&入力情報!E152&DBCS(入力情報!E154)&\" \"&入力情報!E155)","v":"０，０００yen　"}]
[{"$f":"IF(入力情報!E148<>\"\",\"Member with Limited Liability Partner:　\"&入力情報!E148,\"\")","v":""}]
[{"$f":"\"11.\"","v":"11."},{"$f":"IF(入力情報!E151=\"\",\"金\"&DBCS(TEXT(入力情報!E150,\"0,000\"))&\"円　\"&入力情報!E158,\"金\"&DBCS(TEXT(入力情報!E150,\"0,000\"))&\"円　\"&入力情報!E153&DBCS(入力情報!E154)&\" \"&入力情報!E156)","v":"金０，０００円　"}]
[{"$f":"IF(入力情報!E149<>\"\",\"　　　　　　有限責任社員　\"&入力情報!E149,\"\")","v":""}]
[{"$f":"\"12.\"","v":"12."},{"$f":"IF(入力情報!E163=\"\",DBCS(TEXT(入力情報!E162,\"0,000\"))&\"yen　\"&入力情報!E169,DBCS(TEXT(入力情報!E162,\"0,000\"))&\"yen　\"&入力情報!E164&DBCS(入力情報!E166)&\" \"&入力情報!E167)","v":"０，０００yen　"}]
[{"$f":"IF(入力情報!E160<>\"\",\"Member with Limited Liability Partner:　\"&入力情報!E160,\"\")","v":""}]
[{"$f":"\"12.\"","v":"12."},{"$f":"IF(入力情報!E163=\"\",\"金\"&DBCS(TEXT(入力情報!E162,\"0,000\"))&\"円　\"&入力情報!E170,\"金\"&DBCS(TEXT(入力情報!E162,\"0,000\"))&\"円　\"&入力情報!E165&DBCS(入力情報!E166)&\" \"&入力情報!E168)","v":"金０，０００円　"}]
[{"$f":"IF(入力情報!E161<>\"\",\"　　　　　　有限責任社員　\"&入力情報!E161,\"\")","v":""}]
[{"$f":"\"13.\"","v":"13."},{"$f":"IF(入力情報!E175=\"\",DBCS(TEXT(入力情報!E174,\"0,000\"))&\"yen　\"&入力情報!E181,DBCS(TEXT(入力情報!E174,\"0,000\"))&\"yen　\"&入力情報!E176&DBCS(入力情報!E178)&\" \"&入力情報!E179)","v":"０，０００yen　"}]
[{"$f":"IF(入力情報!E172<>\"\",\"Member with Limited Liability Partner:　\"&入力情報!E172,\"\")","v":""}]
[{"$f":"\"13.\"","v":"13."},{"$f":"IF(入力情報!E175=\"\",\"金\"&DBCS(TEXT(入力情報!E174,\"0,000\"))&\"円　\"&入力情報!E182,\"金\"&DBCS(TEXT(入力情報!E174,\"0,000\"))&\"円　\"&入力情報!E177&DBCS(入力情報!E178)&\" \"&入力情報!E180)","v":"金０，０００円　"}]
[{"$f":"IF(入力情報!E173<>\"\",\"　　　　　　有限責任社員　\"&入力情報!E173,\"\")","v":""}]
[{"$f":"\"14.\"","v":"14."},{"$f":"IF(入力情報!E187=\"\",DBCS(TEXT(入力情報!E186,\"0,000\"))&\"yen　\"&入力情報!E193,DBCS(TEXT(入力情報!E186,\"0,000\"))&\"yen　\"&入力情報!E188&DBCS(入力情報!E190)&\" \"&入力情報!E191)","v":"０，０００yen　"}]
[{"$f":"IF(入力情報!E184<>\"\",\"Member with Limited Liability Partner:　\"&入力情報!E184,\"\")","v":""}]
[{"$f":"\"14.\"","v":"14."},{"$f":"IF(入力情報!E187=\"\",\"金\"&DBCS(TEXT(入力情報!E186,\"0,000\"))&\"円　\"&入力情報!E194,\"金\"&DBCS(TEXT(入力情報!E186,\"0,000\"))&\"円　\"&入力情報!E189&DBCS(入力情報!E190)&\" \"&入力情報!E192)","v":"金０，０００円　"}]
[{"$f":"IF(入力情報!E185<>\"\",\"　　　　　　有限責任社員　\"&入力情報!E185,\"\")","v":""}]
[{"$f":"\"15.\"","v":"15."},{"$f":"IF(入力情報!E199=\"\",DBCS(TEXT(入力情報!E198,\"0,000\"))&\"yen　\"&入力情報!E205,DBCS(TEXT(入力情報!E198,\"0,000\"))&\"yen　\"&入力情報!E200&DBCS(入力情報!E202)&\" \"&入力情報!E203)","v":"０，０００yen　"}]
[{"$f":"IF(入力情報!E196<>\"\",\"Member with Limited Liability Partner:　\"&入力情報!E196,\"\")","v":""}]
[{"$f":"\"15.\"","v":"15."},{"$f":"IF(入力情報!E199=\"\",\"金\"&DBCS(TEXT(入力情報!E198,\"0,000\"))&\"円　\"&入力情報!E206,\"金\"&DBCS(TEXT(入力情報!E198,\"0,000\"))&\"円　\"&入力情報!E201&DBCS(入力情報!E202)&\" \"&入力情報!E204)","v":"金０，０００円　"}]
[{"$f":"IF(入力情報!E197<>\"\",\"　　　　　　有限責任社員　\"&入力情報!E197,\"\")","v":""}]
[{"$f":"\"16.\"","v":"16."},{"$f":"IF(入力情報!E211=\"\",DBCS(TEXT(入力情報!E210,\"0,000\"))&\"yen　\"&入力情報!E217,DBCS(TEXT(入力情報!E210,\"0,000\"))&\"yen　\"&入力情報!E212&DBCS(入力情報!E214)&\" \"&入力情報!E215)","v":"０，０００yen　"}]
[{"$f":"IF(入力情報!E208<>\"\",\"Member with Limited Liability Partner:　\"&入力情報!E208,\"\")","v":""}]
[{"$f":"\"16.\"","v":"16."},{"$f":"IF(入力情報!E211=\"\",\"金\"&DBCS(TEXT(入力情報!E210,\"0,000\"))&\"円　\"&入力情報!E218,\"金\"&DBCS(TEXT(入力情報!E210,\"0,000\"))&\"円　\"&入力情報!E213&DBCS(入力情報!E214)&\" \"&入力情報!E216)","v":"金０，０００円　"}]
[{"$f":"IF(入力情報!E209<>\"\",\"　　　　　　有限責任社員　\"&入力情報!E209,\"\")","v":""}]
[{"$f":"\"17.\"","v":"17."},{"$f":"IF(入力情報!E223=\"\",DBCS(TEXT(入力情報!E222,\"0,000\"))&\"yen　\"&入力情報!E229,DBCS(TEXT(入力情報!E222,\"0,000\"))&\"yen　\"&入力情報!E224&DBCS(入力情報!E226)&\" \"&入力情報!E227)","v":"０，０００yen　"}]
[{"$f":"IF(入力情報!E220<>\"\",\"Member with Limited Liability Partner:　\"&入力情報!E220,\"\")","v":""}]
[{"$f":"\"17.\"","v":"17."},{"$f":"IF(入力情報!E223=\"\",\"金\"&DBCS(TEXT(入力情報!E222,\"0,000\"))&\"円　\"&入力情報!E230,\"金\"&DBCS(TEXT(入力情報!E222,\"0,000\"))&\"円　\"&入力情報!E225&DBCS(入力情報!E226)&\" \"&入力情報!E228)","v":"金０，０００円　"}]
[{"$f":"IF(入力情報!E221<>\"\",\"　　　　　　有限責任社員　\"&入力情報!E221,\"\")","v":""}]
[{"$f":"\"18.\"","v":"18."},{"$f":"IF(入力情報!E235=\"\",DBCS(TEXT(入力情報!E234,\"0,000\"))&\"yen　\"&入力情報!E241,DBCS(TEXT(入力情報!E234,\"0,000\"))&\"yen　\"&入力情報!E236&DBCS(入力情報!E238)&\" \"&入力情報!E239)","v":"０，０００yen　"}]
[{"$f":"IF(入力情報!E232<>\"\",\"Member with Limited Liability Partner:　\"&入力情報!E232,\"\")","v":""}]
[{"$f":"\"18.\"","v":"18."},{"$f":"IF(入力情報!E235=\"\",\"金\"&DBCS(TEXT(入力情報!E234,\"0,000\"))&\"円　\"&入力情報!E242,\"金\"&DBCS(TEXT(入力情報!E234,\"0,000\"))&\"円　\"&入力情報!E237&DBCS(入力情報!E238)&\" \"&入力情報!E240)","v":"金０，０００円　"}]
[{"$f":"IF(入力情報!E233<>\"\",\"　　　　　　有限責任社員　\"&入力情報!E233,\"\")","v":""}]
[{"$f":"\"19.\"","v":"19."},{"$f":"IF(入力情報!E247=\"\",DBCS(TEXT(入力情報!E246,\"0,000\"))&\"yen　\"&入力情報!E253,DBCS(TEXT(入力情報!E246,\"0,000\"))&\"yen　\"&入力情報!E248&DBCS(入力情報!E250)&\" \"&入力情報!E251)","v":"０，０００yen　"}]
[{"$f":"IF(入力情報!E244<>\"\",\"Member with Limited Liability Partner:　\"&入力情報!E244,\"\")","v":""}]
[{"$f":"\"19.\"","v":"19."},{"$f":"IF(入力情報!E247=\"\",\"金\"&DBCS(TEXT(入力情報!E246,\"0,000\"))&\"円　\"&入力情報!E254,\"金\"&DBCS(TEXT(入力情報!E246,\"0,000\"))&\"円　\"&入力情報!E249&DBCS(入力情報!E250)&\" \"&入力情報!E252)","v":"金０，０００円　"}]
[{"$f":"IF(入力情報!E245<>\"\",\"　　　　　　有限責任社員　\"&入力情報!E245,\"\")","v":""}]
[{"$f":"\"20.\"","v":"20."},{"$f":"IF(入力情報!E259=\"\",DBCS(TEXT(入力情報!E258,\"0,000\"))&\"yen　\"&入力情報!E265,DBCS(TEXT(入力情報!E258,\"0,000\"))&\"yen　\"&入力情報!E260&DBCS(入力情報!E262)&\" \"&入力情報!E263)","v":"０，０００yen　"}]
[{"$f":"IF(入力情報!E256<>\"\",\"Member with Limited Liability Partner:　\"&入力情報!E256,\"\")","v":""}]
[{"$f":"\"20.\"","v":"20."},{"$f":"IF(入力情報!E259=\"\",\"金\"&DBCS(TEXT(入力情報!E258,\"0,000\"))&\"円　\"&入力情報!E266,\"金\"&DBCS(TEXT(入力情報!E258,\"0,000\"))&\"円　\"&入力情報!E261&DBCS(入力情報!E262)&\" \"&入力情報!E264)","v":"金０，０００円　"}]
[{"$f":"IF(入力情報!E257<>\"\",\"　　　　　　有限責任社員　\"&入力情報!E257,\"\")","v":""}]
[{"$f":"\"21.\"","v":"21."},{"$f":"IF(入力情報!E271=\"\",DBCS(TEXT(入力情報!E270,\"0,000\"))&\"yen　\"&入力情報!E277,DBCS(TEXT(入力情報!E270,\"0,000\"))&\"yen　\"&入力情報!E272&DBCS(入力情報!E274)&\" \"&入力情報!E275)","v":"０，０００yen　"}]
[{"$f":"IF(入力情報!E268<>\"\",\"Member with Limited Liability Partner:　\"&入力情報!E268,\"\")","v":""}]
[{"$f":"\"21.\"","v":"21."},{"$f":"IF(入力情報!E271=\"\",\"金\"&DBCS(TEXT(入力情報!E270,\"0,000\"))&\"円　\"&入力情報!E278,\"金\"&DBCS(TEXT(入力情報!E270,\"0,000\"))&\"円　\"&入力情報!E273&DBCS(入力情報!E274)&\" \"&入力情報!E276)","v":"金０，０００円　"}]
[{"$f":"IF(入力情報!E269<>\"\",\"　　　　　　有限責任社員　\"&入力情報!E269,\"\")","v":""}]
[{"$f":"\"22.\"","v":"22."},{"$f":"IF(入力情報!E283=\"\",DBCS(TEXT(入力情報!E282,\"0,000\"))&\"yen　\"&入力情報!E289,DBCS(TEXT(入力情報!E282,\"0,000\"))&\"yen　\"&入力情報!E284&DBCS(入力情報!E286)&\" \"&入力情報!E287)","v":"０，０００yen　"}]
[{"$f":"IF(入力情報!E280<>\"\",\"Member with Limited Liability Partner:　\"&入力情報!E280,\"\")","v":""}]
[{"$f":"\"22.\"","v":"22."},{"$f":"IF(入力情報!E283=\"\",\"金\"&DBCS(TEXT(入力情報!E282,\"0,000\"))&\"円　\"&入力情報!E290,\"金\"&DBCS(TEXT(入力情報!E282,\"0,000\"))&\"円　\"&入力情報!E285&DBCS(入力情報!E286)&\" \"&入力情報!E288)","v":"金０，０００円　"}]
[{"$f":"IF(入力情報!E281<>\"\",\"　　　　　　有限責任社員　\"&入力情報!E281,\"\")","v":""}]
[{"$f":"\"23.\"","v":"23."},{"$f":"IF(入力情報!E295=\"\",DBCS(TEXT(入力情報!E294,\"0,000\"))&\"yen　\"&入力情報!E301,DBCS(TEXT(入力情報!E294,\"0,000\"))&\"yen　\"&入力情報!E296&DBCS(入力情報!E298)&\" \"&入力情報!E299)","v":"０，０００yen　"}]
[{"$f":"IF(入力情報!E292<>\"\",\"Member with Limited Liability Partner:　\"&入力情報!E292,\"\")","v":""}]
[{"$f":"\"23.\"","v":"23."},{"$f":"IF(入力情報!E295=\"\",\"金\"&DBCS(TEXT(入力情報!E294,\"0,000\"))&\"円　\"&入力情報!E302,\"金\"&DBCS(TEXT(入力情報!E294,\"0,000\"))&\"円　\"&入力情報!E297&DBCS(入力情報!E298)&\" \"&入力情報!E300)","v":"金０，０００円　"}]
[{"$f":"IF(入力情報!E293<>\"\",\"　　　　　　有限責任社員　\"&入力情報!E293,\"\")","v":""}]
[{"$f":"\"24.\"","v":"24."},{"$f":"IF(入力情報!E307=\"\",DBCS(TEXT(入力情報!E306,\"0,000\"))&\"yen　\"&入力情報!E313,DBCS(TEXT(入力情報!E306,\"0,000\"))&\"yen　\"&入力情報!E308&DBCS(入力情報!E310)&\" \"&入力情報!E311)","v":"０，０００yen　"}]
[{"$f":"IF(入力情報!E304<>\"\",\"Member with Limited Liability Partner:　\"&入力情報!E304,\"\")","v":""}]
[{"$f":"\"24.\"","v":"24."},{"$f":"IF(入力情報!E307=\"\",\"金\"&DBCS(TEXT(入力情報!E306,\"0,000\"))&\"円　\"&入力情報!E314,\"金\"&DBCS(TEXT(入力情報!E306,\"0,000\"))&\"円　\"&入力情報!E309&DBCS(入力情報!E310)&\" \"&入力情報!E312)","v":"金０，０００円　"}]
[{"$f":"IF(入力情報!E305<>\"\",\"　　　　　　有限責任社員　\"&入力情報!E305,\"\")","v":""}]
[{"$f":"\"25.\"","v":"25."},{"$f":"IF(入力情報!E319=\"\",DBCS(TEXT(入力情報!E318,\"0,000\"))&\"yen　\"&入力情報!E325,DBCS(TEXT(入力情報!E318,\"0,000\"))&\"yen　\"&入力情報!E320&DBCS(入力情報!E322)&\" \"&入力情報!E323)","v":"０，０００yen　"}]
[{"$f":"IF(入力情報!E316<>\"\",\"Member with Limited Liability Partner:　\"&入力情報!E316,\"\")","v":""}]
[{"$f":"\"25.\"","v":"25."},{"$f":"IF(入力情報!E319=\"\",\"金\"&DBCS(TEXT(入力情報!E318,\"0,000\"))&\"円　\"&入力情報!E326,\"金\"&DBCS(TEXT(入力情報!E318,\"0,000\"))&\"円　\"&入力情報!E321&DBCS(入力情報!E322)&\" \"&入力情報!E324)","v":"金０，０００円　"}]
[{"$f":"IF(入力情報!E317<>\"\",\"　　　　　　有限責任社員　\"&入力情報!E317,\"\")","v":""}]
[{"$f":"\"26.\"","v":"26."},{"$f":"IF(入力情報!E331=\"\",DBCS(TEXT(入力情報!E330,\"0,000\"))&\"yen　\"&入力情報!E337,DBCS(TEXT(入力情報!E330,\"0,000\"))&\"yen　\"&入力情報!E332&DBCS(入力情報!E334)&\" \"&入力情報!E335)","v":"０，０００yen　"}]
[{"$f":"IF(入力情報!E328<>\"\",\"Member with Limited Liability Partner:　\"&入力情報!E328,\"\")","v":""}]
[{"$f":"\"26.\"","v":"26."},{"$f":"IF(入力情報!E331=\"\",\"金\"&DBCS(TEXT(入力情報!E330,\"0,000\"))&\"円　\"&入力情報!E338,\"金\"&DBCS(TEXT(入力情報!E330,\"0,000\"))&\"円　\"&入力情報!E333&DBCS(入力情報!E334)&\" \"&入力情報!E336)","v":"金０，０００円　"}]
[{"$f":"IF(入力情報!E329<>\"\",\"　　　　　　有限責任社員　\"&入力情報!E329,\"\")","v":""}]
[{"$f":"\"27.\"","v":"27."},{"$f":"IF(入力情報!E343=\"\",DBCS(TEXT(入力情報!E342,\"0,000\"))&\"yen　\"&入力情報!E349,DBCS(TEXT(入力情報!E342,\"0,000\"))&\"yen　\"&入力情報!E344&DBCS(入力情報!E346)&\" \"&入力情報!E347)","v":"０，０００yen　"}]
[{"$f":"IF(入力情報!E340<>\"\",\"Member with Limited Liability Partner:　\"&入力情報!E340,\"\")","v":""}]
[{"$f":"\"27.\"","v":"27."},{"$f":"IF(入力情報!E343=\"\",\"金\"&DBCS(TEXT(入力情報!E342,\"0,000\"))&\"円　\"&入力情報!E350,\"金\"&DBCS(TEXT(入力情報!E342,\"0,000\"))&\"円　\"&入力情報!E345&DBCS(入力情報!E346)&\" \"&入力情報!E348)","v":"金０，０００円　"}]
[{"$f":"IF(入力情報!E341<>\"\",\"　　　　　　有限責任社員　\"&入力情報!E341,\"\")","v":""}]
[{"$f":"\"28.\"","v":"28."},{"$f":"IF(入力情報!E355=\"\",DBCS(TEXT(入力情報!E354,\"0,000\"))&\"yen　\"&入力情報!E361,DBCS(TEXT(入力情報!E354,\"0,000\"))&\"yen　\"&入力情報!E356&DBCS(入力情報!E358)&\" \"&入力情報!E359)","v":"０，０００yen　"}]
[{"$f":"IF(入力情報!E352<>\"\",\"Member with Limited Liability Partner:　\"&入力情報!E352,\"\")","v":""}]
[{"$f":"\"28.\"","v":"28."},{"$f":"IF(入力情報!E355=\"\",\"金\"&DBCS(TEXT(入力情報!E354,\"0,000\"))&\"円　\"&入力情報!E362,\"金\"&DBCS(TEXT(入力情報!E354,\"0,000\"))&\"円　\"&入力情報!E357&DBCS(入力情報!E358)&\" \"&入力情報!E360)","v":"金０，０００円　"}]
[{"$f":"IF(入力情報!E353<>\"\",\"　　　　　　有限責任社員　\"&入力情報!E353,\"\")","v":""}]
[{"$f":"\"29.\"","v":"29."},{"$f":"IF(入力情報!E367=\"\",DBCS(TEXT(入力情報!E366,\"0,000\"))&\"yen　\"&入力情報!E373,DBCS(TEXT(入力情報!E366,\"0,000\"))&\"yen　\"&入力情報!E368&DBCS(入力情報!E370)&\" \"&入力情報!E371)","v":"０，０００yen　"}]
[{"$f":"IF(入力情報!E364<>\"\",\"Member with Limited Liability Partner:　\"&入力情報!E364,\"\")","v":""}]
[{"$f":"\"29.\"","v":"29."},{"$f":"IF(入力情報!E367=\"\",\"金\"&DBCS(TEXT(入力情報!E366,\"0,000\"))&\"円　\"&入力情報!E374,\"金\"&DBCS(TEXT(入力情報!E366,\"0,000\"))&\"円　\"&入力情報!E369&DBCS(入力情報!E370)&\" \"&入力情報!E372)","v":"金０，０００円　"}]
[{"$f":"IF(入力情報!E365<>\"\",\"　　　　　　有限責任社員　\"&入力情報!E365,\"\")","v":""}]
[{"$f":"\"30.\"","v":"30."},{"$f":"IF(入力情報!E379=\"\",DBCS(TEXT(入力情報!E378,\"0,000\"))&\"yen　\"&入力情報!E385,DBCS(TEXT(入力情報!E378,\"0,000\"))&\"yen　\"&入力情報!E380&DBCS(入力情報!E382)&\" \"&入力情報!E383)","v":"０，０００yen　"}]
[{"$f":"IF(入力情報!E376<>\"\",\"Member with Limited Liability Partner:　\"&入力情報!E376,\"\")","v":""}]
[{"$f":"\"30.\"","v":"30."},{"$f":"IF(入力情報!E379=\"\",\"金\"&DBCS(TEXT(入力情報!E378,\"0,000\"))&\"円　\"&入力情報!E386,\"金\"&DBCS(TEXT(入力情報!E378,\"0,000\"))&\"円　\"&入力情報!E381&DBCS(入力情報!E382)&\" \"&入力情報!E384)","v":"金０，０００円　"}]
[{"$f":"IF(入力情報!E377<>\"\",\"　　　　　　有限責任社員　\"&入力情報!E377,\"\")","v":""}]
[{"$f":"\"31.\"","v":"31."},{"$f":"IF(入力情報!E391=\"\",DBCS(TEXT(入力情報!E390,\"0,000\"))&\"yen　\"&入力情報!E397,DBCS(TEXT(入力情報!E390,\"0,000\"))&\"yen　\"&入力情報!E392&DBCS(入力情報!E394)&\" \"&入力情報!E395)","v":"０，０００yen　"}]
[{"$f":"IF(入力情報!E388<>\"\",\"Member with Limited Liability Partner:　\"&入力情報!E388,\"\")","v":""}]
[{"$f":"\"31.\"","v":"31."},{"$f":"IF(入力情報!E391=\"\",\"金\"&DBCS(TEXT(入力情報!E390,\"0,000\"))&\"円　\"&入力情報!E398,\"金\"&DBCS(TEXT(入力情報!E390,\"0,000\"))&\"円　\"&入力情報!E393&DBCS(入力情報!E394)&\" \"&入力情報!E396)","v":"金０，０００円　"}]
[{"$f":"IF(入力情報!E389<>\"\",\"　　　　　　有限責任社員　\"&入力情報!E389,\"\")","v":""}]
[{"$f":"\"32.\"","v":"32."},{"$f":"IF(入力情報!E403=\"\",DBCS(TEXT(入力情報!E402,\"0,000\"))&\"yen　\"&入力情報!E409,DBCS(TEXT(入力情報!E402,\"0,000\"))&\"yen　\"&入力情報!E404&DBCS(入力情報!E406)&\" \"&入力情報!E407)","v":"０，０００yen　"}]
[{"$f":"IF(入力情報!E400<>\"\",\"Member with Limited Liability Partner:　\"&入力情報!E400,\"\")","v":""}]
[{"$f":"\"32.\"","v":"32."},{"$f":"IF(入力情報!E403=\"\",\"金\"&DBCS(TEXT(入力情報!E402,\"0,000\"))&\"円　\"&入力情報!E410,\"金\"&DBCS(TEXT(入力情報!E402,\"0,000\"))&\"円　\"&入力情報!E405&DBCS(入力情報!E406)&\" \"&入力情報!E408)","v":"金０，０００円　"}]
[{"$f":"IF(入力情報!E401<>\"\",\"　　　　　　有限責任社員　\"&入力情報!E401,\"\")","v":""}]
[{"$f":"\"33.\"","v":"33."},{"$f":"IF(入力情報!E415=\"\",DBCS(TEXT(入力情報!E414,\"0,000\"))&\"yen　\"&入力情報!E421,DBCS(TEXT(入力情報!E414,\"0,000\"))&\"yen　\"&入力情報!E416&DBCS(入力情報!E418)&\" \"&入力情報!E419)","v":"０，０００yen　"}]
[{"$f":"IF(入力情報!E412<>\"\",\"Member with Limited Liability Partner:　\"&入力情報!E412,\"\")","v":""}]
[{"$f":"\"33.\"","v":"33."},{"$f":"IF(入力情報!E415=\"\",\"金\"&DBCS(TEXT(入力情報!E414,\"0,000\"))&\"円　\"&入力情報!E422,\"金\"&DBCS(TEXT(入力情報!E414,\"0,000\"))&\"円　\"&入力情報!E417&DBCS(入力情報!E418)&\" \"&入力情報!E420)","v":"金０，０００円　"}]
[{"$f":"IF(入力情報!E413<>\"\",\"　　　　　　有限責任社員　\"&入力情報!E413,\"\")","v":""}]
[{"$f":"\"34.\"","v":"34."},{"$f":"IF(入力情報!E427=\"\",DBCS(TEXT(入力情報!E426,\"0,000\"))&\"yen　\"&入力情報!E433,DBCS(TEXT(入力情報!E426,\"0,000\"))&\"yen　\"&入力情報!E428&DBCS(入力情報!E430)&\" \"&入力情報!E431)","v":"０，０００yen　"}]
[{"$f":"IF(入力情報!E424<>\"\",\"Member with Limited Liability Partner:　\"&入力情報!E424,\"\")","v":""}]
[{"$f":"\"34.\"","v":"34."},{"$f":"IF(入力情報!E427=\"\",\"金\"&DBCS(TEXT(入力情報!E426,\"0,000\"))&\"円　\"&入力情報!E434,\"金\"&DBCS(TEXT(入力情報!E426,\"0,000\"))&\"円　\"&入力情報!E429&DBCS(入力情報!E430)&\" \"&入力情報!E432)","v":"金０，０００円　"}]
[{"$f":"IF(入力情報!E425<>\"\",\"　　　　　　有限責任社員　\"&入力情報!E425,\"\")","v":""}]
[{"$f":"\"35.\"","v":"35."},{"$f":"IF(入力情報!E439=\"\",DBCS(TEXT(入力情報!E438,\"0,000\"))&\"yen　\"&入力情報!E445,DBCS(TEXT(入力情報!E438,\"0,000\"))&\"yen　\"&入力情報!E440&DBCS(入力情報!E442)&\" \"&入力情報!E443)","v":"０，０００yen　"}]
[{"$f":"IF(入力情報!E436<>\"\",\"Member with Limited Liability Partner:　\"&入力情報!E436,\"\")","v":""}]
[{"$f":"\"35.\"","v":"35."},{"$f":"IF(入力情報!E439=\"\",\"金\"&DBCS(TEXT(入力情報!E438,\"0,000\"))&\"円　\"&入力情報!E446,\"金\"&DBCS(TEXT(入力情報!E438,\"0,000\"))&\"円　\"&入力情報!E441&DBCS(入力情報!E442)&\" \"&入力情報!E444)","v":"金０，０００円　"}]
[{"$f":"IF(入力情報!E437<>\"\",\"　　　　　　有限責任社員　\"&入力情報!E437,\"\")","v":""}]
[{"$f":"\"36.\"","v":"36."},{"$f":"IF(入力情報!E451=\"\",DBCS(TEXT(入力情報!E450,\"0,000\"))&\"yen　\"&入力情報!E457,DBCS(TEXT(入力情報!E450,\"0,000\"))&\"yen　\"&入力情報!E452&DBCS(入力情報!E454)&\" \"&入力情報!E455)","v":"０，０００yen　"}]
[{"$f":"IF(入力情報!E448<>\"\",\"Member with Limited Liability Partner:　\"&入力情報!E448,\"\")","v":""}]
[{"$f":"\"36.\"","v":"36."},{"$f":"IF(入力情報!E451=\"\",\"金\"&DBCS(TEXT(入力情報!E450,\"0,000\"))&\"円　\"&入力情報!E458,\"金\"&DBCS(TEXT(入力情報!E450,\"0,000\"))&\"円　\"&入力情報!E453&DBCS(入力情報!E454)&\" \"&入力情報!E456)","v":"金０，０００円　"}]
[{"$f":"IF(入力情報!E449<>\"\",\"　　　　　　有限責任社員　\"&入力情報!E449,\"\")","v":""}]
[{"$f":"\"37.\"","v":"37."},{"$f":"IF(入力情報!E463=\"\",DBCS(TEXT(入力情報!E462,\"0,000\"))&\"yen　\"&入力情報!E469,DBCS(TEXT(入力情報!E462,\"0,000\"))&\"yen　\"&入力情報!E464&DBCS(入力情報!E466)&\" \"&入力情報!E467)","v":"０，０００yen　"}]
[{"$f":"IF(入力情報!E460<>\"\",\"Member with Limited Liability Partner:　\"&入力情報!E460,\"\")","v":""}]
[{"$f":"\"37.\"","v":"37."},{"$f":"IF(入力情報!E463=\"\",\"金\"&DBCS(TEXT(入力情報!E462,\"0,000\"))&\"円　\"&入力情報!E470,\"金\"&DBCS(TEXT(入力情報!E462,\"0,000\"))&\"円　\"&入力情報!E465&DBCS(入力情報!E466)&\" \"&入力情報!E468)","v":"金０，０００円　"}]
[{"$f":"IF(入力情報!E461<>\"\",\"　　　　　　有限責任社員　\"&入力情報!E461,\"\")","v":""}]
[{"$f":"\"38.\"","v":"38."},{"$f":"IF(入力情報!E475=\"\",DBCS(TEXT(入力情報!E474,\"0,000\"))&\"yen　\"&入力情報!E481,DBCS(TEXT(入力情報!E474,\"0,000\"))&\"yen　\"&入力情報!E476&DBCS(入力情報!E478)&\" \"&入力情報!E479)","v":"０，０００yen　"}]
[{"$f":"IF(入力情報!E472<>\"\",\"Member with Limited Liability Partner:　\"&入力情報!E472,\"\")","v":""}]
[{"$f":"\"38.\"","v":"38."},{"$f":"IF(入力情報!E475=\"\",\"金\"&DBCS(TEXT(入力情報!E474,\"0,000\"))&\"円　\"&入力情報!E482,\"金\"&DBCS(TEXT(入力情報!E474,\"0,000\"))&\"円　\"&入力情報!E477&DBCS(入力情報!E478)&\" \"&入力情報!E480)","v":"金０，０００円　"}]
[{"$f":"IF(入力情報!E473<>\"\",\"　　　　　　有限責任社員　\"&入力情報!E473,\"\")","v":""}]
[{"$f":"\"39.\"","v":"39."},{"$f":"IF(入力情報!E487=\"\",DBCS(TEXT(入力情報!E486,\"0,000\"))&\"yen　\"&入力情報!E493,DBCS(TEXT(入力情報!E486,\"0,000\"))&\"yen　\"&入力情報!E488&DBCS(入力情報!E490)&\" \"&入力情報!E491)","v":"０，０００yen　"}]
[{"$f":"IF(入力情報!E484<>\"\",\"Member with Limited Liability Partner:　\"&入力情報!E484,\"\")","v":""}]
[{"$f":"\"39.\"","v":"39."},{"$f":"IF(入力情報!E487=\"\",\"金\"&DBCS(TEXT(入力情報!E486,\"0,000\"))&\"円　\"&入力情報!E494,\"金\"&DBCS(TEXT(入力情報!E486,\"0,000\"))&\"円　\"&入力情報!E489&DBCS(入力情報!E490)&\" \"&入力情報!E492)","v":"金０，０００円　"}]
[{"$f":"IF(入力情報!E485<>\"\",\"　　　　　　有限責任社員　\"&入力情報!E485,\"\")","v":""}]
[{"$f":"\"40.\"","v":"40."},{"$f":"IF(入力情報!E499=\"\",DBCS(TEXT(入力情報!E498,\"0,000\"))&\"yen　\"&入力情報!E505,DBCS(TEXT(入力情報!E498,\"0,000\"))&\"yen　\"&入力情報!E500&DBCS(入力情報!E502)&\" \"&入力情報!E503)","v":"０，０００yen　"}]
[{"$f":"IF(入力情報!E496<>\"\",\"Member with Limited Liability Partner:　\"&入力情報!E496,\"\")","v":""}]
[{"$f":"\"40.\"","v":"40."},{"$f":"IF(入力情報!E499=\"\",\"金\"&DBCS(TEXT(入力情報!E498,\"0,000\"))&\"円　\"&入力情報!E506,\"金\"&DBCS(TEXT(入力情報!E498,\"0,000\"))&\"円　\"&入力情報!E501&DBCS(入力情報!E502)&\" \"&入力情報!E504)","v":"金０，０００円　"}]
[{"$f":"IF(入力情報!E497<>\"\",\"　　　　　　有限責任社員　\"&入力情報!E497,\"\")","v":""}]
[{"$f":"\"41.\"","v":"41."},{"$f":"IF(入力情報!E511=\"\",DBCS(TEXT(入力情報!E510,\"0,000\"))&\"yen　\"&入力情報!E517,DBCS(TEXT(入力情報!E510,\"0,000\"))&\"yen　\"&入力情報!E512&DBCS(入力情報!E514)&\" \"&入力情報!E515)","v":"０，０００yen　"}]
[{"$f":"IF(入力情報!E508<>\"\",\"Member with Limited Liability Partner:　\"&入力情報!E508,\"\")","v":""}]
[{"$f":"\"41.\"","v":"41."},{"$f":"IF(入力情報!E511=\"\",\"金\"&DBCS(TEXT(入力情報!E510,\"0,000\"))&\"円　\"&入力情報!E518,\"金\"&DBCS(TEXT(入力情報!E510,\"0,000\"))&\"円　\"&入力情報!E513&DBCS(入力情報!E514)&\" \"&入力情報!E516)","v":"金０，０００円　"}]
[{"$f":"IF(入力情報!E509<>\"\",\"　　　　　　有限責任社員　\"&入力情報!E509,\"\")","v":""}]
[{"$f":"\"42.\"","v":"42."},{"$f":"IF(入力情報!E523=\"\",DBCS(TEXT(入力情報!E522,\"0,000\"))&\"yen　\"&入力情報!E529,DBCS(TEXT(入力情報!E522,\"0,000\"))&\"yen　\"&入力情報!E524&DBCS(入力情報!E526)&\" \"&入力情報!E527)","v":"０，０００yen　"}]
[{"$f":"IF(入力情報!E520<>\"\",\"Member with Limited Liability Partner:　\"&入力情報!E520,\"\")","v":""}]
[{"$f":"\"42.\"","v":"42."},{"$f":"IF(入力情報!E523=\"\",\"金\"&DBCS(TEXT(入力情報!E522,\"0,000\"))&\"円　\"&入力情報!E530,\"金\"&DBCS(TEXT(入力情報!E522,\"0,000\"))&\"円　\"&入力情報!E525&DBCS(入力情報!E526)&\" \"&入力情報!E528)","v":"金０，０００円　"}]
[{"$f":"IF(入力情報!E521<>\"\",\"　　　　　　有限責任社員　\"&入力情報!E521,\"\")","v":""}]
[{"$f":"\"43.\"","v":"43."},{"$f":"IF(入力情報!E535=\"\",DBCS(TEXT(入力情報!E534,\"0,000\"))&\"yen　\"&入力情報!E541,DBCS(TEXT(入力情報!E534,\"0,000\"))&\"yen　\"&入力情報!E536&DBCS(入力情報!E538)&\" \"&入力情報!E539)","v":"０，０００yen　"}]
[{"$f":"IF(入力情報!E532<>\"\",\"Member with Limited Liability Partner:　\"&入力情報!E532,\"\")","v":""}]
[{"$f":"\"43.\"","v":"43."},{"$f":"IF(入力情報!E535=\"\",\"金\"&DBCS(TEXT(入力情報!E534,\"0,000\"))&\"円　\"&入力情報!E542,\"金\"&DBCS(TEXT(入力情報!E534,\"0,000\"))&\"円　\"&入力情報!E537&DBCS(入力情報!E538)&\" \"&入力情報!E540)","v":"金０，０００円　"}]
[{"$f":"IF(入力情報!E533<>\"\",\"　　　　　　有限責任社員　\"&入力情報!E533,\"\")","v":""}]
[{"$f":"\"44.\"","v":"44."},{"$f":"IF(入力情報!E547=\"\",DBCS(TEXT(入力情報!E546,\"0,000\"))&\"yen　\"&入力情報!E553,DBCS(TEXT(入力情報!E546,\"0,000\"))&\"yen　\"&入力情報!E548&DBCS(入力情報!E550)&\" \"&入力情報!E551)","v":"０，０００yen　"}]
[{"$f":"IF(入力情報!E544<>\"\",\"Member with Limited Liability Partner:　\"&入力情報!E544,\"\")","v":""}]
[{"$f":"\"44.\"","v":"44."},{"$f":"IF(入力情報!E547=\"\",\"金\"&DBCS(TEXT(入力情報!E546,\"0,000\"))&\"円　\"&入力情報!E554,\"金\"&DBCS(TEXT(入力情報!E546,\"0,000\"))&\"円　\"&入力情報!E549&DBCS(入力情報!E550)&\" \"&入力情報!E552)","v":"金０，０００円　"},{"$nulls":7},{"$f":"IF(入力情報!E547=\"\",\"金\"&DBCS(TEXT(入力情報!E546,\"0,000\"))&\"円　\"&入力情報!E554,\"金\"&DBCS(TEXT(入力情報!E546,\"0,000\"))&\"円　\"&入力情報!E549&DBCS(入力情報!E550)&\" \"&入力情報!E552)","v":"金０，０００円　"}]
[{"$f":"IF(入力情報!E545<>\"\",\"　　　　　　有限責任社員　\"&入力情報!E545,\"\")","v":""}]
[{"$f":"\"45.\"","v":"45."},{"$f":"IF(入力情報!E559=\"\",DBCS(TEXT(入力情報!E558,\"0,000\"))&\"yen　\"&入力情報!E565,DBCS(TEXT(入力情報!E558,\"0,000\"))&\"yen　\"&入力情報!E560&DBCS(入力情報!E562)&\" \"&入力情報!E563)","v":"０，０００yen　"}]
[{"$f":"IF(入力情報!E556<>\"\",\"Member with Limited Liability Partner:　\"&入力情報!E556,\"\")","v":""}]
[{"$f":"\"45.\"","v":"45."},{"$f":"IF(入力情報!E559=\"\",\"金\"&DBCS(TEXT(入力情報!E558,\"0,000\"))&\"円　\"&入力情報!E566,\"金\"&DBCS(TEXT(入力情報!E558,\"0,000\"))&\"円　\"&入力情報!E561&DBCS(入力情報!E562)&\" \"&入力情報!E564)","v":"金０，０００円　"}]
[{"$f":"IF(入力情報!E557<>\"\",\"　　　　　　有限責任社員　\"&入力情報!E557,\"\")","v":""}]
[{"$f":"\"46.\"","v":"46."},{"$f":"IF(入力情報!E571=\"\",DBCS(TEXT(入力情報!E570,\"0,000\"))&\"yen　\"&入力情報!E577,DBCS(TEXT(入力情報!E570,\"0,000\"))&\"yen　\"&入力情報!E572&DBCS(入力情報!E574)&\" \"&入力情報!E575)","v":"０，０００yen　"}]
[{"$f":"IF(入力情報!E568<>\"\",\"Member with Limited Liability Partner:　\"&入力情報!E568,\"\")","v":""}]
[{"$f":"\"46.\"","v":"46."},{"$f":"IF(入力情報!E571=\"\",\"金\"&DBCS(TEXT(入力情報!E570,\"0,000\"))&\"円　\"&入力情報!E578,\"金\"&DBCS(TEXT(入力情報!E570,\"0,000\"))&\"円　\"&入力情報!E573&DBCS(入力情報!E574)&\" \"&入力情報!E576)","v":"金０，０００円　"}]
[{"$f":"IF(入力情報!E569<>\"\",\"　　　　　　有限責任社員　\"&入力情報!E569,\"\")","v":""}]
[{"$f":"\"47.\"","v":"47."},{"$f":"IF(入力情報!E583=\"\",DBCS(TEXT(入力情報!E582,\"0,000\"))&\"yen　\"&入力情報!E589,DBCS(TEXT(入力情報!E582,\"0,000\"))&\"yen　\"&入力情報!E584&DBCS(入力情報!E586)&\" \"&入力情報!E587)","v":"０，０００yen　"}]
[{"$f":"IF(入力情報!E580<>\"\",\"Member with Limited Liability Partner:　\"&入力情報!E580,\"\")","v":""}]
[{"$f":"\"47.\"","v":"47."},{"$f":"IF(入力情報!E583=\"\",\"金\"&DBCS(TEXT(入力情報!E582,\"0,000\"))&\"円　\"&入力情報!E590,\"金\"&DBCS(TEXT(入力情報!E582,\"0,000\"))&\"円　\"&入力情報!E585&DBCS(入力情報!E586)&\" \"&入力情報!E588)","v":"金０，０００円　"}]
[{"$f":"IF(入力情報!E581<>\"\",\"　　　　　　有限責任社員　\"&入力情報!E581,\"\")","v":""}]
[{"$f":"\"48.\"","v":"48."},{"$f":"IF(入力情報!E595=\"\",DBCS(TEXT(入力情報!E594,\"0,000\"))&\"yen　\"&入力情報!E601,DBCS(TEXT(入力情報!E594,\"0,000\"))&\"yen　\"&入力情報!E596&DBCS(入力情報!E598)&\" \"&入力情報!E599)","v":"０，０００yen　"}]
[{"$f":"IF(入力情報!E592<>\"\",\"Member with Limited Liability Partner:　\"&入力情報!E592,\"\")","v":""}]
[{"$f":"\"48.\"","v":"48."},{"$f":"IF(入力情報!E595=\"\",\"金\"&DBCS(TEXT(入力情報!E594,\"0,000\"))&\"円　\"&入力情報!E602,\"金\"&DBCS(TEXT(入力情報!E594,\"0,000\"))&\"円　\"&入力情報!E597&DBCS(入力情報!E598)&\" \"&入力情報!E600)","v":"金０，０００円　"}]
[{"$f":"IF(入力情報!E593<>\"\",\"　　　　　　有限責任社員　\"&入力情報!E593,\"\")","v":""}]
[{"$f":"\"49.\"","v":"49."},{"$f":"IF(入力情報!E607=\"\",DBCS(TEXT(入力情報!E606,\"0,000\"))&\"yen　\"&入力情報!E613,DBCS(TEXT(入力情報!E606,\"0,000\"))&\"yen　\"&入力情報!E608&DBCS(入力情報!E610)&\" \"&入力情報!E611)","v":"０，０００yen　"}]
[{"$f":"IF(入力情報!E604<>\"\",\"Member with Limited Liability Partner:　\"&入力情報!E604,\"\")","v":""}]
[{"$f":"\"49.\"","v":"49."},{"$f":"IF(入力情報!E607=\"\",\"金\"&DBCS(TEXT(入力情報!E606,\"0,000\"))&\"円　\"&入力情報!E614,\"金\"&DBCS(TEXT(入力情報!E606,\"0,000\"))&\"円　\"&入力情報!E609&DBCS(入力情報!E610)&\" \"&入力情報!E612)","v":"金０，０００円　"}]
[{"$f":"IF(入力情報!E605<>\"\",\"　　　　　　有限責任社員　\"&入力情報!E605,\"\")","v":""}]
[{"$f":"\"50.\"","v":"50."},{"$f":"IF(入力情報!E619=\"\",DBCS(TEXT(入力情報!E618,\"0,000\"))&\"yen　\"&入力情報!E625,DBCS(TEXT(入力情報!E618,\"0,000\"))&\"yen　\"&入力情報!E620&DBCS(入力情報!E622)&\" \"&入力情報!E623)","v":"０，０００yen　"}]
[{"$f":"IF(入力情報!E616<>\"\",\"Member with Limited Liability Partner:　\"&入力情報!E616,\"\")","v":""}]
[{"$f":"\"50.\"","v":"50."},{"$f":"IF(入力情報!E619=\"\",\"金\"&DBCS(TEXT(入力情報!E618,\"0,000\"))&\"円　\"&入力情報!E626,\"金\"&DBCS(TEXT(入力情報!E618,\"0,000\"))&\"円　\"&入力情報!E621&DBCS(入力情報!E622)&\" \"&入力情報!E624)","v":"金０，０００円　"}]
[{"$f":"IF(入力情報!E617<>\"\",\"　　　　　　有限責任社員　\"&入力情報!E617,\"\")","v":""}]
[null,{"$f":"IF(入力情報!E112<>\"\",入力情報!E112,\"\")","v":""}]
["(Transfer of Equity)（持分の譲渡）"]
["Article 6 (1) A member may not transfer all or part of one’s share to other person without the consent of all other members.\n(2) Article 585, paragraph (2) and (3) of Companies Act shall not apply."]
["第６条　社員は、他の社員の全員の承諾がなければ、その持分の全部又は一部を他人に譲渡することができない。"]
["２　会社法第５８５条第２項及び第３項は、適用しない。"]
[]
["(Inheritance and Merger of Members)（社員の相続及び合併）"]
["第７条　社員が死亡し又は合併により消滅した場合には、その相続人その他の一般承継人は、他の社員の承諾を得て、持分を承継して社員となることができる。"]
["Article 7 When a member dies or is lost to exist as a result of a merger, the heir or other general successor may succeed to the share and become a member with the consent of the other members."]
[]
["(Managing Member)（業務執行社員）"]
["Article 8 A member of"]
["第８条　社員"]
[null,{"$f":"IF(入力情報!E28<>\"\",入力情報!E28,\"\")","v":"Mary Smith"}]
[null,{"$f":"IF(入力情報!E29<>\"\",入力情報!E29,\"\")","v":"メアリー　スミス "}]
[null,{"$f":"IF(入力情報!E40<>\"\",入力情報!E40,\"\")","v":"Michael Smith"}]
[null,{"$f":"IF(入力情報!E41<>\"\",入力情報!E41,\"\")","v":"マイケル　スミス"}]
[null,{"$f":"IF(入力情報!E52<>\"\",入力情報!E52,\"\")","v":"Hanako Suzuki"}]
[null,{"$f":"IF(入力情報!E53<>\"\",入力情報!E53,\"\")","v":"鈴木 花子"}]
[null,{"$f":"IF(入力情報!E64<>\"\",入力情報!E64,\"\")","v":""}]
[null,{"$f":"IF(入力情報!E65<>\"\",入力情報!E65,\"\")","v":""}]
[null,{"$f":"IF(入力情報!E76<>\"\",入力情報!E76,\"\")","v":""}]
[null,{"$f":"IF(入力情報!E77<>\"\",入力情報!E77,\"\")","v":""}]
[null,{"$f":"IF(入力情報!E88<>\"\",入力情報!E88,\"\")","v":""}]
[null,{"$f":"IF(入力情報!E89<>\"\",入力情報!E89,\"\")","v":""}]
[null,{"$f":"IF(入力情報!E100<>\"\",入力情報!E100,\"\")","v":""}]
[null,{"$f":"IF(入力情報!E101<>\"\",入力情報!E101,\"\")","v":""}]
[null,{"$f":"IF(入力情報!E112<>\"\",入力情報!E112,\"\")","v":""}]
[null,{"$f":"IF(入力情報!E113<>\"\",入力情報!E113,\"\")","v":""}]
[null,{"$f":"IF(入力情報!E124<>\"\",入力情報!E124,\"\")","v":""}]
[null,{"$f":"IF(入力情報!E125<>\"\",入力情報!E125,\"\")","v":""}]
[null,{"$f":"IF(入力情報!E136<>\"\",入力情報!E136,\"\")","v":""}]
[null,{"$f":"IF(入力情報!E137<>\"\",入力情報!E137,\"\")","v":""}]
[null,{"$f":"IF(入力情報!E148<>\"\",入力情報!E148,\"\")","v":""}]
[null,{"$f":"IF(入力情報!E149<>\"\",入力情報!E149,\"\")","v":""}]
[null,{"$f":"IF(入力情報!E160<>\"\",入力情報!E160,\"\")","v":""}]
[null,{"$f":"IF(入力情報!E161<>\"\",入力情報!E161,\"\")","v":""}]
[null,{"$f":"IF(入力情報!E172<>\"\",入力情報!E172,\"\")","v":""}]
[null,{"$f":"IF(入力情報!E173<>\"\",入力情報!E173,\"\")","v":""}]
[null,{"$f":"IF(入力情報!E184<>\"\",入力情報!E184,\"\")","v":""}]
[null,{"$f":"IF(入力情報!E185<>\"\",入力情報!E185,\"\")","v":""}]
[null,{"$f":"IF(入力情報!E196<>\"\",入力情報!E196,\"\")","v":""}]
[null,{"$f":"IF(入力情報!E197<>\"\",入力情報!E197,\"\")","v":""}]
[null,{"$f":"IF(入力情報!E208<>\"\",入力情報!E208,\"\")","v":""}]
[null,{"$f":"IF(入力情報!E209<>\"\",入力情報!E209,\"\")","v":""}]
[null,{"$f":"IF(入力情報!E220<>\"\",入力情報!E220,\"\")","v":""}]
[null,{"$f":"IF(入力情報!E221<>\"\",入力情報!E221,\"\")","v":""}]
[null,{"$f":"IF(入力情報!E232<>\"\",入力情報!E232,\"\")","v":""}]
[null,{"$f":"IF(入力情報!E233<>\"\",入力情報!E233,\"\")","v":""}]
[null,{"$f":"IF(入力情報!E244<>\"\",入力情報!E244,\"\")","v":""}]
[null,{"$f":"IF(入力情報!E245<>\"\",入力情報!E245,\"\")","v":""}]
[null,{"$f":"IF(入力情報!E256<>\"\",入力情報!E256,\"\")","v":""}]
[null,{"$f":"IF(入力情報!E257<>\"\",入力情報!E257,\"\")","v":""}]
[null,{"$f":"IF(入力情報!E268<>\"\",入力情報!E268,\"\")","v":""}]
[null,{"$f":"IF(入力情報!E269<>\"\",入力情報!E269,\"\")","v":""}]
[null,{"$f":"IF(入力情報!E280<>\"\",入力情報!E280,\"\")","v":""}]
[null,{"$f":"IF(入力情報!E281<>\"\",入力情報!E281,\"\")","v":""}]
[null,{"$f":"IF(入力情報!E292<>\"\",入力情報!E292,\"\")","v":""}]
[null,{"$f":"IF(入力情報!E293<>\"\",入力情報!E293,\"\")","v":""}]
[null,{"$f":"IF(入力情報!E304<>\"\",入力情報!E304,\"\")","v":""}]
[null,{"$f":"IF(入力情報!E305<>\"\",入力情報!E305,\"\")","v":""}]
[null,{"$f":"IF(入力情報!E316<>\"\",入力情報!E316,\"\")","v":""}]
[null,{"$f":"IF(入力情報!E317<>\"\",入力情報!E317,\"\")","v":""}]
[null,{"$f":"IF(入力情報!E328<>\"\",入力情報!E328,\"\")","v":""}]
[null,{"$f":"IF(入力情報!E329<>\"\",入力情報!E329,\"\")","v":""}]
[null,{"$f":"IF(入力情報!E340<>\"\",入力情報!E340,\"\")","v":""}]
[null,{"$f":"IF(入力情報!E341<>\"\",入力情報!E341,\"\")","v":""}]
[null,{"$f":"IF(入力情報!E352<>\"\",入力情報!E352,\"\")","v":""}]
[null,{"$f":"IF(入力情報!E353<>\"\",入力情報!E353,\"\")","v":""}]
[null,{"$f":"IF(入力情報!E364<>\"\",入力情報!E364,\"\")","v":""}]
[null,{"$f":"IF(入力情報!E365<>\"\",入力情報!E365,\"\")","v":""}]
[null,{"$f":"IF(入力情報!E376<>\"\",入力情報!E376,\"\")","v":""}]
[null,{"$f":"IF(入力情報!E377<>\"\",入力情報!E377,\"\")","v":""}]
[null,{"$f":"IF(入力情報!E388<>\"\",入力情報!E388,\"\")","v":""}]
[null,{"$f":"IF(入力情報!E389<>\"\",入力情報!E389,\"\")","v":""}]
[null,{"$f":"IF(入力情報!E400<>\"\",入力情報!E400,\"\")","v":""}]
[null,{"$f":"IF(入力情報!E401<>\"\",入力情報!E401,\"\")","v":""}]
[null,{"$f":"IF(入力情報!E412<>\"\",入力情報!E412,\"\")","v":""}]
[null,{"$f":"IF(入力情報!E413<>\"\",入力情報!E413,\"\")","v":""}]
[null,{"$f":"IF(入力情報!E424<>\"\",入力情報!E424,\"\")","v":""}]
[null,{"$f":"IF(入力情報!E425<>\"\",入力情報!E425,\"\")","v":""}]
[null,{"$f":"IF(入力情報!E436<>\"\",入力情報!E436,\"\")","v":""}]
[null,{"$f":"IF(入力情報!E437<>\"\",入力情報!E437,\"\")","v":""}]
[null,{"$f":"IF(入力情報!E448<>\"\",入力情報!E448,\"\")","v":""}]
[null,{"$f":"IF(入力情報!E449<>\"\",入力情報!E449,\"\")","v":""}]
[null,{"$f":"IF(入力情報!E460<>\"\",入力情報!E460,\"\")","v":""}]
[null,{"$f":"IF(入力情報!E461<>\"\",入力情報!E461,\"\")","v":""}]
[null,{"$f":"IF(入力情報!E472<>\"\",入力情報!E472,\"\")","v":""}]
[null,{"$f":"IF(入力情報!E473<>\"\",入力情報!E473,\"\")","v":""}]
[null,{"$f":"IF(入力情報!E484<>\"\",入力情報!E484,\"\")","v":""}]
[null,{"$f":"IF(入力情報!E485<>\"\",入力情報!E485,\"\")","v":""}]
[null,{"$f":"IF(入力情報!E496<>\"\",入力情報!E496,\"\")","v":""}]
[null,{"$f":"IF(入力情報!E497<>\"\",入力情報!E497,\"\")","v":""}]
[null,{"$f":"IF(入力情報!E508<>\"\",入力情報!E508,\"\")","v":""}]
[null,{"$f":"IF(入力情報!E509<>\"\",入力情報!E509,\"\")","v":""}]
[null,{"$f":"IF(入力情報!E520<>\"\",入力情報!E520,\"\")","v":""}]
[null,{"$f":"IF(入力情報!E521<>\"\",入力情報!E521,\"\")","v":""}]
[null,{"$f":"IF(入力情報!E532<>\"\",入力情報!E532,\"\")","v":""}]
[null,{"$f":"IF(入力情報!E533<>\"\",入力情報!E533,\"\")","v":""}]
[null,{"$f":"IF(入力情報!E544<>\"\",入力情報!E544,\"\")","v":""}]
[null,{"$f":"IF(入力情報!E545<>\"\",入力情報!E545,\"\")","v":""}]
[null,{"$f":"IF(入力情報!E556<>\"\",入力情報!E556,\"\")","v":""}]
[null,{"$f":"IF(入力情報!E557<>\"\",入力情報!E557,\"\")","v":""}]
[null,{"$f":"IF(入力情報!E568<>\"\",入力情報!E568,\"\")","v":""}]
[null,{"$f":"IF(入力情報!E569<>\"\",入力情報!E569,\"\")","v":""}]
[null,{"$f":"IF(入力情報!E580<>\"\",入力情報!E580,\"\")","v":""}]
[null,{"$f":"IF(入力情報!E581<>\"\",入力情報!E581,\"\")","v":""}]
[null,{"$f":"IF(入力情報!E592<>\"\",入力情報!E592,\"\")","v":""}]
[null,{"$f":"IF(入力情報!E593<>\"\",入力情報!E593,\"\")","v":""}]
[null,{"$f":"IF(入力情報!E604<>\"\",入力情報!E604,\"\")","v":""}]
[null,{"$f":"IF(入力情報!E605<>\"\",入力情報!E605,\"\")","v":""}]
[null,{"$f":"IF(入力情報!E616<>\"\",入力情報!E616,\"\")","v":""}]
[null,{"$f":"IF(入力情報!E617<>\"\",入力情報!E617,\"\")","v":""}]
["shall be the managing members and shall execute the business of the Company."]
["は、業務執行社員とし、当会社の業務を執行するものとする。"]
[]
["(Representative Member)（代表社員）"]
[{"$f":"\"rticle 9 The representative member shall be \"&IF(入力情報!E12=\"\",   ,入力情報!E12)","v":"rticle 9 The representative member shall be Mary Smith"}]
[{"$f":"\"第９条　代表社員は　\"&IF(入力情報!E13=\"\",   ,入力情報!E13)&\"　とする。\"","v":"第９条　代表社員は　メアリー　スミス 　とする。"}]
[]
["(Business Year)（事業年度）"]
[{"$f":"\"Article 10 The business year of the Company shall be from \" & IF(ISERROR(VLOOKUP(入力情報!E751,work!$AE:$AF,2,FALSE)),\"\", VLOOKUP(入力情報!E751,work!$AE:$AF,2,FALSE)) & \" 1 to the last day of \" & IF(ISERROR(VLOOKUP(入力情報!E752,work!$AE:$AF,2,FALSE)),\"\", VLOOKUP(入力情報!E752,work!$AE:$AF,2,FALSE)) & \" in the following year.\"","v":"Article 10 The business year of the Company shall be from April 1 to the last day of March in the following year."}]
[{"$f":"\"第 10 条 当会社の事業年度は、毎年\" & DBCS(入力情報!E751) & \"月１日から翌年\" & DBCS(入力情報!E752) & \"月末日までとする。\"","v":"第 10 条 当会社の事業年度は、毎年４月１日から翌年３月末日までとする。"}]
[]
["（The Amount of Capital of the Company）（資本金の額）"]
[{"$f":"\"Article 11 The amount of capital of the Company shall be as follows; \"&IF(入力情報!E640=\"\",,DBCS(TEXT(入力情報!E640,\"0,000\"))&\" yen\")","v":"Article 11 The amount of capital of the Company shall be as follows; ３，０００，０００ yen"}]
["第 11 条　当会社の資本金の額は次のとおりである。"]
[null,{"$f":"\"　　　金\"&IF(入力情報!E640=\"\",,DBCS(TEXT(入力情報!E640,\"0,000\"))&\"円\")","v":"　　　金３，０００，０００円"}]
[]
[{"$f":"\" above-stated, in order to establish　\"&IF(入力情報!E6=\"\",   ,入力情報!E6)&\" Limited Liability Company, the articles of incorporation is prepared, and the members affix the name and seal（or signatures）below.\"","v":" above-stated, in order to establish　SampleName Limited Liability Company, the articles of incorporation is prepared, and the members affix the name and seal（or signatures）below."}]
[{"$f":"\"　以上、\"&IF(入力情報!E7=\"\",   ,入力情報!E7)&\"合同会社の設立のため、この定款を作成し、社員が次に記名押印(署名)する\"","v":"　以上、サンプルネーム合同会社の設立のため、この定款を作成し、社員が次に記名押印(署名)する"}]
[]
[null,{"$f":"入力情報!E748&\" year, \"&入力情報!E749&\" month-\"&入力情報!E750&\" day\"","v":"2024 year, 1 month-31 day"}]
[null,{"$f":"DBCS(入力情報!E748)&\"年\"&DBCS(入力情報!E749)&\"月\"&DBCS(入力情報!E750)&\"日\"","v":"２０２４年１月３１日"}]
[]
[null,{"$f":"\"Member with Limited Liability: \"&IF(入力情報!E28<>\"\",入力情報!E28,\"\")&\" (Seal or signatures)\"","v":"Member with Limited Liability: Mary Smith (Seal or signatures)"}]
[null,{"$f":"\"有限責任社員　\"&IF(入力情報!E29<>\"\",入力情報!E29,\"\")","v":"有限責任社員　メアリー　スミス "}]
[]
[null,{"$f":"\"Member with Limited Liability: \"&IF(入力情報!E40<>\"\",入力情報!E40,\"\")&\" (Seal or signatures)\"","v":"Member with Limited Liability: Michael Smith (Seal or signatures)"}]
[null,{"$f":"\"有限責任社員　\"&IF(入力情報!E41<>\"\",入力情報!E41,\"\")","v":"有限責任社員　マイケル　スミス"}]
[]
[null,{"$f":"\"Member with Limited Liability: \"&IF(入力情報!E52<>\"\",入力情報!E52,\"\")&\" (Seal or signatures)\"","v":"Member with Limited Liability: Hanako Suzuki (Seal or signatures)"}]
[null,{"$f":"\"有限責任社員　\"&IF(入力情報!E53<>\"\",入力情報!E53,\"\")","v":"有限責任社員　鈴木 花子"}]
[]
[null,{"$f":"\"Member with Limited Liability: \"&IF(入力情報!E64<>\"\",入力情報!E64,\"\")&\" (Seal or signatures)\"","v":"Member with Limited Liability:  (Seal or signatures)"}]
[null,{"$f":"\"有限責任社員　\"&IF(入力情報!E65<>\"\",入力情報!E65,\"\")","v":"有限責任社員　"}]
[]
[null,{"$f":"\"Member with Limited Liability: \"&IF(入力情報!E76<>\"\",入力情報!E76,\"\")&\" (Seal or signatures)\"","v":"Member with Limited Liability:  (Seal or signatures)"}]
[null,{"$f":"\"有限責任社員　\"&IF(入力情報!E77<>\"\",入力情報!E77,\"\")","v":"有限責任社員　"}]
[]
[null,{"$f":"\"Member with Limited Liability: \"&IF(入力情報!E88<>\"\",入力情報!E88,\"\")&\" (Seal or signatures)\"","v":"Member with Limited Liability:  (Seal or signatures)"}]
[null,{"$f":"\"有限責任社員　\"&IF(入力情報!E89<>\"\",入力情報!E89,\"\")","v":"有限責任社員　"}]
[]
[null,{"$f":"\"Member with Limited Liability: \"&IF(入力情報!E100<>\"\",入力情報!E100,\"\")&\" (Seal or signatures)\"","v":"Member with Limited Liability:  (Seal or signatures)"}]
[null,{"$f":"\"有限責任社員　\"&IF(入力情報!E101<>\"\",入力情報!E101,\"\")","v":"有限責任社員　"}]
[]
[null,{"$f":"\"Member with Limited Liability: \"&IF(入力情報!E112<>\"\",入力情報!E112,\"\")&\" (Seal or signatures)\"","v":"Member with Limited Liability:  (Seal or signatures)"}]
[null,{"$f":"\"有限責任社員　\"&IF(入力情報!E113<>\"\",入力情報!E113,\"\")","v":"有限責任社員　"}]
[]
[null,{"$f":"\"Member with Limited Liability: \"&IF(入力情報!E124<>\"\",入力情報!E124,\"\")&\" (Seal or signatures)\"","v":"Member with Limited Liability:  (Seal or signatures)"}]
[null,{"$f":"\"有限責任社員　\"&IF(入力情報!E125<>\"\",入力情報!E125,\"\")","v":"有限責任社員　"}]
[]
[null,{"$f":"\"Member with Limited Liability: \"&IF(入力情報!E136<>\"\",入力情報!E136,\"\")&\" (Seal or signatures)\"","v":"Member with Limited Liability:  (Seal or signatures)"}]
[null,{"$f":"\"有限責任社員　\"&IF(入力情報!E137<>\"\",入力情報!E137,\"\")","v":"有限責任社員　"}]
[]
[null,{"$f":"\"Member with Limited Liability: \"&IF(入力情報!E148<>\"\",入力情報!E148,\"\")&\" (Seal or signatures)\"","v":"Member with Limited Liability:  (Seal or signatures)"}]
[null,{"$f":"\"有限責任社員　\"&IF(入力情報!E149<>\"\",入力情報!E149,\"\")","v":"有限責任社員　"}]
[]
[null,{"$f":"\"Member with Limited Liability: \"&IF(入力情報!E160<>\"\",入力情報!E160,\"\")&\" (Seal or signatures)\"","v":"Member with Limited Liability:  (Seal or signatures)"}]
[null,{"$f":"\"有限責任社員　\"&IF(入力情報!E161<>\"\",入力情報!E161,\"\")","v":"有限責任社員　"}]
[]
[null,{"$f":"\"Member with Limited Liability: \"&IF(入力情報!E172<>\"\",入力情報!E172,\"\")&\" (Seal or signatures)\"","v":"Member with Limited Liability:  (Seal or signatures)"}]
[null,{"$f":"\"有限責任社員　\"&IF(入力情報!E173<>\"\",入力情報!E173,\"\")","v":"有限責任社員　"}]
[]
[null,{"$f":"\"Member with Limited Liability: \"&IF(入力情報!E184<>\"\",入力情報!E184,\"\")&\" (Seal or signatures)\"","v":"Member with Limited Liability:  (Seal or signatures)"}]
[null,{"$f":"\"有限責任社員　\"&IF(入力情報!E185<>\"\",入力情報!E185,\"\")","v":"有限責任社員　"}]
[]
[null,{"$f":"\"Member with Limited Liability: \"&IF(入力情報!E196<>\"\",入力情報!E196,\"\")&\" (Seal or signatures)\"","v":"Member with Limited Liability:  (Seal or signatures)"}]
[null,{"$f":"\"有限責任社員　\"&IF(入力情報!E197<>\"\",入力情報!E197,\"\")","v":"有限責任社員　"}]
[]
[null,{"$f":"\"Member with Limited Liability: \"&IF(入力情報!E208<>\"\",入力情報!E208,\"\")&\" (Seal or signatures)\"","v":"Member with Limited Liability:  (Seal or signatures)"}]
[null,{"$f":"\"有限責任社員　\"&IF(入力情報!E209<>\"\",入力情報!E209,\"\")","v":"有限責任社員　"}]
[]
[null,{"$f":"\"Member with Limited Liability: \"&IF(入力情報!E220<>\"\",入力情報!E220,\"\")&\" (Seal or signatures)\"","v":"Member with Limited Liability:  (Seal or signatures)"}]
[null,{"$f":"\"有限責任社員　\"&IF(入力情報!E221<>\"\",入力情報!E221,\"\")","v":"有限責任社員　"}]
[]
[null,{"$f":"\"Member with Limited Liability: \"&IF(入力情報!E232<>\"\",入力情報!E232,\"\")&\" (Seal or signatures)\"","v":"Member with Limited Liability:  (Seal or signatures)"}]
[null,{"$f":"\"有限責任社員　\"&IF(入力情報!E233<>\"\",入力情報!E233,\"\")","v":"有限責任社員　"}]
[]
[null,{"$f":"\"Member with Limited Liability: \"&IF(入力情報!E244<>\"\",入力情報!E244,\"\")&\" (Seal or signatures)\"","v":"Member with Limited Liability:  (Seal or signatures)"}]
[null,{"$f":"\"有限責任社員　\"&IF(入力情報!E245<>\"\",入力情報!E245,\"\")","v":"有限責任社員　"}]
[]
[null,{"$f":"\"Member with Limited Liability: \"&IF(入力情報!E256<>\"\",入力情報!E256,\"\")&\" (Seal or signatures)\"","v":"Member with Limited Liability:  (Seal or signatures)"}]
[null,{"$f":"\"有限責任社員　\"&IF(入力情報!E257<>\"\",入力情報!E257,\"\")","v":"有限責任社員　"}]
[]
[null,{"$f":"\"Member with Limited Liability: \"&IF(入力情報!E268<>\"\",入力情報!E268,\"\")&\" (Seal or signatures)\"","v":"Member with Limited Liability:  (Seal or signatures)"}]
[null,{"$f":"\"有限責任社員　\"&IF(入力情報!E269<>\"\",入力情報!E269,\"\")","v":"有限責任社員　"}]
[]
[null,{"$f":"\"Member with Limited Liability: \"&IF(入力情報!E280<>\"\",入力情報!E280,\"\")&\" (Seal or signatures)\"","v":"Member with Limited Liability:  (Seal or signatures)"}]
[null,{"$f":"\"有限責任社員　\"&IF(入力情報!E281<>\"\",入力情報!E281,\"\")","v":"有限責任社員　"}]
[]
[null,{"$f":"\"Member with Limited Liability: \"&IF(入力情報!E292<>\"\",入力情報!E292,\"\")&\" (Seal or signatures)\"","v":"Member with Limited Liability:  (Seal or signatures)"}]
[null,{"$f":"\"有限責任社員　\"&IF(入力情報!E293<>\"\",入力情報!E293,\"\")","v":"有限責任社員　"}]
[{"$nulls":9},{"$f":"A529","v":0}]
[null,{"$f":"\"Member with Limited Liability: \"&IF(入力情報!E304<>\"\",入力情報!E304,\"\")&\" (Seal or signatures)\"","v":"Member with Limited Liability:  (Seal or signatures)"}]
[null,{"$f":"\"有限責任社員　\"&IF(入力情報!E305<>\"\",入力情報!E305,\"\")","v":"有限責任社員　"}]
[]
[null,{"$f":"\"Member with Limited Liability: \"&IF(入力情報!E316<>\"\",入力情報!E316,\"\")&\" (Seal or signatures)\"","v":"Member with Limited Liability:  (Seal or signatures)"}]
[null,{"$f":"\"有限責任社員　\"&IF(入力情報!E317<>\"\",入力情報!E317,\"\")","v":"有限責任社員　"}]
[]
[null,{"$f":"\"Member with Limited Liability: \"&IF(入力情報!E328<>\"\",入力情報!E328,\"\")&\" (Seal or signatures)\"","v":"Member with Limited Liability:  (Seal or signatures)"}]
[null,{"$f":"\"有限責任社員　\"&IF(入力情報!E329<>\"\",入力情報!E329,\"\")","v":"有限責任社員　"}]
[]
[null,{"$f":"\"Member with Limited Liability: \"&IF(入力情報!E340<>\"\",入力情報!E340,\"\")&\" (Seal or signatures)\"","v":"Member with Limited Liability:  (Seal or signatures)"}]
[null,{"$f":"\"有限責任社員　\"&IF(入力情報!E341<>\"\",入力情報!E341,\"\")","v":"有限責任社員　"}]
[]
[null,{"$f":"\"Member with Limited Liability: \"&IF(入力情報!E352<>\"\",入力情報!E352,\"\")&\" (Seal or signatures)\"","v":"Member with Limited Liability:  (Seal or signatures)"}]
[null,{"$f":"\"有限責任社員　\"&IF(入力情報!E353<>\"\",入力情報!E353,\"\")","v":"有限責任社員　"}]
[]
[null,{"$f":"\"Member with Limited Liability: \"&IF(入力情報!E364<>\"\",入力情報!E364,\"\")&\" (Seal or signatures)\"","v":"Member with Limited Liability:  (Seal or signatures)"}]
[null,{"$f":"\"有限責任社員　\"&IF(入力情報!E365<>\"\",入力情報!E365,\"\")","v":"有限責任社員　"}]
[]
[null,{"$f":"\"Member with Limited Liability: \"&IF(入力情報!E376<>\"\",入力情報!E376,\"\")&\" (Seal or signatures)\"","v":"Member with Limited Liability:  (Seal or signatures)"}]
[null,{"$f":"\"有限責任社員　\"&IF(入力情報!E377<>\"\",入力情報!E377,\"\")","v":"有限責任社員　"}]
[]
[null,{"$f":"\"Member with Limited Liability: \"&IF(入力情報!E388<>\"\",入力情報!E388,\"\")&\" (Seal or signatures)\"","v":"Member with Limited Liability:  (Seal or signatures)"}]
[null,{"$f":"\"有限責任社員　\"&IF(入力情報!E389<>\"\",入力情報!E389,\"\")","v":"有限責任社員　"}]
[]
[null,{"$f":"\"Member with Limited Liability: \"&IF(入力情報!E400<>\"\",入力情報!E400,\"\")&\" (Seal or signatures)\"","v":"Member with Limited Liability:  (Seal or signatures)"}]
[null,{"$f":"\"有限責任社員　\"&IF(入力情報!E401<>\"\",入力情報!E401,\"\")","v":"有限責任社員　"}]
[]
[null,{"$f":"\"Member with Limited Liability: \"&IF(入力情報!E412<>\"\",入力情報!E412,\"\")&\" (Seal or signatures)\"","v":"Member with Limited Liability:  (Seal or signatures)"}]
[null,{"$f":"\"有限責任社員　\"&IF(入力情報!E413<>\"\",入力情報!E413,\"\")","v":"有限責任社員　"}]
[]
[null,{"$f":"\"Member with Limited Liability: \"&IF(入力情報!E424<>\"\",入力情報!E424,\"\")&\" (Seal or signatures)\"","v":"Member with Limited Liability:  (Seal or signatures)"}]
[null,{"$f":"\"有限責任社員　\"&IF(入力情報!E425<>\"\",入力情報!E425,\"\")","v":"有限責任社員　"}]
[]
[null,{"$f":"\"Member with Limited Liability: \"&IF(入力情報!E436<>\"\",入力情報!E436,\"\")&\" (Seal or signatures)\"","v":"Member with Limited Liability:  (Seal or signatures)"}]
[null,{"$f":"\"有限責任社員　\"&IF(入力情報!E437<>\"\",入力情報!E437,\"\")","v":"有限責任社員　"}]
[]
[null,{"$f":"\"Member with Limited Liability: \"&IF(入力情報!E448<>\"\",入力情報!E448,\"\")&\" (Seal or signatures)\"","v":"Member with Limited Liability:  (Seal or signatures)"}]
[null,{"$f":"\"有限責任社員　\"&IF(入力情報!E449<>\"\",入力情報!E449,\"\")","v":"有限責任社員　"}]
[]
[null,{"$f":"\"Member with Limited Liability: \"&IF(入力情報!E460<>\"\",入力情報!E460,\"\")&\" (Seal or signatures)\"","v":"Member with Limited Liability:  (Seal or signatures)"}]
[null,{"$f":"\"有限責任社員　\"&IF(入力情報!E461<>\"\",入力情報!E461,\"\")","v":"有限責任社員　"}]
[]
[null,{"$f":"\"Member with Limited Liability: \"&IF(入力情報!E472<>\"\",入力情報!E472,\"\")&\" (Seal or signatures)\"","v":"Member with Limited Liability:  (Seal or signatures)"}]
[null,{"$f":"\"有限責任社員　\"&IF(入力情報!E473<>\"\",入力情報!E473,\"\")","v":"有限責任社員　"}]
[]
[null,{"$f":"\"Member with Limited Liability: \"&IF(入力情報!E484<>\"\",入力情報!E484,\"\")&\" (Seal or signatures)\"","v":"Member with Limited Liability:  (Seal or signatures)"}]
[null,{"$f":"\"有限責任社員　\"&IF(入力情報!E485<>\"\",入力情報!E485,\"\")","v":"有限責任社員　"}]
[]
[null,{"$f":"\"Member with Limited Liability: \"&IF(入力情報!E496<>\"\",入力情報!E496,\"\")&\" (Seal or signatures)\"","v":"Member with Limited Liability:  (Seal or signatures)"}]
[null,{"$f":"\"有限責任社員　\"&IF(入力情報!E497<>\"\",入力情報!E497,\"\")","v":"有限責任社員　"}]
[]
[null,{"$f":"\"Member with Limited Liability: \"&IF(入力情報!E508<>\"\",入力情報!E508,\"\")&\" (Seal or signatures)\"","v":"Member with Limited Liability:  (Seal or signatures)"}]
[null,{"$f":"\"有限責任社員　\"&IF(入力情報!E509<>\"\",入力情報!E509,\"\")","v":"有限責任社員　"}]
[]
[null,{"$f":"\"Member with Limited Liability: \"&IF(入力情報!E520<>\"\",入力情報!E520,\"\")&\" (Seal or signatures)\"","v":"Member with Limited Liability:  (Seal or signatures)"}]
[null,{"$f":"\"有限責任社員　\"&IF(入力情報!E521<>\"\",入力情報!E521,\"\")","v":"有限責任社員　"}]
[]
[null,{"$f":"\"Member with Limited Liability: \"&IF(入力情報!E532<>\"\",入力情報!E532,\"\")&\" (Seal or signatures)\"","v":"Member with Limited Liability:  (Seal or signatures)"}]
[null,{"$f":"\"有限責任社員　\"&IF(入力情報!E533<>\"\",入力情報!E533,\"\")","v":"有限責任社員　"}]
[]
[null,{"$f":"\"Member with Limited Liability: \"&IF(入力情報!E544<>\"\",入力情報!E544,\"\")&\" (Seal or signatures)\"","v":"Member with Limited Liability:  (Seal or signatures)"}]
[null,{"$f":"\"有限責任社員　\"&IF(入力情報!E545<>\"\",入力情報!E545,\"\")","v":"有限責任社員　"}]
[]
[null,{"$f":"\"Member with Limited Liability: \"&IF(入力情報!E556<>\"\",入力情報!E556,\"\")&\" (Seal or signatures)\"","v":"Member with Limited Liability:  (Seal or signatures)"}]
[null,{"$f":"\"有限責任社員　\"&IF(入力情報!E557<>\"\",入力情報!E557,\"\")","v":"有限責任社員　"}]
[]
[null,{"$f":"\"Member with Limited Liability: \"&IF(入力情報!E568<>\"\",入力情報!E568,\"\")&\" (Seal or signatures)\"","v":"Member with Limited Liability:  (Seal or signatures)"}]
[null,{"$f":"\"有限責任社員　\"&IF(入力情報!E569<>\"\",入力情報!E569,\"\")","v":"有限責任社員　"}]
[]
[null,{"$f":"\"Member with Limited Liability: \"&IF(入力情報!E580<>\"\",入力情報!E580,\"\")&\" (Seal or signatures)\"","v":"Member with Limited Liability:  (Seal or signatures)"}]
[null,{"$f":"\"有限責任社員　\"&IF(入力情報!E581<>\"\",入力情報!E581,\"\")","v":"有限責任社員　"}]
[]
[null,{"$f":"\"Member with Limited Liability: \"&IF(入力情報!E592<>\"\",入力情報!E592,\"\")&\" (Seal or signatures)\"","v":"Member with Limited Liability:  (Seal or signatures)"}]
[null,{"$f":"\"有限責任社員　\"&IF(入力情報!E593<>\"\",入力情報!E593,\"\")","v":"有限責任社員　"}]
[]
[null,{"$f":"\"Member with Limited Liability: \"&IF(入力情報!E604<>\"\",入力情報!E604,\"\")&\" (Seal or signatures)\"","v":"Member with Limited Liability:  (Seal or signatures)"}]
[null,{"$f":"\"有限責任社員　\"&IF(入力情報!E605<>\"\",入力情報!E605,\"\")","v":"有限責任社員　"}]
[]
[null,{"$f":"\"Member with Limited Liability: \"&IF(入力情報!E616<>\"\",入力情報!E616,\"\")&\" (Seal or signatures)\"","v":"Member with Limited Liability:  (Seal or signatures)"}]
[null,{"$f":"\"有限責任社員　\"&IF(入力情報!E617<>\"\",入力情報!E617,\"\")","v":"有限責任社員　"}]

{"sheet":"Application for Registration申請書","index":4,"n_rows":536,"n_cols":15,"rows_kept":536,"merged":[[0,1,0,22],[4,0,6,23],[9,2,9,5],[11,2,11,5],[13,2,13,5],[13,6,13,22],[14,2,14,5],[14,6,14,22],[16,2,16,5],[16,6,16,23],[17,2,17,5],[19,2,19,5],[20,2,20,5],[22,2,22,5],[23,2,23,5],[25,2,25,5],[26,2,26,5],[28,2,28,5],[30,13,30,16],[31,14,31,15],[32,13,32,16],[33,14,33,15],[41,1,41,4],[41,5,41,22],[42,1,42,4],[42,5,42,22],[44,6,44,22],[45,1,45,4],[45,6,45,22],[47,5,47,23],[48,5,48,23],[50,1,50,23],[118,6,118,23],[119,3,119,22],[121,6,121,23],[122,3,122,22],[123,5,123,23],[124,5,124,23],[125,5,125,23],[126,5,126,23],[127,5,127,23],[128,5,128,23],[129,5,129,23],[130,5,130,23],[131,5,131,23],[132,5,132,23],[133,5,133,23],[134,5,134,23],[135,5,135,23],[136,5,136,23],[137,5,137,23],[138,5,138,23],[139,5,139,23],[140,5,140,23],[141,5,141,23],[142,5,142,23],[143,5,143,23],[144,5,144,23],[145,5,145,23],[146,5,146,23],[147,5,147,23],[148,5,148,23],[149,5,149,23],[150,5,150,23],[151,5,151,23],[152,5,152,23],[153,5,153,23],[154,5,154,23],[155,5,155,23],[156,5,156,23],[157,5,157,23],[158,5,158,23],[159,5,159,23],[160,5,160,23],[161,5,161,23],[162,5,162,23],[163,5,163,23],[164,5,164,23],[165,5,165,23],[166,5,166,23],[167,5,167,23],[168,5,168,23],[169,5,169,23],[170,5,170,23],[171,5,171,23],[172,5,172,23],[173,5,173,23],[174,5,174,23],[175,5,175,23],[176,5,176,23],[177,5,177,23],[178,5,178,23],[179,5,179,23],[180,5,180,23],[181,5,181,23],[182,5,182,23],[183,5,183,23],[184,5,184,23],[185,5,185,23],[186,5,186,23],[187,5,187,23],[188,5,188,23],[189,5,189,23],[190,5,190,23],[191,5,191,23],[192,5,192,23],[193,5,193,23],[194,5,194,23],[195,5,195,23],[196,5,196,23],[197,5,197,23],[198,5,198,23],[199,5,199,23],[200,5,200,23],[201,5,201,23],[202,5,202,23],[203,5,203,23],[204,5,204,23],[205,5,205,23],[206,5,206,23],[207,5,207,23],[208,5,208,23],[209,5,209,23],[210,5,210,23],[211,5,211,23],[212,5,212,23],[213,5,213,23],[214,5,214,23],[215,5,215,23],[216,5,216,23],[217,5,217,23],[218,5,218,23],[219,5,219,23],[220,5,220,23],[221,5,221,23],[222,5,222,23]]}
[null,"英語による申請書等作成支援ツールにより作成（合同会社）"]
[]
[]
[]
["Application for Registration of Establishment of Limited Liability Company\n合同会社設立登記申請書"]
[]
[]
[]
[null,null,"Furigana:  ",{"$nulls":3},{"$f":"IF(入力情報!E7 = \"\", \"\", 入力情報!E7)","v":"サンプルネーム"}]
[null,{"$f":"\"1.\"","v":"1."},"Trade Name",{"$nulls":3},{"$f":"入力情報!E6&\" Limited Liability Company\"","v":"SampleName Limited Liability Company"}]
[null,null,"フリガナ",{"$nulls":3},{"$f":"IF(入力情報!E7 = \"\", \"\", 入力情報!E7)","v":"サンプルネーム"}]
[null,{"$f":"\"１．\"","v":"１．"},"商 号",{"$nulls":3},{"$f":"IF(入力情報!E6=\"\", \"                                  \", 入力情報!E6)&\"合同会社\"","v":"SampleName合同会社"}]
[]
[null,{"$f":"\"1.\"","v":"1."},"Head Office",{"$nulls":3},{"$f":"入力情報!E632&\" \"&入力情報!E634 & \" \"&入力情報!E635","v":"Tokyoto Otaku Chuo 22-33-44 Shinsekai Building Room 101"}]
[null,{"$f":"\"１．\"","v":"１．"},"本 店 ",{"$nulls":3},{"$f":"IF(入力情報!E633=\"\",\"                                               \",入力情報!E633)&DBCS(入力情報!E634)&入力情報!E636","v":"東京都 大田区 中央２２－３３－４４新世界ビル101号室"}]
[]
[null,{"$f":"\"1.\"","v":"1."},"Grounds for registration",{"$nulls":3},"Completion of establishment procedures"]
[null,{"$f":"\"１．\"","v":"１．"},"登記の事由",{"$nulls":3},"設立の手続終了"]
[]
[null,{"$f":"\"1.\"","v":"1."},"Matters to be Registered",{"$nulls":3},"As attached"]
[null,{"$f":"\"１．\"","v":"１．"},"登記すべき事項",{"$nulls":3},"別紙のとおり "]
[]
[null,{"$f":"\"1.\"","v":"1."},"The Amount of Tax Base ",{"$nulls":3},{"$f":"TEXT(入力情報!E640,\"0,000\")&\" yen\"","v":"3,000,000 yen"}]
[null,{"$f":"\"１．\"","v":"１．"},"課税標準金額 ",{"$nulls":3},{"$f":"\"金 \"&DBCS(TEXT(入力情報!E640,\"0,000\"))&\" 円\"","v":"金 ３，０００，０００ 円"}]
[]
[null,{"$f":"\"1.\"","v":"1."},"Registration and License Tax",{"$nulls":3},{"$f":"TEXT(入力情報!E759,\"0,000\")&\" yen\"","v":"60,000 yen"}]
[null,{"$f":"\"１．\"","v":"１．"},"登録免許税",{"$nulls":3},{"$f":"\"金 \"&DBCS(TEXT(入力情報!E759,\"0,000\"))&\" 円\"","v":"金 ６０，０００ 円"}]
[]
[null,{"$f":"\"１．\"","v":"１．"},"Attachments 添付書類"]
[]
[null,null,"Articles of Incorporation ",{"$nulls":10},"1 copy"]
[null,null,"定款",{"$nulls":11},"１ 通"]
[null,null,"Documents Evidencing the Payment",{"$nulls":10},"1 copy"]
[null,null,"払込みを証する書面",{"$nulls":11},"１ 通"]
[]
[null,null,"I hereby apply for registration as described above. "]
[null,null,"上記のとおり、登記の申請をします。"]
[]
[null,null,{"$f":"入力情報!E760&\" year, \"&入力情報!E761&\" month-\"&入力情報!E762&\" day\"","v":"2024 year, 8 month-10 day"}]
[null,null,{"$f":"DBCS(入力情報!E760)&\"年\"&DBCS(入力情報!E761)&\"月\"&DBCS(入力情報!E762)&\"日\"","v":"２０２４年８月１０日"}]
[]
[null,"Applicant",{"$nulls":3},{"$f":"G14& CHAR(10) &G10","v":"Tokyoto Otaku Chuo 22-33-44 Shinsekai Building Room 101\nSampleName Limited Liability Company"}]
[null,"申請人",{"$nulls":3},{"$f":"G15& CHAR(10) &G12","v":"東京都 大田区 中央２２－３３－４４新世界ビル101号室\nSampleName合同会社"}]
[]
[null,"Representative Member",{"$nulls":4},{"$f":"IF(入力情報!E12=\"\",\"\",入力情報!E17&\" \"&入力情報!E19 & \" \"&入力情報!E20& CHAR(10) &入力情報!E12)","v":"Tokyoto Otaku Chuo 1-1-11 Shinsekai Building Room 99\nMary Smith"}]
[null,"代表社員",{"$nulls":4},{"$f":"IF(入力情報!E13=\"\",\"\",入力情報!E18&\" \"&入力情報!E19 & \" \"&入力情報!E21& CHAR(10) &入力情報!E13)","v":"東京都 大田区 中央 1-1-11 新世界ビル99号室\nメアリー　スミス "}]
[]
[{"$nulls":5},{"$f":"\"Phone Number for Contact （連絡先の電話番号）\" & CHAR(10) & 入力情報!E763","v":"Phone Number for Contact （連絡先の電話番号）\n090-4823-7894"}]
[{"$nulls":5},{"$f":"\"E-mail address for Contact（連絡先の電子メールアドレス）\"  & CHAR(10) & 入力情報!E764","v":"E-mail address for Contact（連絡先の電子メールアドレス）\ntest01@hotmail.com"}]
[]
[null,{"$f":"\"To: \" & 入力情報!E765 & CHAR(10) & \"      \" & IF(ISERROR(VLOOKUP(入力情報!E765,work!$AB:$AC,2,FALSE)),\"\", VLOOKUP(入力情報!E765,work!$AB:$AC,2,FALSE))","v":"To: Tokyo Legal Affairs Bureau Jonan Branch Office\n      東京法務局城南出張所"}]
[]
[null,"Revenue Stamp Mount（収入印紙貼付台紙）"]
{"$rows_empty":58}
["Attachments（別紙）"]
[]
[null,"\"Trade Name\"",{"$nulls":3},{"$f":"G10","v":"SampleName Limited Liability Company"}]
[null,"「商号」",{"$nulls":3},{"$f":"G12","v":"SampleName合同会社"}]
[null,"“Head Office” ",{"$nulls":3},{"$f":"G14","v":"Tokyoto Otaku Chuo 22-33-44 Shinsekai Building Room 101"}]
[null,"「本店」",{"$nulls":3},{"$f":"G15","v":"東京都 大田区 中央２２－３３－４４新世界ビル101号室"}]
[null,"\"Method of Public Notice\"",{"$nulls":4},{"$f":"\"By \"&入力情報!E637","v":"By electronic public notice"}]
[{"$nulls":6},{"$f":"IF(入力情報!E639=\"\",\"\",入力情報!E639)","v":"https://samplename.co.jp"}]
[{"$nulls":3},"If it is unable to give public notices by way of electronic public notice due to an accident or other unavoidable circumstances, the public notices shall be publication on the Official Gazette."]
[null,"「公告をする方法」",{"$nulls":4},{"$f":"入力情報!E638 & IF(入力情報!E638=\"電子公告\", \"の方法により行う。\", \"に掲載してする。\")","v":"電子公告の方法により行う。"}]
[{"$nulls":6},{"$f":"IF(入力情報!E639=\"\",\"\",入力情報!E639)","v":"https://samplename.co.jp"}]
[{"$nulls":3},"事故その他やむを得ない事由によって電子公告による公告をすることができない場合は、官報に掲載する方法により行う。"]
[null,"“Purpose”",{"$nulls":3},{"$f":"'Articles of Incorporation定款'!A12 & IF('Articles of Incorporation定款'!B12=\"\",\"\",'Articles of Incorporation定款'!B12)","v":"1.Business concerning finance"}]
[null,"「目的」 ",{"$nulls":3},{"$f":"'Articles of Incorporation定款'!A13 & IF('Articles of Incorporation定款'!B13=\"\",\"\",'Articles of Incorporation定款'!B13)","v":"1.金融に関する事業"}]
[{"$nulls":5},{"$f":"'Articles of Incorporation定款'!A14 & IF('Articles of Incorporation定款'!B14=\"\",\"\",'Articles of Incorporation定款'!B14)","v":"2.Sales of daily necessities, sports equipment, etc."}]
[{"$nulls":5},{"$f":"'Articles of Incorporation定款'!A15 & IF('Articles of Incorporation定款'!B15=\"\",\"\",'Articles of Incorporation定款'!B15)","v":"2.日用雑貨、スポーツ用品等の販売"}]
[{"$nulls":5},{"$f":"'Articles of Incorporation定款'!A16 & IF('Articles of Incorporation定款'!B16=\"\",\"\",'Articles of Incorporation定款'!B16)","v":"3.Manufacture of various kinds of food products"}]
[{"$nulls":5},{"$f":"'Articles of Incorporation定款'!A17 & IF('Articles of Incorporation定款'!B17=\"\",\"\",'Articles of Incorporation定款'!B17)","v":"3.各種食品の製造"}]
[{"$nulls":5},{"$f":"'Articles of Incorporation定款'!A18 & IF('Articles of Incorporation定款'!B18=\"\",\"\",'Articles of Incorporation定款'!B18)","v":"4.Cargo transportation by automobiles"}]
[{"$nulls":5},{"$f":"'Articles of Incorporation定款'!A19 & IF('Articles of Incorporation定款'!B19=\"\",\"\",'Articles of Incorporation定款'!B19)","v":"4.貨物自動車運送事業"}]
[{"$nulls":5},{"$f":"'Articles of Incorporation定款'!A20 & IF('Articles of Incorporation定款'!B20=\"\",\"\",'Articles of Incorporation定款'!B20)","v":"5.Provision of various services relating to the medical field"}]
[{"$nulls":5},{"$f":"'Articles of Incorporation定款'!A21 & IF('Articles of Incorporation定款'!B21=\"\",\"\",'Articles of Incorporation定款'!B21)","v":"5.医療に関連する各種サービスの提供"}]
[{"$nulls":5},{"$f":"'Articles of Incorporation定款'!A22 & IF('Articles of Incorporation定款'!B22=\"\",\"\",'Articles of Incorporation定款'!B22)","v":"6.Investment consulting services"}]
[{"$nulls":5},{"$f":"'Articles of Incorporation定款'!A23 & IF('Articles of Incorporation定款'!B23=\"\",\"\",'Articles of Incorporation定款'!B23)","v":"6.投資コンサルティング業務"}]
[{"$nulls":5},{"$f":"'Articles of Incorporation定款'!A24 & IF('Articles of Incorporation定款'!B24=\"\",\"\",'Articles of Incorporation定款'!B24)","v":"7.Business related to ocean resources development"}]
[{"$nulls":5},{"$f":"'Articles of Incorporation定款'!A25 & IF('Articles of Incorporation定款'!B25=\"\",\"\",'Articles of Incorporation定款'!B25)","v":"7.海洋資源開発に関する事業"}]
[{"$nulls":5},{"$f":"'Articles of Incorporation定款'!A26 & IF('Articles of Incorporation定款'!B26=\"\",\"\",'Articles of Incorporation定款'!B26)","v":"8.All businesses incidental to the preceding items."}]
[{"$nulls":5},{"$f":"'Articles of Incorporation定款'!A27 & IF('Articles of Incorporation定款'!B27=\"\",\"\",'Articles of Incorporation定款'!B27)","v":"8.前各号に付帯する一切の事業"}]
[{"$nulls":5},{"$f":"'Articles of Incorporation定款'!A28 & IF('Articles of Incorporation定款'!B28=\"\",\"\",'Articles of Incorporation定款'!B28)","v":"9."}]
[{"$nulls":5},{"$f":"'Articles of Incorporation定款'!A29 & IF('Articles of Incorporation定款'!B29=\"\",\"\",'Articles of Incorporation定款'!B29)","v":"9."}]
[{"$nulls":5},{"$f":"'Articles of Incorporation定款'!A30 & IF('Articles of Incorporation定款'!B30=\"\",\"\",'Articles of Incorporation定款'!B30)","v":"10."}]
[{"$nulls":5},{"$f":"'Articles of Incorporation定款'!A31 & IF('Articles of Incorporation定款'!B31=\"\",\"\",'Articles of Incorporation定款'!B31)","v":"10."}]
[{"$nulls":5},{"$f":"'Articles of Incorporation定款'!A32 & IF('Articles of Incorporation定款'!B32=\"\",\"\",'Articles of Incorporation定款'!B32)","v":"11."}]
[{"$nulls":5},{"$f":"'Articles of Incorporation定款'!A33 & IF('Articles of Incorporation定款'!B33=\"\",\"\",'Articles of Incorporation定款'!B33)","v":"11."}]
[{"$nulls":5},{"$f":"'Articles of Incorporation定款'!A34 & IF('Articles of Incorporation定款'!B34=\"\",\"\",'Articles of Incorporation定款'!B34)","v":"12."}]
[{"$nulls":5},{"$f":"'Articles of Incorporation定款'!A35 & IF('Articles of Incorporation定款'!B35=\"\",\"\",'Articles of Incorporation定款'!B35)","v":"12."}]
[{"$nulls":5},{"$f":"'Articles of Incorporation定款'!A36 & IF('Articles of Incorporation定款'!B36=\"\",\"\",'Articles of Incorporation定款'!B36)","v":"13."}]
[{"$nulls":5},{"$f":"'Articles of Incorporation定款'!A37 & IF('Articles of Incorporation定款'!B37=\"\",\"\",'Articles of Incorporation定款'!B37)","v":"13."}]
[{"$nulls":5},{"$f":"'Articles of Incorporation定款'!A38 & IF('Articles of Incorporation定款'!B38=\"\",\"\",'Articles of Incorporation定款'!B38)","v":"14."}]
[{"$nulls":5},{"$f":"'Articles of Incorporation定款'!A39 & IF('Articles of Incorporation定款'!B39=\"\",\"\",'Articles of Incorporation定款'!B39)","v":"14."}]
[{"$nulls":5},{"$f":"'Articles of Incorporation定款'!A40 & IF('Articles of Incorporation定款'!B40=\"\",\"\",'Articles of Incorporation定款'!B40)","v":"15."}]
[{"$nulls":5},{"$f":"'Articles of Incorporation定款'!A41 & IF('Articles of Incorporation定款'!B41=\"\",\"\",'Articles of Incorporation定款'!B41)","v":"15."}]
[{"$nulls":5},{"$f":"'Articles of Incorporation定款'!A42 & IF('Articles of Incorporation定款'!B42=\"\",\"\",'Articles of Incorporation定款'!B42)","v":"16."}]
[{"$nulls":5},{"$f":"'Articles of Incorporation定款'!A43 & IF('Articles of Incorporation定款'!B43=\"\",\"\",'Articles of Incorporation定款'!B43)","v":"16."}]
[{"$nulls":5},{"$f":"'Articles of Incorporation定款'!A44 & IF('Articles of Incorporation定款'!B44=\"\",\"\",'Articles of Incorporation定款'!B44)","v":"17."}]
[{"$nulls":5},{"$f":"'Articles of Incorporation定款'!A45 & IF('Articles of Incorporation定款'!B45=\"\",\"\",'Articles of Incorporation定款'!B45)","v":"17."}]
[{"$nulls":5},{"$f":"'Articles of Incorporation定款'!A46 & IF('Articles of Incorporation定款'!B46=\"\",\"\",'Articles of Incorporation定款'!B46)","v":"18."}]
[{"$nulls":5},{"$f":"'Articles of Incorporation定款'!A47 & IF('Articles of Incorporation定款'!B47=\"\",\"\",'Articles of Incorporation定款'!B47)","v":"18."}]
[{"$nulls":5},{"$f":"'Articles of Incorporation定款'!A48 & IF('Articles of Incorporation定款'!B48=\"\",\"\",'Articles of Incorporation定款'!B48)","v":"19."}]
[{"$nulls":5},{"$f":"'Articles of Incorporation定款'!A49 & IF('Articles of Incorporation定款'!B49=\"\",\"\",'Articles of Incorporation定款'!B49)","v":"19."}]
[{"$nulls":5},{"$f":"'Articles of Incorporation定款'!A50 & IF('Articles of Incorporation定款'!B50=\"\",\"\",'Articles of Incorporation定款'!B50)","v":"20."}]
[{"$nulls":5},{"$f":"'Articles of Incorporation定款'!A51 & IF('Articles of Incorporation定款'!B51=\"\",\"\",'Articles of Incorporation定款'!B51)","v":"20."}]
[{"$nulls":5},{"$f":"'Articles of Incorporation定款'!A52 & IF('Articles of Incorporation定款'!B52=\"\",\"\",'Articles of Incorporation定款'!B52)","v":"21."}]
[{"$nulls":5},{"$f":"'Articles of Incorporation定款'!A53 & IF('Articles of Incorporation定款'!B53=\"\",\"\",'Articles of Incorporation定款'!B53)","v":"21."}]
[{"$nulls":5},{"$f":"'Articles of Incorporation定款'!A54 & IF('Articles of Incorporation定款'!B54=\"\",\"\",'Articles of Incorporation定款'!B54)","v":"22."}]
[{"$nulls":5},{"$f":"'Articles of Incorporation定款'!A55 & IF('Articles of Incorporation定款'!B55=\"\",\"\",'Articles of Incorporation定款'!B55)","v":"22."}]
[{"$nulls":5},{"$f":"'Articles of Incorporation定款'!A56 & IF('Articles of Incorporation定款'!B56=\"\",\"\",'Articles of Incorporation定款'!B56)","v":"23."}]
[{"$nulls":5},{"$f":"'Articles of Incorporation定款'!A57 & IF('Articles of Incorporation定款'!B57=\"\",\"\",'Articles of Incorporation定款'!B57)","v":"23."}]
[{"$nulls":5},{"$f":"'Articles of Incorporation定款'!A58 & IF('Articles of Incorporation定款'!B58=\"\",\"\",'Articles of Incorporation定款'!B58)","v":"24."}]
[{"$nulls":5},{"$f":"'Articles of Incorporation定款'!A59 & IF('Articles of Incorporation定款'!B59=\"\",\"\",'Articles of Incorporation定款'!B59)","v":"24."}]
[{"$nulls":5},{"$f":"'Articles of Incorporation定款'!A60 & IF('Articles of Incorporation定款'!B60=\"\",\"\",'Articles of Incorporation定款'!B60)","v":"25."}]
[{"$nulls":5},{"$f":"'Articles of Incorporation定款'!A61 & IF('Articles of Incorporation定款'!B61=\"\",\"\",'Articles of Incorporation定款'!B61)","v":"25."}]
[{"$nulls":5},{"$f":"'Articles of Incorporation定款'!A62 & IF('Articles of Incorporation定款'!B62=\"\",\"\",'Articles of Incorporation定款'!B62)","v":"26."}]
[{"$nulls":5},{"$f":"'Articles of Incorporation定款'!A63 & IF('Articles of Incorporation定款'!B63=\"\",\"\",'Articles of Incorporation定款'!B63)","v":"26."}]
[{"$nulls":5},{"$f":"'Articles of Incorporation定款'!A64 & IF('Articles of Incorporation定款'!B64=\"\",\"\",'Articles of Incorporation定款'!B64)","v":"27."}]
[{"$nulls":5},{"$f":"'Articles of Incorporation定款'!A65 & IF('Articles of Incorporation定款'!B65=\"\",\"\",'Articles of Incorporation定款'!B65)","v":"27."}]
[{"$nulls":5},{"$f":"'Articles of Incorporation定款'!A66 & IF('Articles of Incorporation定款'!B66=\"\",\"\",'Articles of Incorporation定款'!B66)","v":"28."}]
[{"$nulls":5},{"$f":"'Articles of Incorporation定款'!A67 & IF('Articles of Incorporation定款'!B67=\"\",\"\",'Articles of Incorporation定款'!B67)","v":"28."}]
[{"$nulls":5},{"$f":"'Articles of Incorporation定款'!A68 & IF('Articles of Incorporation定款'!B68=\"\",\"\",'Articles of Incorporation定款'!B68)","v":"29."}]
[{"$nulls":5},{"$f":"'Articles of Incorporation定款'!A69 & IF('Articles of Incorporation定款'!B69=\"\",\"\",'Articles of Incorporation定款'!B69)","v":"29."}]
[{"$nulls":5},{"$f":"'Articles of Incorporation定款'!A70 & IF('Articles of Incorporation定款'!B70=\"\",\"\",'Articles of Incorporation定款'!B70)","v":"30."}]
[{"$nulls":5},{"$f":"'Articles of Incorporation定款'!A71 & IF('Articles of Incorporation定款'!B71=\"\",\"\",'Articles of Incorporation定款'!B71)","v":"30."}]
[{"$nulls":5},{"$f":"'Articles of Incorporation定款'!A72 & IF('Articles of Incorporation定款'!B72=\"\",\"\",'Articles of Incorporation定款'!B72)","v":"31."}]
[{"$nulls":5},{"$f":"'Articles of Incorporation定款'!A73 & IF('Articles of Incorporation定款'!B73=\"\",\"\",'Articles of Incorporation定款'!B73)","v":"31."}]
[{"$nulls":5},{"$f":"'Articles of Incorporation定款'!A74 & IF('Articles of Incorporation定款'!B74=\"\",\"\",'Articles of Incorporation定款'!B74)","v":"32."}]
[{"$nulls":5},{"$f":"'Articles of Incorporation定款'!A75 & IF('Articles of Incorporation定款'!B75=\"\",\"\",'Articles of Incorporation定款'!B75)","v":"32."}]
[{"$nulls":5},{"$f":"'Articles of Incorporation定款'!A76 & IF('Articles of Incorporation定款'!B76=\"\",\"\",'Articles of Incorporation定款'!B76)","v":"33."}]
[{"$nulls":5},{"$f":"'Articles of Incorporation定款'!A77 & IF('Articles of Incorporation定款'!B77=\"\",\"\",'Articles of Incorporation定款'!B77)","v":"33."}]
[{"$nulls":5},{"$f":"'Articles of Incorporation定款'!A78 & IF('Articles of Incorporation定款'!B78=\"\",\"\",'Articles of Incorporation定款'!B78)","v":"34."}]
[{"$nulls":5},{"$f":"'Articles of Incorporation定款'!A79 & IF('Articles of Incorporation定款'!B79=\"\",\"\",'Articles of Incorporation定款'!B79)","v":"34."}]
[{"$nulls":5},{"$f":"'Articles of Incorporation定款'!A80 & IF('Articles of Incorporation定款'!B80=\"\",\"\",'Articles of Incorporation定款'!B80)","v":"35."}]
[{"$nulls":5},{"$f":"'Articles of Incorporation定款'!A81 & IF('Articles of Incorporation定款'!B81=\"\",\"\",'Articles of Incorporation定款'!B81)","v":"35."}]
[{"$nulls":5},{"$f":"'Articles of Incorporation定款'!A82 & IF('Articles of Incorporation定款'!B82=\"\",\"\",'Articles of Incorporation定款'!B82)","v":"36."}]
[{"$nulls":5},{"$f":"'Articles of Incorporation定款'!A83 & IF('Articles of Incorporation定款'!B83=\"\",\"\",'Articles of Incorporation定款'!B83)","v":"36."}]
[{"$nulls":5},{"$f":"'Articles of Incorporation定款'!A84 & IF('Articles of Incorporation定款'!B84=\"\",\"\",'Articles of Incorporation定款'!B84)","v":"37."}]
[{"$nulls":5},{"$f":"'Articles of Incorporation定款'!A85 & IF('Articles of Incorporation定款'!B85=\"\",\"\",'Articles of Incorporation定款'!B85)","v":"37."}]
[{"$nulls":5},{"$f":"'Articles of Incorporation定款'!A86 & IF('Articles of Incorporation定款'!B86=\"\",\"\",'Articles of Incorporation定款'!B86)","v":"38."}]
[{"$nulls":5},{"$f":"'Articles of Incorporation定款'!A87 & IF('Articles of Incorporation定款'!B87=\"\",\"\",'Articles of Incorporation定款'!B87)","v":"38."}]
[{"$nulls":5},{"$f":"'Articles of Incorporation定款'!A88 & IF('Articles of Incorporation定款'!B88=\"\",\"\",'Articles of Incorporation定款'!B88)","v":"39."}]
[{"$nulls":5},{"$f":"'Articles of Incorporation定款'!A89 & IF('Articles of Incorporation定款'!B89=\"\",\"\",'Articles of Incorporation定款'!B89)","v":"39."}]
[{"$nulls":5},{"$f":"'Articles of Incorporation定款'!A90 & IF('Articles of Incorporation定款'!B90=\"\",\"\",'Articles of Incorporation定款'!B90)","v":"40."}]
[{"$nulls":5},{"$f":"'Articles of Incorporation定款'!A91 & IF('Articles of Incorporation定款'!B91=\"\",\"\",'Articles of Incorporation定款'!B91)","v":"40."}]
[{"$nulls":5},{"$f":"'Articles of Incorporation定款'!A92 & IF('Articles of Incorporation定款'!B92=\"\",\"\",'Articles of Incorporation定款'!B92)","v":"41."}]
[{"$nulls":5},{"$f":"'Articles of Incorporation定款'!A93 & IF('Articles of Incorporation定款'!B93=\"\",\"\",'Articles of Incorporation定款'!B93)","v":"41."}]
[{"$nulls":5},{"$f":"'Articles of Incorporation定款'!A94 & IF('Articles of Incorporation定款'!B94=\"\",\"\",'Articles of Incorporation定款'!B94)","v":"42."}]
[{"$nulls":5},{"$f":"'Articles of Incorporation定款'!A95 & IF('Articles of Incorporation定款'!B95=\"\",\"\",'Articles of Incorporation定款'!B95)","v":"42."}]
[{"$nulls":5},{"$f":"'Articles of Incorporation定款'!A96 & IF('Articles of Incorporation定款'!B96=\"\",\"\",'Articles of Incorporation定款'!B96)","v":"43."}]
[{"$nulls":5},{"$f":"'Articles of Incorporation定款'!A97 & IF('Articles of Incorporation定款'!B97=\"\",\"\",'Articles of Incorporation定款'!B97)","v":"43."}]
[{"$nulls":5},{"$f":"'Articles of Incorporation定款'!A98 & IF('Articles of Incorporation定款'!B98=\"\",\"\",'Articles of Incorporation定款'!B98)","v":"44."}]
[{"$nulls":5},{"$f":"'Articles of Incorporation定款'!A99 & IF('Articles of Incorporation定款'!B99=\"\",\"\",'Articles of Incorporation定款'!B99)","v":"44."}]
[{"$nulls":5},{"$f":"'Articles of Incorporation定款'!A100 & IF('Articles of Incorporation定款'!B100=\"\",\"\",'Articles of Incorporation定款'!B100)","v":"45."}]
[{"$nulls":5},{"$f":"'Articles of Incorporation定款'!A101 & IF('Articles of Incorporation定款'!B101=\"\",\"\",'Articles of Incorporation定款'!B101)","v":"45."}]
[{"$nulls":5},{"$f":"'Articles of Incorporation定款'!A102 & IF('Articles of Incorporation定款'!B102=\"\",\"\",'Articles of Incorporation定款'!B102)","v":"46."}]
[{"$nulls":5},{"$f":"'Articles of Incorporation定款'!A103 & IF('Articles of Incorporation定款'!B103=\"\",\"\",'Articles of Incorporation定款'!B103)","v":"46."}]
[{"$nulls":5},{"$f":"'Articles of Incorporation定款'!A104 & IF('Articles of Incorporation定款'!B104=\"\",\"\",'Articles of Incorporation定款'!B104)","v":"47."}]
[{"$nulls":5},{"$f":"'Articles of Incorporation定款'!A105 & IF('Articles of Incorporation定款'!B105=\"\",\"\",'Articles of Incorporation定款'!B105)","v":"47."}]
[{"$nulls":5},{"$f":"'Articles of Incorporation定款'!A106 & IF('Articles of Incorporation定款'!B106=\"\",\"\",'Articles of Incorporation定款'!B106)","v":"48."}]
[{"$nulls":5},{"$f":"'Articles of Incorporation定款'!A107 & IF('Articles of Incorporation定款'!B107=\"\",\"\",'Articles of Incorporation定款'!B107)","v":"48."}]
[{"$nulls":5},{"$f":"'Articles of Incorporation定款'!A108 & IF('Articles of Incorporation定款'!B108=\"\",\"\",'Articles of Incorporation定款'!B108)","v":"49."}]
[{"$nulls":5},{"$f":"'Articles of Incorporation定款'!A109 & IF('Articles of Incorporation定款'!B109=\"\",\"\",'Articles of Incorporation定款'!B109)","v":"49."}]
[{"$nulls":5},{"$f":"'Articles of Incorporation定款'!A110 & IF('Articles of Incorporation定款'!B110=\"\",\"\",'Articles of Incorporation定款'!B110)","v":"50."}]
[{"$nulls":5},{"$f":"'Articles of Incorporation定款'!A111 & IF('Articles of Incorporation定款'!B111=\"\",\"\",'Articles of Incorporation定款'!B111)","v":"50."}]
[null,"“The Amount of Stated Capital”",{"$nulls":5},{"$f":"TEXT(入力情報!E640,\"0,000\")&\" yen\"","v":"3,000,000 yen"}]
[null,"「資本金の額」",{"$nulls":4},{"$f":"\"金 \"&DBCS(TEXT(入力情報!E640,\"0,000\"))&\" 円\"","v":"金 ３，０００，０００ 円"}]
[null,"“Matters Related with Members”"]
[null,"「社員に関する事項」"]
[null,"“Qualification”  Managing Member"]
[null,"「資格」業務執行社員"]
[null,"“Name”",{"$nulls":3},{"$f":"IF(入力情報!E28<>\"\",入力情報!E28,\"\")","v":"Mary Smith"}]
[null,"「氏名」",{"$nulls":3},{"$f":"IF(入力情報!E29<>\"\",入力情報!E29,\"\")","v":"メアリー　スミス "}]
[null,"“Matters Related with Members”"]
[null,"「社員に関する事項」"]
[null,"“Qualification”  Managing Member"]
[null,"「資格」業務執行社員"]
[null,"“Name”",{"$nulls":3},{"$f":"IF(入力情報!E40<>\"\",入力情報!E40,\"\")","v":"Michael Smith"}]
[null,"「氏名」",{"$nulls":3},{"$f":"IF(入力情報!E41<>\"\",入力情報!E41,\"\")","v":"マイケル　スミス"}]
[null,"“Matters Related with Members”"]
[null,"「社員に関する事項」"]
[null,"“Qualification”  Managing Member"]
[null,"「資格」業務執行社員"]
[null,"“Name”",{"$nulls":3},{"$f":"IF(入力情報!E52<>\"\",入力情報!E52,\"\")","v":"Hanako Suzuki"}]
[null,"「氏名」",{"$nulls":3},{"$f":"IF(入力情報!E53<>\"\",入力情報!E53,\"\")","v":"鈴木 花子"}]
[null,"“Matters Related with Members”"]
[null,"「社員に関する事項」"]
[null,"“Qualification”  Managing Member"]
[null,"「資格」業務執行社員"]
[null,"“Name”",{"$nulls":3},{"$f":"IF(入力情報!E64<>\"\",入力情報!E64,\"\")","v":""}]
[null,"「氏名」",{"$nulls":3},{"$f":"IF(入力情報!E65<>\"\",入力情報!E65,\"\")","v":""}]
[null,"“Matters Related with Members”"]
[null,"「社員に関する事項」"]
[null,"“Qualification”  Managing Member"]
[null,"「資格」業務執行社員"]
[null,"“Name”",{"$nulls":3},{"$f":"IF(入力情報!E76<>\"\",入力情報!E76,\"\")","v":""}]
[null,"「氏名」",{"$nulls":3},{"$f":"IF(入力情報!E77<>\"\",入力情報!E77,\"\")","v":""}]
[null,"“Matters Related with Members”"]
[null,"「社員に関する事項」"]
[null,"“Qualification”  Managing Member"]
[null,"「資格」業務執行社員"]
[null,"“Name”",{"$nulls":3},{"$f":"IF(入力情報!E88<>\"\",入力情報!E88,\"\")","v":""}]
[null,"「氏名」",{"$nulls":3},{"$f":"IF(入力情報!E89<>\"\",入力情報!E89,\"\")","v":""}]
[null,"“Matters Related with Members”"]
[null,"「社員に関する事項」"]
[null,"“Qualification”  Managing Member"]
[null,"「資格」業務執行社員"]
[null,"“Name”",{"$nulls":3},{"$f":"IF(入力情報!E100<>\"\",入力情報!E100,\"\")","v":""}]
[null,"「氏名」",{"$nulls":3},{"$f":"IF(入力情報!E101<>\"\",入力情報!E101,\"\")","v":""}]
[null,"“Matters Related with Members”"]
[null,"「社員に関する事項」"]
[null,"“Qualification”  Managing Member"]
[null,"「資格」業務執行社員"]
[null,"“Name”",{"$nulls":3},{"$f":"IF(入力情報!E112<>\"\",入力情報!E112,\"\")","v":""}]
[null,"「氏名」",{"$nulls":3},{"$f":"IF(入力情報!E113<>\"\",入力情報!E113,\"\")","v":""}]
[null,"“Matters Related with Members”"]
[null,"「社員に関する事項」"]
[null,"“Qualification”  Managing Member"]
[null,"「資格」業務執行社員"]
[null,"“Name”",{"$nulls":3},{"$f":"IF(入力情報!E124<>\"\",入力情報!E124,\"\")","v":""}]
[null,"「氏名」",{"$nulls":3},{"$f":"IF(入力情報!E125<>\"\",入力情報!E125,\"\")","v":""}]
[null,"“Matters Related with Members”"]
[null,"「社員に関する事項」"]
[null,"“Qualification”  Managing Member"]
[null,"「資格」業務執行社員"]
[null,"“Name”",{"$nulls":3},{"$f":"IF(入力情報!E136<>\"\",入力情報!E136,\"\")","v":""}]
[null,"「氏名」",{"$nulls":3},{"$f":"IF(入力情報!E137<>\"\",入力情報!E137,\"\")","v":""}]
[null,"“Matters Related with Members”"]
[null,"「社員に関する事項」"]
[null,"“Qualification”  Managing Member"]
[null,"「資格」業務執行社員"]
[null,"“Name”",{"$nulls":3},{"$f":"IF(入力情報!E148<>\"\",入力情報!E148,\"\")","v":""}]
[null,"「氏名」",{"$nulls":3},{"$f":"IF(入力情報!E149<>\"\",入力情報!E149,\"\")","v":""}]
[null,"“Matters Related with Members”"]
[null,"「社員に関する事項」"]
[null,"“Qualification”  Managing Member"]
[null,"「資格」業務執行社員"]
[null,"“Name”",{"$nulls":3},{"$f":"IF(入力情報!E160<>\"\",入力情報!E160,\"\")","v":""}]
[null,"「氏名」",{"$nulls":3},{"$f":"IF(入力情報!E161<>\"\",入力情報!E161,\"\")","v":""}]
[null,"“Matters Related with Members”"]
[null,"「社員に関する事項」"]
[null,"“Qualification”  Managing Member"]
[null,"「資格」業務執行社員"]
[null,"“Name”",{"$nulls":3},{"$f":"IF(入力情報!E172<>\"\",入力情報!E172,\"\")","v":""}]
[null,"「氏名」",{"$nulls":3},{"$f":"IF(入力情報!E173<>\"\",入力情報!E173,\"\")","v":""}]
[null,"“Matters Related with Members”"]
[null,"「社員に関する事項」"]
[null,"“Qualification”  Managing Member"]
[null,"「資格」業務執行社員"]
[null,"“Name”",{"$nulls":3},{"$f":"IF(入力情報!E184<>\"\",入力情報!E184,\"\")","v":""}]
[null,"「氏名」",{"$nulls":3},{"$f":"IF(入力情報!E185<>\"\",入力情報!E185,\"\")","v":""}]
[null,"“Matters Related with Members”"]
[null,"「社員に関する事項」"]
[null,"“Qualification”  Managing Member"]
[null,"「資格」業務執行社員"]
[null,"“Name”",{"$nulls":3},{"$f":"IF(入力情報!E196<>\"\",入力情報!E196,\"\")","v":""}]
[null,"「氏名」",{"$nulls":3},{"$f":"IF(入力情報!E197<>\"\",入力情報!E197,\"\")","v":""}]
[null,"“Matters Related with Members”"]
[null,"「社員に関する事項」"]
[null,"“Qualification”  Managing Member"]
[null,"「資格」業務執行社員"]
[null,"“Name”",{"$nulls":3},{"$f":"IF(入力情報!E208<>\"\",入力情報!E208,\"\")","v":""}]
[null,"「氏名」",{"$nulls":3},{"$f":"IF(入力情報!E209<>\"\",入力情報!E209,\"\")","v":""}]
[null,"“Matters Related with Members”"]
[null,"「社員に関する事項」"]
[null,"“Qualification”  Managing Member"]
[null,"「資格」業務執行社員"]
[null,"“Name”",{"$nulls":3},{"$f":"IF(入力情報!E220<>\"\",入力情報!E220,\"\")","v":""}]
[null,"「氏名」",{"$nulls":3},{"$f":"IF(入力情報!E221<>\"\",入力情報!E221,\"\")","v":""}]
[null,"“Matters Related with Members”"]
[null,"「社員に関する事項」"]
[null,"“Qualification”  Managing Member"]
[null,"「資格」業務執行社員"]
[null,"“Name”",{"$nulls":3},{"$f":"IF(入力情報!E232<>\"\",入力情報!E232,\"\")","v":""}]
[null,"「氏名」",{"$nulls":3},{"$f":"IF(入力情報!E233<>\"\",入力情報!E233,\"\")","v":""}]
[null,"“Matters Related with Members”"]
[null,"「社員に関する事項」"]
[null,"“Qualification”  Managing Member"]
[null,"「資格」業務執行社員"]
[null,"“Name”",{"$nulls":3},{"$f":"IF(入力情報!E244<>\"\",入力情報!E244,\"\")","v":""}]
[null,"「氏名」",{"$nulls":3},{"$f":"IF(入力情報!E245<>\"\",入力情報!E245,\"\")","v":""}]
[null,"“Matters Related with Members”"]
[null,"「社員に関する事項」"]
[null,"“Qualification”  Managing Member"]
[null,"「資格」業務執行社員"]
[null,"“Name”",{"$nulls":3},{"$f":"IF(入力情報!E256<>\"\",入力情報!E256,\"\")","v":""}]
[null,"「氏名」",{"$nulls":3},{"$f":"IF(入力情報!E257<>\"\",入力情報!E257,\"\")","v":""}]
[null,"“Matters Related with Members”"]
[null,"「社員に関する事項」"]
[null,"“Qualification”  Managing Member"]
[null,"「資格」業務執行社員"]
[null,"“Name”",{"$nulls":3},{"$f":"IF(入力情報!E268<>\"\",入力情報!E268,\"\")","v":""}]
[null,"「氏名」",{"$nulls":3},{"$f":"IF(入力情報!E269<>\"\",入力情報!E269,\"\")","v":""}]
[null,"“Matters Related with Members”"]
[null,"「社員に関する事項」"]
[null,"“Qualification”  Managing Member"]
[null,"「資格」業務執行社員"]
[null,"“Name”",{"$nulls":3},{"$f":"IF(入力情報!E280<>\"\",入力情報!E280,\"\")","v":""}]
[null,"「氏名」",{"$nulls":3},{"$f":"IF(入力情報!E281<>\"\",入力情報!E281,\"\")","v":""}]
[null,"“Matters Related with Members”"]
[null,"「社員に関する事項」"]
[null,"“Qualification”  Managing Member"]
[null,"「資格」業務執行社員"]
[null,"“Name”",{"$nulls":3},{"$f":"IF(入力情報!E292<>\"\",入力情報!E292,\"\")","v":""}]
[null,"「氏名」",{"$nulls":3},{"$f":"IF(入力情報!E293<>\"\",入力情報!E293,\"\")","v":""}]
[null,"“Matters Related with Members”"]
[null,"「社員に関する事項」"]
[null,"“Qualification”  Managing Member"]
[null,"「資格」業務執行社員"]
[null,"“Name”",{"$nulls":3},{"$f":"IF(入力情報!E304<>\"\",入力情報!E304,\"\")","v":""}]
[null,"「氏名」",{"$nulls":3},{"$f":"IF(入力情報!E305<>\"\",入力情報!E305,\"\")","v":""}]
[null,"“Matters Related with Members”"]
[null,"「社員に関する事項」"]
[null,"“Qualification”  Managing Member"]
[null,"「資格」業務執行社員"]
[null,"“Name”",{"$nulls":3},{"$f":"IF(入力情報!E316<>\"\",入力情報!E316,\"\")","v":""}]
[null,"「氏名」",{"$nulls":3},{"$f":"IF(入力情報!E317<>\"\",入力情報!E317,\"\")","v":""}]
[null,"“Matters Related with Members”"]
[null,"「社員に関する事項」"]
[null,"“Qualification”  Managing Member"]
[null,"「資格」業務執行社員"]
[null,"“Name”",{"$nulls":3},{"$f":"IF(入力情報!E328<>\"\",入力情報!E328,\"\")","v":""}]
[null,"「氏名」",{"$nulls":3},{"$f":"IF(入力情報!E329<>\"\",入力情報!E329,\"\")","v":""}]
[null,"“Matters Related with Members”"]
[null,"「社員に関する事項」"]
[null,"“Qualification”  Managing Member"]
[null,"「資格」業務執行社員"]
[null,"“Name”",{"$nulls":3},{"$f":"IF(入力情報!E340<>\"\",入力情報!E340,\"\")","v":""}]
[null,"「氏名」",{"$nulls":3},{"$f":"IF(入力情報!E341<>\"\",入力情報!E341,\"\")","v":""}]
[null,"“Matters Related with Members”"]
[null,"「社員に関する事項」"]
[null,"“Qualification”  Managing Member"]
[null,"「資格」業務執行社員"]
[null,"“Name”",{"$nulls":3},{"$f":"IF(入力情報!E352<>\"\",入力情報!E352,\"\")","v":""}]
[null,"「氏名」",{"$nulls":3},{"$f":"IF(入力情報!E353<>\"\",入力情報!E353,\"\")","v":""}]
[null,"“Matters Related with Members”"]
[null,"「社員に関する事項」"]
[null,"“Qualification”  Managing Member"]
[null,"「資格」業務執行社員"]
[null,"“Name”",{"$nulls":3},{"$f":"IF(入力情報!E364<>\"\",入力情報!E364,\"\")","v":""}]
[null,"「氏名」",{"$nulls":3},{"$f":"IF(入力情報!E365<>\"\",入力情報!E365,\"\")","v":""}]
[null,"“Matters Related with Members”"]
[null,"「社員に関する事項」"]
[null,"“Qualification”  Managing Member"]
[null,"「資格」業務執行社員"]
[null,"“Name”",{"$nulls":3},{"$f":"IF(入力情報!E376<>\"\",入力情報!E376,\"\")","v":""}]
[null,"「氏名」",{"$nulls":3},{"$f":"IF(入力情報!E377<>\"\",入力情報!E377,\"\")","v":""}]
[null,"“Matters Related with Members”"]
[null,"「社員に関する事項」"]
[null,"“Qualification”  Managing Member"]
[null,"「資格」業務執行社員"]
[null,"“Name”",{"$nulls":3},{"$f":"IF(入力情報!E388<>\"\",入力情報!E388,\"\")","v":""}]
[null,"「氏名」",{"$nulls":3},{"$f":"IF(入力情報!E389<>\"\",入力情報!E389,\"\")","v":""}]
[null,"“Matters Related with Members”"]
[null,"「社員に関する事項」"]
[null,"“Qualification”  Managing Member"]
[null,"「資格」業務執行社員"]
[null,"“Name”",{"$nulls":3},{"$f":"IF(入力情報!E400<>\"\",入力情報!E400,\"\")","v":""}]
[null,"「氏名」",{"$nulls":3},{"$f":"IF(入力情報!E401<>\"\",入力情報!E401,\"\")","v":""}]
[null,"“Matters Related with Members”"]
[null,"「社員に関する事項」"]
[null,"“Qualification”  Managing Member"]
[null,"「資格」業務執行社員"]
[null,"“Name”",{"$nulls":3},{"$f":"IF(入力情報!E412<>\"\",入力情報!E412,\"\")","v":""}]
[null,"「氏名」",{"$nulls":3},{"$f":"IF(入力情報!E413<>\"\",入力情報!E413,\"\")","v":""}]
[null,"“Matters Related with Members”"]
[null,"「社員に関する事項」"]
[null,"“Qualification”  Managing Member"]
[null,"「資格」業務執行社員"]
[null,"“Name”",{"$nulls":3},{"$f":"IF(入力情報!E424<>\"\",入力情報!E424,\"\")","v":""}]
[null,"「氏名」",{"$nulls":3},{"$f":"IF(入力情報!E425<>\"\",入力情報!E425,\"\")","v":""}]
[null,"“Matters Related with Members”"]
[null,"「社員に関する事項」"]
[null,"“Qualification”  Managing Member"]
[null,"「資格」業務執行社員"]
[null,"“Name”",{"$nulls":3},{"$f":"IF(入力情報!E436<>\"\",入力情報!E436,\"\")","v":""}]
[null,"「氏名」",{"$nulls":3},{"$f":"IF(入力情報!E437<>\"\",入力情報!E437,\"\")","v":""}]
[null,"“Matters Related with Members”"]
[null,"「社員に関する事項」"]
[null,"“Qualification”  Managing Member"]
[null,"「資格」業務執行社員"]
[null,"“Name”",{"$nulls":3},{"$f":"IF(入力情報!E448<>\"\",入力情報!E448,\"\")","v":""}]
[null,"「氏名」",{"$nulls":3},{"$f":"IF(入力情報!E449<>\"\",入力情報!E449,\"\")","v":""}]
[null,"“Matters Related with Members”"]
[null,"「社員に関する事項」"]
[null,"“Qualification”  Managing Member"]
[null,"「資格」業務執行社員"]
[null,"“Name”",{"$nulls":3},{"$f":"IF(入力情報!E460<>\"\",入力情報!E460,\"\")","v":""}]
[null,"「氏名」",{"$nulls":3},{"$f":"IF(入力情報!E461<>\"\",入力情報!E461,\"\")","v":""}]
[null,"“Matters Related with Members”"]
[null,"「社員に関する事項」"]
[null,"“Qualification”  Managing Member"]
[null,"「資格」業務執行社員"]
[null,"“Name”",{"$nulls":3},{"$f":"IF(入力情報!E472<>\"\",入力情報!E472,\"\")","v":""}]
[null,"「氏名」",{"$nulls":3},{"$f":"IF(入力情報!E473<>\"\",入力情報!E473,\"\")","v":""}]
[null,"“Matters Related with Members”"]
[null,"「社員に関する事項」"]
[null,"“Qualification”  Managing Member"]
[null,"「資格」業務執行社員"]
[null,"“Name”",{"$nulls":3},{"$f":"IF(入力情報!E484<>\"\",入力情報!E484,\"\")","v":""}]
[null,"「氏名」",{"$nulls":3},{"$f":"IF(入力情報!E485<>\"\",入力情報!E485,\"\")","v":""}]
[null,"“Matters Related with Members”"]
[null,"「社員に関する事項」"]
[null,"“Qualification”  Managing Member"]
[null,"「資格」業務執行社員"]
[null,"“Name”",{"$nulls":3},{"$f":"IF(入力情報!E496<>\"\",入力情報!E496,\"\")","v":""}]
[null,"「氏名」",{"$nulls":3},{"$f":"IF(入力情報!E497<>\"\",入力情報!E497,\"\")","v":""}]
[null,"“Matters Related with Members”"]
[null,"「社員に関する事項」"]
[null,"“Qualification”  Managing Member"]
[null,"「資格」業務執行社員"]
[null,"“Name”",{"$nulls":3},{"$f":"IF(入力情報!E508<>\"\",入力情報!E508,\"\")","v":""}]
[null,"「氏名」",{"$nulls":3},{"$f":"IF(入力情報!E509<>\"\",入力情報!E509,\"\")","v":""}]
[null,"“Matters Related with Members”"]
[null,"「社員に関する事項」"]
[null,"“Qualification”  Managing Member"]
[null,"「資格」業務執行社員"]
[null,"“Name”",{"$nulls":3},{"$f":"IF(入力情報!E520<>\"\",入力情報!E520,\"\")","v":""}]
[null,"「氏名」",{"$nulls":3},{"$f":"IF(入力情報!E521<>\"\",入力情報!E521,\"\")","v":""}]
[null,"“Matters Related with Members”"]
[null,"「社員に関する事項」"]
[null,"“Qualification”  Managing Member"]
[null,"「資格」業務執行社員"]
[null,"“Name”",{"$nulls":3},{"$f":"IF(入力情報!E532<>\"\",入力情報!E532,\"\")","v":""}]
[null,"「氏名」",{"$nulls":3},{"$f":"IF(入力情報!E533<>\"\",入力情報!E533,\"\")","v":""}]
[null,"“Matters Related with Members”"]
[null,"「社員に関する事項」"]
[null,"“Qualification”  Managing Member"]
[null,"「資格」業務執行社員"]
[null,"“Name”",{"$nulls":3},{"$f":"IF(入力情報!E544<>\"\",入力情報!E544,\"\")","v":""}]
[null,"「氏名」",{"$nulls":3},{"$f":"IF(入力情報!E545<>\"\",入力情報!E545,\"\")","v":""}]
[null,"“Matters Related with Members”"]
[null,"「社員に関する事項」"]
[null,"“Qualification”  Managing Member"]
[null,"「資格」業務執行社員"]
[null,"“Name”",{"$nulls":3},{"$f":"IF(入力情報!E556<>\"\",入力情報!E556,\"\")","v":""}]
[null,"「氏名」",{"$nulls":3},{"$f":"IF(入力情報!E557<>\"\",入力情報!E557,\"\")","v":""}]
[null,"“Matters Related with Members”"]
[null,"「社員に関する事項」"]
[null,"“Qualification”  Managing Member"]
[null,"「資格」業務執行社員"]
[null,"“Name”",{"$nulls":3},{"$f":"IF(入力情報!E568<>\"\",入力情報!E568,\"\")","v":""}]
[null,"「氏名」",{"$nulls":3},{"$f":"IF(入力情報!E569<>\"\",入力情報!E569,\"\")","v":""}]
[null,"“Matters Related with Members”"]
[null,"「社員に関する事項」"]
[null,"“Qualification”  Managing Member"]
[null,"「資格」業務執行社員"]
[null,"“Name”",{"$nulls":3},{"$f":"IF(入力情報!E580<>\"\",入力情報!E580,\"\")","v":""}]
[null,"「氏名」",{"$nulls":3},{"$f":"IF(入力情報!E581<>\"\",入力情報!E581,\"\")","v":""}]
[null,"“Matters Related with Members”"]
[null,"「社員に関する事項」"]
[null,"“Qualification”  Managing Member"]
[null,"「資格」業務執行社員"]
[null,"“Name”",{"$nulls":3},{"$f":"IF(入力情報!E592<>\"\",入力情報!E592,\"\")","v":""}]
[null,"「氏名」",{"$nulls":3},{"$f":"IF(入力情報!E593<>\"\",入力情報!E593,\"\")","v":""}]
[null,"“Matters Related with Members”"]
[null,"「社員に関する事項」"]
[null,"“Qualification”  Managing Member"]
[null,"「資格」業務執行社員"]
[null,"“Name”",{"$nulls":3},{"$f":"IF(入力情報!E604<>\"\",入力情報!E604,\"\")","v":""}]
[null,"「氏名」",{"$nulls":3},{"$f":"IF(入力情報!E605<>\"\",入力情報!E605,\"\")","v":""}]
[null,"“Matters Related with Members”"]
[null,"「社員に関する事項」"]
[null,"“Qualification”  Managing Member"]
[null,"「資格」業務執行社員"]
[null,"“Name”",{"$nulls":3},{"$f":"IF(入力情報!E616<>\"\",入力情報!E616,\"\")","v":""}]
[null,"「氏名」",{"$nulls":3},{"$f":"IF(入力情報!E617<>\"\",入力情報!E617,\"\")","v":""}]
[]
[null,"“Matters Related with Members”"]
[null,"「社員に関する事項」"]
[null,"“Qualification”  Representative Member“"]
[null,"「資格」代表社員"]
[null,"“Address”",{"$nulls":3},{"$f":"IF(入力情報!E16=\"\",入力情報!E22,入力情報!E17&DBCS(入力情報!E19)&\" \"&入力情報!E20)","v":"Tokyoto Otaku Chuo１－１－１１ Shinsekai Building Room 99"}]
[null,"「住所」",{"$nulls":3},{"$f":"IF(入力情報!E16=\"\",IF(入力情報!E23=\"\",\"                                               \",入力情報!E23),IF(入力情報!E18=\"\",\"                                               \",入力情報!E18)&DBCS(入力情報!E19)&\" \"&入力情報!E21)","v":"東京都 大田区 中央１－１－１１ 新世界ビル99号室"}]
[null,"“Name”",{"$nulls":3},{"$f":"IF(入力情報!E12=\"\",\"\",入力情報!E12)","v":"Mary Smith"}]
[null,"「氏名」",{"$nulls":3},{"$f":"IF(入力情報!E13=\"\",\"\",入力情報!E13)","v":"メアリー　スミス "}]
[null,"“Matters Related with Registration Records” Establishment"]
[null,"「登記記録に関する事項」設立"]

{"sheet":"Certificate払込みを証する書面","index":5,"n_rows":2016,"n_cols":33,"rows_kept":2016,"merged":[[0,0,2,29],[4,1,4,29],[5,1,5,29],[36,0,38,29],[40,1,40,29],[41,1,41,29],[58,0,60,29],[62,1,62,29],[63,1,63,29],[76,0,78,29],[80,1,80,29],[81,1,81,29],[98,0,100,29],[102,1,102,29],[103,1,103,29],[116,0,118,29],[120,1,120,29],[121,1,121,29],[138,0,140,29],[142,1,142,29],[143,1,143,29],[156,0,158,29],[160,1,160,29],[161,1,161,29],[178,0,180,29],[182,1,182,29],[183,1,183,29],[196,0,198,29],[200,1,200,29],[201,1,201,29],[218,0,220,29],[222,1,222,29],[223,1,223,29],[236,0,238,29],[240,1,240,29],[241,1,241,29],[258,0,260,29],[262,1,262,29],[263,1,263,29],[276,0,278,29],[280,1,280,29],[281,1,281,29],[298,0,300,29],[302,1,302,29],[303,1,303,29],[316,0,318,29],[320,1,320,29],[321,1,321,29],[338,0,340,29],[342,1,342,29],[343,1,343,29],[356,0,358,29],[360,1,360,29],[361,1,361,29],[378,0,380,29],[382,1,382,29],[383,1,383,29],[396,0,398,29],[400,1,400,29],[401,1,401,29],[418,0,420,29],[422,1,422,29],[423,1,423,29],[436,0,438,29],[440,1,440,29],[441,1,441,29],[458,0,460,29],[462,1,462,29],[463,1,463,29],[476,0,478,29],[480,1,480,29],[481,1,481,29],[498,0,500,29],[502,1,502,29],[503,1,503,29],[516,0,518,29],[520,1,520,29],[521,1,521,29],[538,0,540,29],[542,1,542,29],[543,1,543,29],[556,0,558,29],[560,1,560,29],[561,1,561,29],[578,0,580,29],[582,1,582,29],[583,1,583,29],[596,0,598,29],[600,1,600,29],[601,1,601,29],[618,0,620,29],[622,1,622,29],[623,1,623,29],[636,0,638,29],[640,1,640,29],[641,1,641,29],[658,0,660,29],[662,1,662,29],[663,1,663,29],[676,0,678,29],[680,1,680,29],[681,1,681,29],[698,0,700,29],[702,1,702,29],[703,1,703,29],[716,0,718,29],[720,1,720,29],[721,1,721,29],[738,0,740,29],[742,1,742,29],[743,1,743,29],[756,0,758,29],[760,1,760,29],[761,1,761,29],[778,0,780,29],[782,1,782,29],[783,1,783,29],[796,0,798,29],[800,1,800,29],[801,1,801,29],[818,0,820,29],[822,1,822,29],[823,1,823,29],[836,0,838,29],[840,1,840,29],[841,1,841,29],[858,0,860,29],[862,1,862,29],[863,1,863,29],[876,0,878,29],[880,1,880,29],[881,1,881,29],[898,0,900,29],[902,1,902,29],[903,1,903,29],[916,0,918,29],[920,1,920,29],[921,1,921,29],[938,0,940,29],[942,1,942,29],[943,1,943,29],[956,0,958,29],[960,1,960,29],[961,1,961,29],[978,0,980,29],[982,1,982,29],[983,1,983,29],[996,0,998,29],[1000,1,1000,29],[1001,1,1001,29],[1018,0,1020,29],[1022,1,1022,29],[1023,1,1023,29],[1036,0,1038,29],[1040,1,1040,29],[1041,1,1041,29],[1058,0,1060,29],[1062,1,1062,29],[1063,1,1063,29],[1076,0,1078,29],[1080,1,1080,29],[1081,1,1081,29],[1098,0,1100,29],[1102,1,1102,29],[1103,1,1103,29],[1116,0,1118,29],[1120,1,1120,29],[1121,1,1121,29],[1138,0,1140,29],[1142,1,1142,29],[1143,1,1143,29],[1156,0,1158,29],[1160,1,1160,29],[1161,1,1161,29],[1178,0,1180,29],[1182,1,1182,29],[1183,1,1183,29],[1196,0,1198,29],[1200,1,1200,29],[1201,1,1201,29],[1218,0,1220,29],[1222,1,1222,29],[1223,1,1223,29],[1236,0,1238,29],[1240,1,1240,29],[1241,1,1241,29],[1258,0,1260,29],[1262,1,1262,29],[1263,1,1263,29],[1276,0,1278,29],[1280,1,1280,29],[1281,1,1281,29],[1298,0,1300,29],[1302,1,1302,29],[1303,1,1303,29],[1316,0,1318,29],[1320,1,1320,29],[1321,1,1321,29],[1338,0,1340,29],[1342,1,1342,29],[1343,1,1343,29],[1356,0,1358,29],[1360,1,1360,29],[1361,1,1361,29],[1378,0,1380,29],[1382,1,1382,29],[1383,1,1383,29],[1396,0,1398,29],[1400,1,1400,29],[1401,1,1401,29],[1418,0,1420,29],[1422,1,1422,29],[1423,1,1423,29],[1436,0,1438,29],[1440,1,1440,29],[1441,1,1441,29],[1458,0,1460,29],[1462,1,1462,29],[1463,1,1463,29],[1476,0,1478,29],[1480,1,1480,29],[1481,1,1481,29],[1498,0,1500,29],[1502,1,1502,29],[1503,1,1503,29],[1516,0,1518,29],[1520,1,1520,29],[1521,1,1521,29],[1538,0,1540,29],[1542,1,1542,29],[1543,1,1543,29],[1556,0,1558,29],[1560,1,1560,29],[1561,1,1561,29],[1578,0,1580,29],[1582,1,1582,29],[1583,1,1583,29],[1596,0,1598,29],[1600,1,1600,29],[1601,1,1601,29],[1618,0,1620,29],[1622,1,1622,29],[1623,1,1623,29],[1636,0,1638,29],[1640,1,1640,29],[1641,1,1641,29],[1658,0,1660,29],[1662,1,1662,29],[1663,1,1663,29],[1676,0,1678,29],[1680,1,1680,29],[1681,1,1681,29],[1698,0,1700,29],[1702,1,1702,29],[1703,1,1703,29],[1716,0,1718,29],[1720,1,1720,29],[1721,1,1721,29],[1738,0,1740,29],[1742,1,1742,29],[1743,1,1743,29],[1756,0,1758,29],[1760,1,1760,29],[1761,1,1761,29],[1778,0,1780,29],[1782,1,1782,29],[1783,1,1783,29],[1796,0,1798,29],[1800,1,1800,29],[1801,1,1801,29],[1818,0,1820,29],[1822,1,1822,29],[1823,1,1823,29],[1836,0,1838,29],[1840,1,1840,29],[1841,1,1841,29],[1858,0,1860,29],[1862,1,1862,29],[1863,1,1863,29],[1876,0,1878,29],[1880,1,1880,29],[1881,1,1881,29],[1898,0,1900,29],[1902,1,1902,29],[1903,1,1903,29],[1916,0,1918,29],[1920,1,1920,29],[1921,1,1921,29],[1938,0,1940,29],[1942,1,1942,29],[1943,1,1943,29],[1956,0,1958,29],[1960,1,1960,29],[1961,1,1961,29],[1978,0,1980,29],[1982,1,1982,29],[1983,1,1983,29],[1996,0,1998,29],[2000,1,2000,29],[2001,1,2001,29],[2018,0,2020,29],[2022,1,2022,29],[2023,1,2023,29]]}
["Certificate\n証明書"]
[]
[]
[]
[null,"It is proved that the payment of full amount as to stated capital of the Company has been made as follows."]
[null,"当会社の資本金については以下のとおり、全額の払込みがあったことを証明します。"]
[]
[{"$nulls":6},{"$f":"\"The Amount of Money to Be Paid \"&TEXT((入力情報!E30+入力情報!E42+入力情報!E54+入力情報!E66+入力情報!E78+入力情報!E90+入力情報!E102+入力情報!E114+入力情報!E126+入力情報!E138+入力情報!E150+入力情報!E162+入力情報!E174+入力情報!E186+入力情報!E198+入力情報!E210+入力情報!E222+入力情報!E234+入力情報!E246+入力情報!E258+入力情報!E270+入力情報!E282+入力情報!E294+入力情報!E306+入力情報!E318+入力情報!E330+入力情報!E342+入力情報!E354+入力情報!E366+入力情報!E378+入力情報!E390+入力情報!E402+入力情報!E414+入力情報!E426+入力情報!E438+入力情報!E450+入力情報!E462+入力情報!E474+入力情報!E486+入力情報!E498+入力情報!E510+入力情報!E522+入力情報!E534+入力情報!E546+入力情報!E558+入力情報!E570+入力情報!E582+入力情報!E594+入力情報!E606+入力情報!E618),\"0,000\")&\" yen\"","v":"The Amount of Money to Be Paid 3,000,000 yen"}]
[{"$nulls":6},{"$f":"\"払込みを受けた金額　金\"&DBCS(TEXT((入力情報!E30+入力情報!E42+入力情報!E54+入力情報!E66+入力情報!E78+入力情報!E90+入力情報!E102+入力情報!E114+入力情報!E126+入力情報!E138+入力情報!E150+入力情報!E162+入力情報!E174+入力情報!E186+入力情報!E198+入力情報!E210+入力情報!E222+入力情報!E234+入力情報!E246+入力情報!E258+入力情報!E270+入力情報!E282+入力情報!E294+入力情報!E306+入力情報!E318+入力情報!E330+入力情報!E342+入力情報!E354+入力情報!E366+入力情報!E378+入力情報!E390+入力情報!E402+入力情報!E414+入力情報!E426+入力情報!E438+入力情報!E450+入力情報!E462+入力情報!E474+入力情報!E486+入力情報!E498+入力情報!E510+入力情報!E522+入力情報!E534+入力情報!E546+入力情報!E558+入力情報!E570+入力情報!E582+入力情報!E594+入力情報!E606+入力情報!E618),\"0,000\"))&\"円\"","v":"払込みを受けた金額　金３，０００，０００円"}]
[]
[null,null,{"$f":"入力情報!E782&\" year, \"&入力情報!E783&\" month-\"&入力情報!E784&\" day\"","v":"2024 year, 8 month-5 day"}]
[null,null,{"$f":"DBCS(入力情報!E782)&\"年\"&DBCS(入力情報!E783)&\"月\"&DBCS(入力情報!E784)&\"日\"","v":"２０２４年８月５日"}]
[]
[{"$nulls":12},{"$f":"入力情報!E6&\" Limited Liability Company\"","v":"SampleName Limited Liability Company"}]
[{"$nulls":12},{"$f":"\"Representative Members  \"&入力情報!E12","v":"Representative Members  Mary Smith"}]
[{"$nulls":12},{"$f":"IF(入力情報!E7=\"\", \"                                  \", 入力情報!E7)&\"合同会社\"","v":"サンプルネーム合同会社"}]
[{"$nulls":12},{"$f":"\"代表社員  \"&IF(入力情報!E13=\"\",\"\",入力情報!E13)","v":"代表社員  メアリー　スミス "}]
{"$rows_empty":19}
["Receipt for the capital contribution\n出資金領収書"]
[{"$nulls":31},"←",{"$f":"入力情報!C28","v":"Name of Members  1\n（社員 1の氏名）"}]
[]
[]
[null,{"$f":"IF(入力情報!E28<>\"\",\"member with Limited Liability  \"&入力情報!E28,\"\")","v":"member with Limited Liability  Mary Smith"}]
[null,{"$f":"IF(入力情報!E29<>\"\",\"有限責任社員　　 　　　　　　\"&入力情報!E29&\" 殿\",\"\")","v":"有限責任社員　　 　　　　　　メアリー　スミス  殿"}]
[]
[{"$nulls":10},{"$f":"IF(入力情報!E30=\"\",\"\",DBCS(TEXT(入力情報!E30,\"0,000\"))&\"yen\")","v":"１，０００，０００yen"}]
[{"$nulls":9},{"$f":"IF(入力情報!E30=\"\",\"\",\"金 \"&DBCS(TEXT(入力情報!E30,\"0,000\"))&\"円\")","v":"金 １，０００，０００円"}]
[]
[null,null,{"$f":"\"Received as a capital contribution to \"&入力情報!$E$6&\" Limited Liability Company.\"","v":"Received as a capital contribution to SampleName Limited Liability Company."}]
[{"$nulls":6},{"$f":"入力情報!$E$6&\"合同会社の出資金として領収しました。\"","v":"SampleName合同会社の出資金として領収しました。"}]
[]
[null,null,{"$f":"入力情報!$E$776&\" year, \"&入力情報!$E$777&\" month-\"&入力情報!$E$778&\" day\"","v":"2024 year, 4 month-25 day"}]
[null,null,{"$f":"DBCS(入力情報!$E$776)&\"年\"&DBCS(入力情報!$E$777)&\"月\"&DBCS(入力情報!$E$778)&\"日\"","v":"２０２４年４月２５日"}]
[]
[{"$nulls":12},{"$f":"入力情報!$E$6&\" Limited Liability Company\"","v":"SampleName Limited Liability Company"}]
[{"$nulls":12},{"$f":"\"Representative Members \"&入力情報!$E$12","v":"Representative Members Mary Smith"}]
[{"$nulls":12},{"$f":"入力情報!E7&\"合同会社\"","v":"サンプルネーム合同会社"}]
[{"$nulls":12},{"$f":"\"代表社員　\"&入力情報!$E$13","v":"代表社員　メアリー　スミス "}]
{"$rows_empty":20}
["Receipt for the capital contribution\n出資金領収書"]
[{"$nulls":31},"←",{"$f":"入力情報!C40","v":"Name of Members  2\n（社員 2の氏名）"}]
[]
[]
[null,{"$f":"IF(入力情報!E40<>\"\",\"member with Limited Liability  \"&入力情報!E40,\"\")","v":"member with Limited Liability  Michael Smith"}]
[null,{"$f":"IF(入力情報!E41<>\"\",\"有限責任社員　　 　　　　　　\"&入力情報!E41&\" 殿\",\"\")","v":"有限責任社員　　 　　　　　　マイケル　スミス 殿"}]
[]
[{"$nulls":10},{"$f":"IF(入力情報!E42=\"\",\"\",DBCS(TEXT(入力情報!E42,\"0,000\"))&\"yen\")","v":"１，０００，０００yen"}]
[{"$nulls":9},{"$f":"IF(入力情報!E42=\"\",\"\",\"金 \"&DBCS(TEXT(入力情報!E42,\"0,000\"))&\"円\")","v":"金 １，０００，０００円"}]
[]
[null,null,{"$f":"\"Received as a capital contribution to \"&入力情報!$E$6&\" Limited Liability Company.\"","v":"Received as a capital contribution to SampleName Limited Liability Company."}]
[{"$nulls":6},{"$f":"入力情報!$E$6&\"合同会社の出資金として領収しました。\"","v":"SampleName合同会社の出資金として領収しました。"}]
[]
[null,null,{"$f":"入力情報!$E$776&\" year, \"&入力情報!$E$777&\" month-\"&入力情報!$E$778&\" day\"","v":"2024 year, 4 month-25 day"}]
[null,null,{"$f":"DBCS(入力情報!$E$776)&\"年\"&DBCS(入力情報!$E$777)&\"月\"&DBCS(入力情報!$E$778)&\"日\"","v":"２０２４年４月２５日"}]
[]
[{"$nulls":12},{"$f":"入力情報!$E$6&\" Limited Liability Company\"","v":"SampleName Limited Liability Company"}]
[{"$nulls":12},{"$f":"\"Representative Members \"&入力情報!$E$12","v":"Representative Members Mary Smith"}]
[{"$nulls":12},{"$f":"入力情報!E7&\"合同会社\"","v":"サンプルネーム合同会社"}]
[{"$nulls":12},{"$f":"\"代表社員　\"&入力情報!$E$13","v":"代表社員　メアリー　スミス "}]
{"$rows_empty":20}
["Receipt for the capital contribution\n出資金領収書"]
[{"$nulls":31},"←",{"$f":"入力情報!C52","v":"Name of Members  3\n（社員 3の氏名）"}]
[]
[]
[null,{"$f":"IF(入力情報!E52<>\"\",\"member with Limited Liability  \"&入力情報!E52,\"\")","v":"member with Limited Liability  Hanako Suzuki"}]
[null,{"$f":"IF(入力情報!E53<>\"\",\"有限責任社員　　 　　　　　　\"&入力情報!E53&\" 殿\",\"\")","v":"有限責任社員　　 　　　　　　鈴木 花子 殿"}]
[]
[{"$nulls":10},{"$f":"IF(入力情報!E54=\"\",\"\",DBCS(TEXT(入力情報!E54,\"0,000\"))&\"yen\")","v":"１，０００，０００yen"}]
[{"$nulls":9},{"$f":"IF(入力情報!E54=\"\",\"\",\"金 \"&DBCS(TEXT(入力情報!E54,\"0,000\"))&\"円\")","v":"金 １，０００，０００円"}]
[]
[null,null,{"$f":"\"Received as a capital contribution to \"&入力情報!$E$6&\" Limited Liability Company.\"","v":"Received as a capital contribution to SampleName Limited Liability Company."}]
[{"$nulls":6},{"$f":"入力情報!$E$6&\"合同会社の出資金として領収しました。\"","v":"SampleName合同会社の出資金として領収しました。"}]
[]
[null,null,{"$f":"入力情報!$E$776&\" year, \"&入力情報!$E$777&\" month-\"&入力情報!$E$778&\" day\"","v":"2024 year, 4 month-25 day"}]
[null,null,{"$f":"DBCS(入力情報!$E$776)&\"年\"&DBCS(入力情報!$E$777)&\"月\"&DBCS(入力情報!$E$778)&\"日\"","v":"２０２４年４月２５日"}]
[]
[{"$nulls":12},{"$f":"入力情報!$E$6&\" Limited Liability Company\"","v":"SampleName Limited Liability Company"}]
[{"$nulls":12},{"$f":"\"Representative Members \"&入力情報!$E$12","v":"Representative Members Mary Smith"}]
[{"$nulls":12},{"$f":"入力情報!E7&\"合同会社\"","v":"サンプルネーム合同会社"}]
[{"$nulls":12},{"$f":"\"代表社員　\"&入力情報!$E$13","v":"代表社員　メアリー　スミス "}]
{"$rows_empty":20}
["Receipt for the capital contribution\n出資金領収書"]
[{"$nulls":31},"←",{"$f":"入力情報!C64","v":"Name of Members  4\n（社員 4の氏名）"}]
[]
[]
[null,{"$f":"IF(入力情報!E64<>\"\",\"member with Limited Liability  \"&入力情報!E64,\"\")","v":""}]
[null,{"$f":"IF(入力情報!E65<>\"\",\"有限責任社員　　 　　　　　　\"&入力情報!E65&\" 殿\",\"\")","v":""}]
[]
[{"$nulls":10},{"$f":"IF(入力情報!E66=\"\",\"\",DBCS(TEXT(入力情報!E66,\"0,000\"))&\"yen\")","v":""}]
[{"$nulls":9},{"$f":"IF(入力情報!E66=\"\",\"\",\"金 \"&DBCS(TEXT(入力情報!E66,\"0,000\"))&\"円\")","v":""}]
[]
[null,null,{"$f":"\"Received as a capital contribution to \"&入力情報!$E$6&\" Limited Liability Company.\"","v":"Received as a capital contribution to SampleName Limited Liability Company."}]
[{"$nulls":6},{"$f":"入力情報!$E$6&\"合同会社の出資金として領収しました。\"","v":"SampleName合同会社の出資金として領収しました。"}]
[]
[null,null,{"$f":"入力情報!$E$776&\" year, \"&入力情報!$E$777&\" month-\"&入力情報!$E$778&\" day\"","v":"2024 year, 4 month-25 day"}]
[null,null,{"$f":"DBCS(入力情報!$E$776)&\"年\"&DBCS(入力情報!$E$777)&\"月\"&DBCS(入力情報!$E$778)&\"日\"","v":"２０２４年４月２５日"}]
[]
[{"$nulls":12},{"$f":"入力情報!$E$6&\" Limited Liability Company\"","v":"SampleName Limited Liability Company"}]
[{"$nulls":12},{"$f":"\"Representative Members \"&入力情報!$E$12","v":"Representative Members Mary Smith"}]
[{"$nulls":12},{"$f":"入力情報!E7&\"合同会社\"","v":"サンプルネーム合同会社"}]
[{"$nulls":12},{"$f":"\"代表社員　\"&入力情報!$E$13","v":"代表社員　メアリー　スミス "}]
{"$rows_empty":20}
["Receipt for the capital contribution\n出資金領収書"]
[{"$nulls":31},"←",{"$f":"入力情報!C76","v":"Name of Menbers 5\n（社員 5の氏名）"}]
[]
[]
[null,{"$f":"IF(入力情報!E76<>\"\",\"member with Limited Liability  \"&入力情報!E76,\"\")","v":""}]
[null,{"$f":"IF(入力情報!E77<>\"\",\"有限責任社員　　 　　　　　　\"&入力情報!E77&\" 殿\",\"\")","v":""}]
[]
[{"$nulls":10},{"$f":"IF(入力情報!E78=\"\",\"\",DBCS(TEXT(入力情報!E78,\"0,000\"))&\"yen\")","v":""}]
[{"$nulls":9},{"$f":"IF(入力情報!E78=\"\",\"\",\"金 \"&DBCS(TEXT(入力情報!E78,\"0,000\"))&\"円\")","v":""}]
[]
[null,null,{"$f":"\"Received as a capital contribution to \"&入力情報!$E$6&\" Limited Liability Company.\"","v":"Received as a capital contribution to SampleName Limited Liability Company."}]
[{"$nulls":6},{"$f":"入力情報!$E$6&\"合同会社の出資金として領収しました。\"","v":"SampleName合同会社の出資金として領収しました。"}]
[]
[null,null,{"$f":"入力情報!$E$776&\" year, \"&入力情報!$E$777&\" month-\"&入力情報!$E$778&\" day\"","v":"2024 year, 4 month-25 day"}]
[null,null,{"$f":"DBCS(入力情報!$E$776)&\"年\"&DBCS(入力情報!$E$777)&\"月\"&DBCS(入力情報!$E$778)&\"日\"","v":"２０２４年４月２５日"}]
[]
[{"$nulls":12},{"$f":"入力情報!$E$6&\" Limited Liability Company\"","v":"SampleName Limited Liability Company"}]
[{"$nulls":12},{"$f":"\"Representative Members \"&入力情報!$E$12","v":"Representative Members Mary Smith"}]
[{"$nulls":12},{"$f":"入力情報!E7&\"合同会社\"","v":"サンプルネーム合同会社"}]
[{"$nulls":12},{"$f":"\"代表社員　\"&入力情報!$E$13","v":"代表社員　メアリー　スミス "}]
{"$rows_empty":20}
["Receipt for the capital contribution\n出資金領収書"]
[{"$nulls":31},"←",{"$f":"入力情報!C88","v":"Name of Menbers 6\n（社員 6の氏名）"}]
[]
[]
[null,{"$f":"IF(入力情報!E88<>\"\",\"member with Limited Liability  \"&入力情報!E88,\"\")","v":""}]
[null,{"$f":"IF(入力情報!E89<>\"\",\"有限責任社員　　 　　　　　　\"&入力情報!E89&\" 殿\",\"\")","v":""}]
[]
[{"$nulls":10},{"$f":"IF(入力情報!E90=\"\",\"\",DBCS(TEXT(入力情報!E90,\"0,000\"))&\"yen\")","v":""}]
[{"$nulls":9},{"$f":"IF(入力情報!E90=\"\",\"\",\"金 \"&DBCS(TEXT(入力情報!E90,\"0,000\"))&\"円\")","v":""}]
[]
[null,null,{"$f":"\"Received as a capital contribution to \"&入力情報!$E$6&\" Limited Liability Company.\"","v":"Received as a capital contribution to SampleName Limited Liability Company."}]
[{"$nulls":6},{"$f":"入力情報!$E$6&\"合同会社の出資金として領収しました。\"","v":"SampleName合同会社の出資金として領収しました。"}]
[]
[null,null,{"$f":"入力情報!$E$776&\" year, \"&入力情報!$E$777&\" month-\"&入力情報!$E$778&\" day\"","v":"2024 year, 4 month-25 day"}]
[null,null,{"$f":"DBCS(入力情報!$E$776)&\"年\"&DBCS(入力情報!$E$777)&\"月\"&DBCS(入力情報!$E$778)&\"日\"","v":"２０２４年４月２５日"}]
[]
[{"$nulls":12},{"$f":"入力情報!$E$6&\" Limited Liability Company\"","v":"SampleName Limited Liability Company"}]
[{"$nulls":12},{"$f":"\"Representative Members \"&入力情報!$E$12","v":"Representative Members Mary Smith"}]
[{"$nulls":12},{"$f":"入力情報!E7&\"合同会社\"","v":"サンプルネーム合同会社"}]
[{"$nulls":12},{"$f":"\"代表社員　\"&入力情報!$E$13","v":"代表社員　メアリー　スミス "}]
{"$rows_empty":20}
["Receipt for the capital contribution\n出資金領収書"]
[{"$nulls":31},"←",{"$f":"入力情報!C100","v":"Name of Menbers 7\n（社員 7の氏名）"}]
[]
[]
[null,{"$f":"IF(入力情報!E100<>\"\",\"member with Limited Liability  \"&入力情報!E100,\"\")","v":""}]
[null,{"$f":"IF(入力情報!E101<>\"\",\"有限責任社員　　 　　　　　　\"&入力情報!E101&\" 殿\",\"\")","v":""}]
[]
[{"$nulls":10},{"$f":"IF(入力情報!E102=\"\",\"\",DBCS(TEXT(入力情報!E102,\"0,000\"))&\"yen\")","v":""}]
[{"$nulls":9},{"$f":"IF(入力情報!E102=\"\",\"\",\"金 \"&DBCS(TEXT(入力情報!E102,\"0,000\"))&\"円\")","v":""}]
[]
[null,null,{"$f":"\"Received as a capital contribution to \"&入力情報!$E$6&\" Limited Liability Company.\"","v":"Received as a capital contribution to SampleName Limited Liability Company."}]
[{"$nulls":6},{"$f":"入力情報!$E$6&\"合同会社の出資金として領収しました。\"","v":"SampleName合同会社の出資金として領収しました。"}]
[]
[null,null,{"$f":"入力情報!$E$776&\" year, \"&入力情報!$E$777&\" month-\"&入力情報!$E$778&\" day\"","v":"2024 year, 4 month-25 day"}]
[null,null,{"$f":"DBCS(入力情報!$E$776)&\"年\"&DBCS(入力情報!$E$777)&\"月\"&DBCS(入力情報!$E$778)&\"日\"","v":"２０２４年４月２５日"}]
[]
[{"$nulls":12},{"$f":"入力情報!$E$6&\" Limited Liability Company\"","v":"SampleName Limited Liability Company"}]
[{"$nulls":12},{"$f":"\"Representative Members \"&入力情報!$E$12","v":"Representative Members Mary Smith"}]
[{"$nulls":12},{"$f":"入力情報!E7&\"合同会社\"","v":"サンプルネーム合同会社"}]
[{"$nulls":12},{"$f":"\"代表社員　\"&入力情報!$E$13","v":"代表社員　メアリー　スミス "}]
{"$rows_empty":20}
["Receipt for the capital contribution\n出資金領収書"]
[{"$nulls":31},"←",{"$f":"入力情報!C112","v":"Name of Menbers 8\n（社員 8の氏名）"}]
[]
[]
[null,{"$f":"IF(入力情報!E112<>\"\",\"member with Limited Liability  \"&入力情報!E112,\"\")","v":""}]
[null,{"$f":"IF(入力情報!E113<>\"\",\"有限責任社員　　 　　　　　　\"&入力情報!E113&\" 殿\",\"\")","v":""}]
[]
[{"$nulls":10},{"$f":"IF(入力情報!E114=\"\",\"\",DBCS(TEXT(入力情報!E114,\"0,000\"))&\"yen\")","v":""}]
[{"$nulls":9},{"$f":"IF(入力情報!E114=\"\",\"\",\"金 \"&DBCS(TEXT(入力情報!E114,\"0,000\"))&\"円\")","v":""}]
[]
[null,null,{"$f":"\"Received as a capital contribution to \"&入力情報!$E$6&\" Limited Liability Company.\"","v":"Received as a capital contribution to SampleName Limited Liability Company."}]
[{"$nulls":6},{"$f":"入力情報!$E$6&\"合同会社の出資金として領収しました。\"","v":"SampleName合同会社の出資金として領収しました。"}]
[]
[null,null,{"$f":"入力情報!$E$776&\" year, \"&入力情報!$E$777&\" month-\"&入力情報!$E$778&\" day\"","v":"2024 year, 4 month-25 day"}]
[null,null,{"$f":"DBCS(入力情報!$E$776)&\"年\"&DBCS(入力情報!$E$777)&\"月\"&DBCS(入力情報!$E$778)&\"日\"","v":"２０２４年４月２５日"}]
[]
[{"$nulls":12},{"$f":"入力情報!$E$6&\" Limited Liability Company\"","v":"SampleName Limited Liability Company"}]
[{"$nulls":12},{"$f":"\"Representative Members \"&入力情報!$E$12","v":"Representative Members Mary Smith"}]
[{"$nulls":12},{"$f":"入力情報!E7&\"合同会社\"","v":"サンプルネーム合同会社"}]
[{"$nulls":12},{"$f":"\"代表社員　\"&入力情報!$E$13","v":"代表社員　メアリー　スミス "}]
{"$rows_empty":20}
["Receipt for the capital contribution\n出資金領収書"]
[{"$nulls":31},"←",{"$f":"入力情報!C124","v":"Name of Menbers 9\n（社員 9の氏名）"}]
[]
[]
[null,{"$f":"IF(入力情報!E124<>\"\",\"member with Limited Liability  \"&入力情報!E124,\"\")","v":""}]
[null,{"$f":"IF(入力情報!E125<>\"\",\"有限責任社員　　 　　　　　　\"&入力情報!E125&\" 殿\",\"\")","v":""}]
[]
[{"$nulls":10},{"$f":"IF(入力情報!E126=\"\",\"\",DBCS(TEXT(入力情報!E126,\"0,000\"))&\"yen\")","v":""}]
[{"$nulls":9},{"$f":"IF(入力情報!E126=\"\",\"\",\"金 \"&DBCS(TEXT(入力情報!E126,\"0,000\"))&\"円\")","v":""}]
[]
[null,null,{"$f":"\"Received as a capital contribution to \"&入力情報!$E$6&\" Limited Liability Company.\"","v":"Received as a capital contribution to SampleName Limited Liability Company."}]
[{"$nulls":6},{"$f":"入力情報!$E$6&\"合同会社の出資金として領収しました。\"","v":"SampleName合同会社の出資金として領収しました。"}]
[]
[null,null,{"$f":"入力情報!$E$776&\" year, \"&入力情報!$E$777&\" month-\"&入力情報!$E$778&\" day\"","v":"2024 year, 4 month-25 day"}]
[null,null,{"$f":"DBCS(入力情報!$E$776)&\"年\"&DBCS(入力情報!$E$777)&\"月\"&DBCS(入力情報!$E$778)&\"日\"","v":"２０２４年４月２５日"}]
[]
[{"$nulls":12},{"$f":"入力情報!$E$6&\" Limited Liability Company\"","v":"SampleName Limited Liability Company"}]
[{"$nulls":12},{"$f":"\"Representative Members \"&入力情報!$E$12","v":"Representative Members Mary Smith"}]
[{"$nulls":12},{"$f":"入力情報!E7&\"合同会社\"","v":"サンプルネーム合同会社"}]
[{"$nulls":12},{"$f":"\"代表社員　\"&入力情報!$E$13","v":"代表社員　メアリー　スミス "}]
{"$rows_empty":20}
["Receipt for the capital contribution\n出資金領収書"]
[{"$nulls":31},"←",{"$f":"入力情報!C136","v":"Name of Menbers 10\n（社員 10の氏名）"}]
[]
[]
[null,{"$f":"IF(入力情報!E136<>\"\",\"member with Limited Liability  \"&入力情報!E136,\"\")","v":""}]
[null,{"$f":"IF(入力情報!E137<>\"\",\"有限責任社員　　 　　　　　　\"&入力情報!E137&\" 殿\",\"\")","v":""}]
[]
[{"$nulls":10},{"$f":"IF(入力情報!E138=\"\",\"\",DBCS(TEXT(入力情報!E138,\"0,000\"))&\"yen\")","v":""}]
[{"$nulls":9},{"$f":"IF(入力情報!E138=\"\",\"\",\"金 \"&DBCS(TEXT(入力情報!E138,\"0,000\"))&\"円\")","v":""}]
[]
[null,null,{"$f":"\"Received as a capital contribution to \"&入力情報!$E$6&\" Limited Liability Company.\"","v":"Received as a capital contribution to SampleName Limited Liability Company."}]
[{"$nulls":6},{"$f":"入力情報!$E$6&\"合同会社の出資金として領収しました。\"","v":"SampleName合同会社の出資金として領収しました。"}]
[]
[null,null,{"$f":"入力情報!$E$776&\" year, \"&入力情報!$E$777&\" month-\"&入力情報!$E$778&\" day\"","v":"2024 year, 4 month-25 day"}]
[null,null,{"$f":"DBCS(入力情報!$E$776)&\"年\"&DBCS(入力情報!$E$777)&\"月\"&DBCS(入力情報!$E$778)&\"日\"","v":"２０２４年４月２５日"}]
[]
[{"$nulls":12},{"$f":"入力情報!$E$6&\" Limited Liability Company\"","v":"SampleName Limited Liability Company"}]
[{"$nulls":12},{"$f":"\"Representative Members \"&入力情報!$E$12","v":"Representative Members Mary Smith"}]
[{"$nulls":12},{"$f":"入力情報!E7&\"合同会社\"","v":"サンプルネーム合同会社"}]
[{"$nulls":12},{"$f":"\"代表社員　\"&入力情報!$E$13","v":"代表社員　メアリー　スミス "}]
{"$rows_empty":20}
["Receipt for the capital contribution\n出資金領収書"]
[{"$nulls":31},"←",{"$f":"入力情報!C148","v":"Name of Menbers 11\n（社員 11の氏名）"}]
[]
[]
[null,{"$f":"IF(入力情報!E148<>\"\",\"member with Limited Liability  \"&入力情報!E148,\"\")","v":""}]
[null,{"$f":"IF(入力情報!E149<>\"\",\"有限責任社員　　 　　　　　　\"&入力情報!E149&\" 殿\",\"\")","v":""}]
[]
[{"$nulls":10},{"$f":"IF(入力情報!E150=\"\",\"\",DBCS(TEXT(入力情報!E150,\"0,000\"))&\"yen\")","v":""}]
[{"$nulls":9},{"$f":"IF(入力情報!E150=\"\",\"\",\"金 \"&DBCS(TEXT(入力情報!E150,\"0,000\"))&\"円\")","v":""}]
[]
[null,null,{"$f":"\"Received as a capital contribution to \"&入力情報!$E$6&\" Limited Liability Company.\"","v":"Received as a capital contribution to SampleName Limited Liability Company."}]
[{"$nulls":6},{"$f":"入力情報!$E$6&\"合同会社の出資金として領収しました。\"","v":"SampleName合同会社の出資金として領収しました。"}]
[]
[null,null,{"$f":"入力情報!$E$776&\" year, \"&入力情報!$E$777&\" month-\"&入力情報!$E$778&\" day\"","v":"2024 year, 4 month-25 day"}]
[null,null,{"$f":"DBCS(入力情報!$E$776)&\"年\"&DBCS(入力情報!$E$777)&\"月\"&DBCS(入力情報!$E$778)&\"日\"","v":"２０２４年４月２５日"}]
[]
[{"$nulls":12},{"$f":"入力情報!$E$6&\" Limited Liability Company\"","v":"SampleName Limited Liability Company"}]
[{"$nulls":12},{"$f":"\"Representative Members \"&入力情報!$E$12","v":"Representative Members Mary Smith"}]
[{"$nulls":12},{"$f":"入力情報!E7&\"合同会社\"","v":"サンプルネーム合同会社"}]
[{"$nulls":12},{"$f":"\"代表社員　\"&入力情報!$E$13","v":"代表社員　メアリー　スミス "}]
{"$rows_empty":20}
["Receipt for the capital contribution\n出資金領収書"]
[{"$nulls":31},"←",{"$f":"入力情報!C160","v":"Name of Menbers 12\n（社員 12の氏名）"}]
[]
[]
[null,{"$f":"IF(入力情報!E160<>\"\",\"member with Limited Liability  \"&入力情報!E160,\"\")","v":""}]
[null,{"$f":"IF(入力情報!E161<>\"\",\"有限責任社員　　 　　　　　　\"&入力情報!E161&\" 殿\",\"\")","v":""}]
[]
[{"$nulls":10},{"$f":"IF(入力情報!E162=\"\",\"\",DBCS(TEXT(入力情報!E162,\"0,000\"))&\"yen\")","v":""}]
[{"$nulls":9},{"$f":"IF(入力情報!E162=\"\",\"\",\"金 \"&DBCS(TEXT(入力情報!E162,\"0,000\"))&\"円\")","v":""}]
[]
[null,null,{"$f":"\"Received as a capital contribution to \"&入力情報!$E$6&\" Limited Liability Company.\"","v":"Received as a capital contribution to SampleName Limited Liability Company."}]
[{"$nulls":6},{"$f":"入力情報!$E$6&\"合同会社の出資金として領収しました。\"","v":"SampleName合同会社の出資金として領収しました。"}]
[]
[null,null,{"$f":"入力情報!$E$776&\" year, \"&入力情報!$E$777&\" month-\"&入力情報!$E$778&\" day\"","v":"2024 year, 4 month-25 day"}]
[null,null,{"$f":"DBCS(入力情報!$E$776)&\"年\"&DBCS(入力情報!$E$777)&\"月\"&DBCS(入力情報!$E$778)&\"日\"","v":"２０２４年４月２５日"}]
[]
[{"$nulls":12},{"$f":"入力情報!$E$6&\" Limited Liability Company\"","v":"SampleName Limited Liability Company"}]
[{"$nulls":12},{"$f":"\"Representative Members \"&入力情報!$E$12","v":"Representative Members Mary Smith"}]
[{"$nulls":12},{"$f":"入力情報!E7&\"合同会社\"","v":"サンプルネーム合同会社"}]
[{"$nulls":12},{"$f":"\"代表社員　\"&入力情報!$E$13","v":"代表社員　メアリー　スミス "}]
{"$rows_empty":20}
["Receipt for the capital contribution\n出資金領収書"]
[{"$nulls":31},"←",{"$f":"入力情報!C172","v":"Name of Menbers 13\n（社員 13の氏名）"}]
[]
[]
[null,{"$f":"IF(入力情報!E172<>\"\",\"member with Limited Liability  \"&入力情報!E172,\"\")","v":""}]
[null,{"$f":"IF(入力情報!E173<>\"\",\"有限責任社員　　 　　　　　　\"&入力情報!E172&\" 殿\",\"\")","v":""}]
[]
[{"$nulls":10},{"$f":"IF(入力情報!E174=\"\",\"\",DBCS(TEXT(入力情報!E174,\"0,000\"))&\"yen\")","v":""}]
[{"$nulls":9},{"$f":"IF(入力情報!E174=\"\",\"\",\"金 \"&DBCS(TEXT(入力情報!E174,\"0,000\"))&\"円\")","v":""}]
[]
[null,null,{"$f":"\"Received as a capital contribution to \"&入力情報!$E$6&\" Limited Liability Company.\"","v":"Received as a capital contribution to SampleName Limited Liability Company."}]
[{"$nulls":6},{"$f":"入力情報!$E$6&\"合同会社の出資金として領収しました。\"","v":"SampleName合同会社の出資金として領収しました。"}]
[]
[null,null,{"$f":"入力情報!$E$776&\" year, \"&入力情報!$E$777&\" month-\"&入力情報!$E$778&\" day\"","v":"2024 year, 4 month-25 day"}]
[null,null,{"$f":"DBCS(入力情報!$E$776)&\"年\"&DBCS(入力情報!$E$777)&\"月\"&DBCS(入力情報!$E$778)&\"日\"","v":"２０２４年４月２５日"}]
[]
[{"$nulls":12},{"$f":"入力情報!$E$6&\" Limited Liability Company\"","v":"SampleName Limited Liability Company"}]
[{"$nulls":12},{"$f":"\"Representative Members \"&入力情報!$E$12","v":"Representative Members Mary Smith"}]
[{"$nulls":12},{"$f":"入力情報!E7&\"合同会社\"","v":"サンプルネーム合同会社"}]
[{"$nulls":12},{"$f":"\"代表社員　\"&入力情報!$E$13","v":"代表社員　メアリー　スミス "}]
{"$rows_empty":20}
["Receipt for the capital contribution\n出資金領収書"]
[{"$nulls":31},"←",{"$f":"入力情報!C184","v":"Name of Menbers 14\n（社員 14の氏名）"}]
[]
[]
[null,{"$f":"IF(入力情報!E184<>\"\",\"member with Limited Liability  \"&入力情報!E184,\"\")","v":""}]
[null,{"$f":"IF(入力情報!E185<>\"\",\"有限責任社員　　 　　　　　　\"&入力情報!E185&\" 殿\",\"\")","v":""}]
[]
[{"$nulls":10},{"$f":"IF(入力情報!E186=\"\",\"\",DBCS(TEXT(入力情報!E186,\"0,000\"))&\"yen\")","v":""}]
[{"$nulls":9},{"$f":"IF(入力情報!E186=\"\",\"\",\"金 \"&DBCS(TEXT(入力情報!E186,\"0,000\"))&\"円\")","v":""}]
[]
[null,null,{"$f":"\"Received as a capital contribution to \"&入力情報!$E$6&\" Limited Liability Company.\"","v":"Received as a capital contribution to SampleName Limited Liability Company."}]
[{"$nulls":6},{"$f":"入力情報!$E$6&\"合同会社の出資金として領収しました。\"","v":"SampleName合同会社の出資金として領収しました。"}]
[]
[null,null,{"$f":"入力情報!$E$776&\" year, \"&入力情報!$E$777&\" month-\"&入力情報!$E$778&\" day\"","v":"2024 year, 4 month-25 day"}]
[null,null,{"$f":"DBCS(入力情報!$E$776)&\"年\"&DBCS(入力情報!$E$777)&\"月\"&DBCS(入力情報!$E$778)&\"日\"","v":"２０２４年４月２５日"}]
[]
[{"$nulls":12},{"$f":"入力情報!$E$6&\" Limited Liability Company\"","v":"SampleName Limited Liability Company"}]
[{"$nulls":12},{"$f":"\"Representative Members \"&入力情報!$E$12","v":"Representative Members Mary Smith"}]
[{"$nulls":12},{"$f":"入力情報!E7&\"合同会社\"","v":"サンプルネーム合同会社"}]
[{"$nulls":12},{"$f":"\"代表社員　\"&入力情報!$E$13","v":"代表社員　メアリー　スミス "}]
{"$rows_empty":20}
["Receipt for the capital contribution\n出資金領収書"]
[{"$nulls":31},"←",{"$f":"入力情報!C196","v":"Name of Menbers 15\n（社員 15の氏名）"}]
[]
[]
[null,{"$f":"IF(入力情報!E196<>\"\",\"member with Limited Liability  \"&入力情報!E196,\"\")","v":""}]
[null,{"$f":"IF(入力情報!E197<>\"\",\"有限責任社員　　 　　　　　　\"&入力情報!E197&\" 殿\",\"\")","v":""}]
[]
[{"$nulls":10},{"$f":"IF(入力情報!E198=\"\",\"\",DBCS(TEXT(入力情報!E198,\"0,000\"))&\"yen\")","v":""}]
[{"$nulls":9},{"$f":"IF(入力情報!E198=\"\",\"\",\"金 \"&DBCS(TEXT(入力情報!E198,\"0,000\"))&\"円\")","v":""}]
[]
[null,null,{"$f":"\"Received as a capital contribution to \"&入力情報!$E$6&\" Limited Liability Company.\"","v":"Received as a capital contribution to SampleName Limited Liability Company."}]
[{"$nulls":6},{"$f":"入力情報!$E$6&\"合同会社の出資金として領収しました。\"","v":"SampleName合同会社の出資金として領収しました。"}]
[]
[null,null,{"$f":"入力情報!$E$776&\" year, \"&入力情報!$E$777&\" month-\"&入力情報!$E$778&\" day\"","v":"2024 year, 4 month-25 day"}]
[null,null,{"$f":"DBCS(入力情報!$E$776)&\"年\"&DBCS(入力情報!$E$777)&\"月\"&DBCS(入力情報!$E$778)&\"日\"","v":"２０２４年４月２５日"}]
[]
[{"$nulls":12},{"$f":"入力情報!$E$6&\" Limited Liability Company\"","v":"SampleName Limited Liability Company"}]
[{"$nulls":12},{"$f":"\"Representative Members \"&入力情報!$E$12","v":"Representative Members Mary Smith"}]
[{"$nulls":12},{"$f":"入力情報!E7&\"合同会社\"","v":"サンプルネーム合同会社"}]
[{"$nulls":12},{"$f":"\"代表社員　\"&入力情報!$E$13","v":"代表社員　メアリー　スミス "}]
{"$rows_empty":20}
["Receipt for the capital contribution\n出資金領収書"]
[{"$nulls":31},"←",{"$f":"入力情報!C208","v":"Name of Menbers 16\n（社員 16の氏名）"}]
[]
[]
[null,{"$f":"IF(入力情報!E208<>\"\",\"member with Limited Liability  \"&入力情報!E208,\"\")","v":""}]
[null,{"$f":"IF(入力情報!E209<>\"\",\"有限責任社員　　 　　　　　　\"&入力情報!E209&\" 殿\",\"\")","v":""}]
[]
[{"$nulls":10},{"$f":"IF(入力情報!E210=\"\",\"\",DBCS(TEXT(入力情報!E210,\"0,000\"))&\"yen\")","v":""}]
[{"$nulls":9},{"$f":"IF(入力情報!E210=\"\",\"\",\"金 \"&DBCS(TEXT(入力情報!E210,\"0,000\"))&\"円\")","v":""}]
[]
[null,null,{"$f":"\"Received as a capital contribution to \"&入力情報!$E$6&\" Limited Liability Company.\"","v":"Received as a capital contribution to SampleName Limited Liability Company."}]
[{"$nulls":6},{"$f":"入力情報!$E$6&\"合同会社の出資金として領収しました。\"","v":"SampleName合同会社の出資金として領収しました。"}]
[]
[null,null,{"$f":"入力情報!$E$776&\" year, \"&入力情報!$E$777&\" month-\"&入力情報!$E$778&\" day\"","v":"2024 year, 4 month-25 day"}]
[null,null,{"$f":"DBCS(入力情報!$E$776)&\"年\"&DBCS(入力情報!$E$777)&\"月\"&DBCS(入力情報!$E$778)&\"日\"","v":"２０２４年４月２５日"}]
[]
[{"$nulls":12},{"$f":"入力情報!$E$6&\" Limited Liability Company\"","v":"SampleName Limited Liability Company"}]
[{"$nulls":12},{"$f":"\"Representative Members \"&入力情報!$E$12","v":"Representative Members Mary Smith"}]
[{"$nulls":12},{"$f":"入力情報!E7&\"合同会社\"","v":"サンプルネーム合同会社"}]
[{"$nulls":12},{"$f":"\"代表社員　\"&入力情報!$E$13","v":"代表社員　メアリー　スミス "}]
{"$rows_empty":20}
["Receipt for the capital contribution\n出資金領収書"]
[{"$nulls":31},"←",{"$f":"入力情報!C220","v":"Name of Menbers 17\n（社員 17の氏名）"}]
[]
[]
[null,{"$f":"IF(入力情報!E220<>\"\",\"member with Limited Liability  \"&入力情報!E220,\"\")","v":""}]
[null,{"$f":"IF(入力情報!E221<>\"\",\"有限責任社員　　 　　　　　　\"&入力情報!E221&\" 殿\",\"\")","v":""}]
[]
[{"$nulls":10},{"$f":"IF(入力情報!E222=\"\",\"\",DBCS(TEXT(入力情報!E222,\"0,000\"))&\"yen\")","v":""}]
[{"$nulls":9},{"$f":"IF(入力情報!E222=\"\",\"\",\"金 \"&DBCS(TEXT(入力情報!E222,\"0,000\"))&\"円\")","v":""}]
[]
[null,null,{"$f":"\"Received as a capital contribution to \"&入力情報!$E$6&\" Limited Liability Company.\"","v":"Received as a capital contribution to SampleName Limited Liability Company."}]
[{"$nulls":6},{"$f":"入力情報!$E$6&\"合同会社の出資金として領収しました。\"","v":"SampleName合同会社の出資金として領収しました。"}]
[]
[null,null,{"$f":"入力情報!$E$776&\" year, \"&入力情報!$E$777&\" month-\"&入力情報!$E$778&\" day\"","v":"2024 year, 4 month-25 day"}]
[null,null,{"$f":"DBCS(入力情報!$E$776)&\"年\"&DBCS(入力情報!$E$777)&\"月\"&DBCS(入力情報!$E$778)&\"日\"","v":"２０２４年４月２５日"}]
[]
[{"$nulls":12},{"$f":"入力情報!$E$6&\" Limited Liability Company\"","v":"SampleName Limited Liability Company"}]
[{"$nulls":12},{"$f":"\"Representative Members \"&入力情報!$E$12","v":"Representative Members Mary Smith"}]
[{"$nulls":12},{"$f":"入力情報!E7&\"合同会社\"","v":"サンプルネーム合同会社"}]
[{"$nulls":12},{"$f":"\"代表社員　\"&入力情報!$E$13","v":"代表社員　メアリー　スミス "}]
{"$rows_empty":20}
["Receipt for the capital contribution\n出資金領収書"]
[{"$nulls":31},"←",{"$f":"入力情報!C232","v":"Name of Menbers 18\n（社員 18の氏名）"}]
[]
[]
[null,{"$f":"IF(入力情報!E232<>\"\",\"member with Limited Liability  \"&入力情報!E232,\"\")","v":""}]
[null,{"$f":"IF(入力情報!E233<>\"\",\"有限責任社員　　 　　　　　　\"&入力情報!E233&\" 殿\",\"\")","v":""}]
[]
[{"$nulls":10},{"$f":"IF(入力情報!E234=\"\",\"\",DBCS(TEXT(入力情報!E234,\"0,000\"))&\"yen\")","v":""}]
[{"$nulls":9},{"$f":"IF(入力情報!E234=\"\",\"\",\"金 \"&DBCS(TEXT(入力情報!E234,\"0,000\"))&\"円\")","v":""}]
[]
[null,null,{"$f":"\"Received as a capital contribution to \"&入力情報!$E$6&\" Limited Liability Company.\"","v":"Received as a capital contribution to SampleName Limited Liability Company."}]
[{"$nulls":6},{"$f":"入力情報!$E$6&\"合同会社の出資金として領収しました。\"","v":"SampleName合同会社の出資金として領収しました。"}]
[]
[null,null,{"$f":"入力情報!$E$776&\" year, \"&入力情報!$E$777&\" month-\"&入力情報!$E$778&\" day\"","v":"2024 year, 4 month-25 day"}]
[null,null,{"$f":"DBCS(入力情報!$E$776)&\"年\"&DBCS(入力情報!$E$777)&\"月\"&DBCS(入力情報!$E$778)&\"日\"","v":"２０２４年４月２５日"}]
[]
[{"$nulls":12},{"$f":"入力情報!$E$6&\" Limited Liability Company\"","v":"SampleName Limited Liability Company"}]
[{"$nulls":12},{"$f":"\"Representative Members \"&入力情報!$E$12","v":"Representative Members Mary Smith"}]
[{"$nulls":12},{"$f":"入力情報!E7&\"合同会社\"","v":"サンプルネーム合同会社"}]
[{"$nulls":12},{"$f":"\"代表社員　\"&入力情報!$E$13","v":"代表社員　メアリー　スミス "}]
{"$rows_empty":20}
["Receipt for the capital contribution\n出資金領収書"]
[{"$nulls":31},"←",{"$f":"入力情報!C244","v":"Name of Menbers 19\n（社員 19の氏名）"}]
[]
[]
[null,{"$f":"IF(入力情報!E244<>\"\",\"member with Limited Liability  \"&入力情報!E244,\"\")","v":""}]
[null,{"$f":"IF(入力情報!E245<>\"\",\"有限責任社員　　 　　　　　　\"&入力情報!E245&\" 殿\",\"\")","v":""}]
[]
[{"$nulls":10},{"$f":"IF(入力情報!E246=\"\",\"\",DBCS(TEXT(入力情報!E246,\"0,000\"))&\"yen\")","v":""}]
[{"$nulls":9},{"$f":"IF(入力情報!E246=\"\",\"\",\"金 \"&DBCS(TEXT(入力情報!E246,\"0,000\"))&\"円\")","v":""}]
[]
[null,null,{"$f":"\"Received as a capital contribution to \"&入力情報!$E$6&\" Limited Liability Company.\"","v":"Received as a capital contribution to SampleName Limited Liability Company."}]
[{"$nulls":6},{"$f":"入力情報!$E$6&\"合同会社の出資金として領収しました。\"","v":"SampleName合同会社の出資金として領収しました。"}]
[]
[null,null,{"$f":"入力情報!$E$776&\" year, \"&入力情報!$E$777&\" month-\"&入力情報!$E$778&\" day\"","v":"2024 year, 4 month-25 day"}]
[null,null,{"$f":"DBCS(入力情報!$E$776)&\"年\"&DBCS(入力情報!$E$777)&\"月\"&DBCS(入力情報!$E$778)&\"日\"","v":"２０２４年４月２５日"}]
[]
[{"$nulls":12},{"$f":"入力情報!$E$6&\" Limited Liability Company\"","v":"SampleName Limited Liability Company"}]
[{"$nulls":12},{"$f":"\"Representative Members \"&入力情報!$E$12","v":"Representative Members Mary Smith"}]
[{"$nulls":12},{"$f":"入力情報!E7&\"合同会社\"","v":"サンプルネーム合同会社"}]
[{"$nulls":12},{"$f":"\"代表社員　\"&入力情報!$E$13","v":"代表社員　メアリー　スミス "}]
{"$rows_empty":20}
["Receipt for the capital contribution\n出資金領収書"]
[{"$nulls":31},"←",{"$f":"入力情報!C256","v":"Name of Menbers 20\n（社員 20の氏名）"}]
[]
[]
[null,{"$f":"IF(入力情報!E256<>\"\",\"member with Limited Liability  \"&入力情報!E256,\"\")","v":""}]
[null,{"$f":"IF(入力情報!E257<>\"\",\"有限責任社員　　 　　　　　　\"&入力情報!E257&\" 殿\",\"\")","v":""}]
[]
[{"$nulls":10},{"$f":"IF(入力情報!E259=\"\",\"\",DBCS(TEXT(入力情報!E259,\"0,000\"))&\"yen\")","v":""}]
[{"$nulls":9},{"$f":"IF(入力情報!E259=\"\",\"\",\"金 \"&DBCS(TEXT(入力情報!E259,\"0,000\"))&\"円\")","v":""}]
[]
[null,null,{"$f":"\"Received as a capital contribution to \"&入力情報!$E$6&\" Limited Liability Company.\"","v":"Received as a capital contribution to SampleName Limited Liability Company."}]
[{"$nulls":6},{"$f":"入力情報!$E$6&\"合同会社の出資金として領収しました。\"","v":"SampleName合同会社の出資金として領収しました。"}]
[]
[null,null,{"$f":"入力情報!$E$776&\" year, \"&入力情報!$E$777&\" month-\"&入力情報!$E$778&\" day\"","v":"2024 year, 4 month-25 day"}]
[null,null,{"$f":"DBCS(入力情報!$E$776)&\"年\"&DBCS(入力情報!$E$777)&\"月\"&DBCS(入力情報!$E$778)&\"日\"","v":"２０２４年４月２５日"}]
[]
[{"$nulls":12},{"$f":"入力情報!$E$6&\" Limited Liability Company\"","v":"SampleName Limited Liability Company"}]
[{"$nulls":12},{"$f":"\"Representative Members \"&入力情報!$E$12","v":"Representative Members Mary Smith"}]
[{"$nulls":12},{"$f":"入力情報!E7&\"合同会社\"","v":"サンプルネーム合同会社"}]
[{"$nulls":12},{"$f":"\"代表社員　\"&入力情報!$E$13","v":"代表社員　メアリー　スミス "}]
{"$rows_empty":20}
["Receipt for the capital contribution\n出資金領収書"]
[{"$nulls":31},"←",{"$f":"入力情報!C268","v":"Name of Menbers 21\n（社員 21の氏名）"}]
[]
[]
[null,{"$f":"IF(入力情報!E268<>\"\",\"member with Limited Liability  \"&入力情報!E268,\"\")","v":""}]
[null,{"$f":"IF(入力情報!E269<>\"\",\"有限責任社員　　 　　　　　　\"&入力情報!E269&\" 殿\",\"\")","v":""}]
[]
[{"$nulls":10},{"$f":"IF(入力情報!E270=\"\",\"\",DBCS(TEXT(入力情報!E270,\"0,000\"))&\"yen\")","v":""}]
[{"$nulls":9},{"$f":"IF(入力情報!E270=\"\",\"\",\"金 \"&DBCS(TEXT(入力情報!E270,\"0,000\"))&\"円\")","v":""}]
[]
[null,null,{"$f":"\"Received as a capital contribution to \"&入力情報!$E$6&\" Limited Liability Company.\"","v":"Received as a capital contribution to SampleName Limited Liability Company."}]
[{"$nulls":6},{"$f":"入力情報!$E$6&\"合同会社の出資金として領収しました。\"","v":"SampleName合同会社の出資金として領収しました。"}]
[]
[null,null,{"$f":"入力情報!$E$776&\" year, \"&入力情報!$E$777&\" month-\"&入力情報!$E$778&\" day\"","v":"2024 year, 4 month-25 day"}]
[null,null,{"$f":"DBCS(入力情報!$E$776)&\"年\"&DBCS(入力情報!$E$777)&\"月\"&DBCS(入力情報!$E$778)&\"日\"","v":"２０２４年４月２５日"}]
[]
[{"$nulls":12},{"$f":"入力情報!$E$6&\" Limited Liability Company\"","v":"SampleName Limited Liability Company"}]
[{"$nulls":12},{"$f":"\"Representative Members \"&入力情報!$E$12","v":"Representative Members Mary Smith"}]
[{"$nulls":12},{"$f":"入力情報!E7&\"合同会社\"","v":"サンプルネーム合同会社"}]
[{"$nulls":12},{"$f":"\"代表社員　\"&入力情報!$E$13","v":"代表社員　メアリー　スミス "}]
{"$rows_empty":20}
["Receipt for the capital contribution\n出資金領収書"]
[{"$nulls":31},"←",{"$f":"入力情報!C280","v":"Name of Menbers 22\n（社員 22の氏名）"}]
[]
[]
[null,{"$f":"IF(入力情報!E280<>\"\",\"member with Limited Liability  \"&入力情報!E280,\"\")","v":""}]
[null,{"$f":"IF(入力情報!E281<>\"\",\"有限責任社員　　 　　　　　　\"&入力情報!E281&\" 殿\",\"\")","v":""}]
[]
[{"$nulls":10},{"$f":"IF(入力情報!E282=\"\",\"\",DBCS(TEXT(入力情報!E282,\"0,000\"))&\"yen\")","v":""}]
[{"$nulls":9},{"$f":"IF(入力情報!E282=\"\",\"\",\"金 \"&DBCS(TEXT(入力情報!E282,\"0,000\"))&\"円\")","v":""}]
[]
[null,null,{"$f":"\"Received as a capital contribution to \"&入力情報!$E$6&\" Limited Liability Company.\"","v":"Received as a capital contribution to SampleName Limited Liability Company."}]
[{"$nulls":6},{"$f":"入力情報!$E$6&\"合同会社の出資金として領収しました。\"","v":"SampleName合同会社の出資金として領収しました。"}]
[]
[null,null,{"$f":"入力情報!$E$776&\" year, \"&入力情報!$E$777&\" month-\"&入力情報!$E$778&\" day\"","v":"2024 year, 4 month-25 day"}]
[null,null,{"$f":"DBCS(入力情報!$E$776)&\"年\"&DBCS(入力情報!$E$777)&\"月\"&DBCS(入力情報!$E$778)&\"日\"","v":"２０２４年４月２５日"}]
[]
[{"$nulls":12},{"$f":"入力情報!$E$6&\" Limited Liability Company\"","v":"SampleName Limited Liability Company"}]
[{"$nulls":12},{"$f":"\"Representative Members \"&入力情報!$E$12","v":"Representative Members Mary Smith"}]
[{"$nulls":12},{"$f":"入力情報!E7&\"合同会社\"","v":"サンプルネーム合同会社"}]
[{"$nulls":12},{"$f":"\"代表社員　\"&入力情報!$E$13","v":"代表社員　メアリー　スミス "}]
{"$rows_empty":20}
["Receipt for the capital contribution\n出資金領収書"]
[{"$nulls":31},"←",{"$f":"入力情報!C292","v":"Name of Menbers 23\n（社員 23の氏名）"}]
[]
[]
[null,{"$f":"IF(入力情報!E292<>\"\",\"member with Limited Liability  \"&入力情報!E292,\"\")","v":""}]
[null,{"$f":"IF(入力情報!E293<>\"\",\"有限責任社員　　 　　　　　　\"&入力情報!E293&\" 殿\",\"\")","v":""}]
[]
[{"$nulls":10},{"$f":"IF(入力情報!E294=\"\",\"\",DBCS(TEXT(入力情報!E294,\"0,000\"))&\"yen\")","v":""}]
[{"$nulls":9},{"$f":"IF(入力情報!E294=\"\",\"\",\"金 \"&DBCS(TEXT(入力情報!E294,\"0,000\"))&\"円\")","v":""}]
[]
[null,null,{"$f":"\"Received as a capital contribution to \"&入力情報!$E$6&\" Limited Liability Company.\"","v":"Received as a capital contribution to SampleName Limited Liability Company."}]
[{"$nulls":6},{"$f":"入力情報!$E$6&\"合同会社の出資金として領収しました。\"","v":"SampleName合同会社の出資金として領収しました。"}]
[]
[null,null,{"$f":"入力情報!$E$776&\" year, \"&入力情報!$E$777&\" month-\"&入力情報!$E$778&\" day\"","v":"2024 year, 4 month-25 day"}]
[null,null,{"$f":"DBCS(入力情報!$E$776)&\"年\"&DBCS(入力情報!$E$777)&\"月\"&DBCS(入力情報!$E$778)&\"日\"","v":"２０２４年４月２５日"}]
[]
[{"$nulls":12},{"$f":"入力情報!$E$6&\" Limited Liability Company\"","v":"SampleName Limited Liability Company"}]
[{"$nulls":12},{"$f":"\"Representative Members \"&入力情報!$E$12","v":"Representative Members Mary Smith"}]
[{"$nulls":12},{"$f":"入力情報!E7&\"合同会社\"","v":"サンプルネーム合同会社"}]
[{"$nulls":12},{"$f":"\"代表社員　\"&入力情報!$E$13","v":"代表社員　メアリー　スミス "}]
{"$rows_empty":20}
["Receipt for the capital contribution\n出資金領収書"]
[{"$nulls":31},"←",{"$f":"入力情報!C304","v":"Name of Menbers 24\n（社員 24の氏名）"}]
[]
[]
[null,{"$f":"IF(入力情報!E304<>\"\",\"member with Limited Liability  \"&入力情報!E304,\"\")","v":""}]
[null,{"$f":"IF(入力情報!E305<>\"\",\"有限責任社員　　 　　　　　　\"&入力情報!E305&\" 殿\",\"\")","v":""}]
[]
[{"$nulls":10},{"$f":"IF(入力情報!E306=\"\",\"\",DBCS(TEXT(入力情報!E306,\"0,000\"))&\"yen\")","v":""}]
[{"$nulls":9},{"$f":"IF(入力情報!E306=\"\",\"\",\"金 \"&DBCS(TEXT(入力情報!E306,\"0,000\"))&\"円\")","v":""}]
[]
[null,null,{"$f":"\"Received as a capital contribution to \"&入力情報!$E$6&\" Limited Liability Company.\"","v":"Received as a capital contribution to SampleName Limited Liability Company."}]
[{"$nulls":6},{"$f":"入力情報!$E$6&\"合同会社の出資金として領収しました。\"","v":"SampleName合同会社の出資金として領収しました。"}]
[]
[null,null,{"$f":"入力情報!$E$776&\" year, \"&入力情報!$E$777&\" month-\"&入力情報!$E$778&\" day\"","v":"2024 year, 4 month-25 day"}]
[null,null,{"$f":"DBCS(入力情報!$E$776)&\"年\"&DBCS(入力情報!$E$777)&\"月\"&DBCS(入力情報!$E$778)&\"日\"","v":"２０２４年４月２５日"}]
[]
[{"$nulls":12},{"$f":"入力情報!$E$6&\" Limited Liability Company\"","v":"SampleName Limited Liability Company"}]
[{"$nulls":12},{"$f":"\"Representative Members \"&入力情報!$E$12","v":"Representative Members Mary Smith"}]
[{"$nulls":12},{"$f":"入力情報!E7&\"合同会社\"","v":"サンプルネーム合同会社"}]
[{"$nulls":12},{"$f":"\"代表社員　\"&入力情報!$E$13","v":"代表社員　メアリー　スミス "}]
{"$rows_empty":20}
["Receipt for the capital contribution\n出資金領収書"]
[{"$nulls":31},"←",{"$f":"入力情報!C316","v":"Name of Menbers 25\n（社員 25の氏名）"}]
[]
[]
[null,{"$f":"IF(入力情報!E316<>\"\",\"member with Limited Liability  \"&入力情報!E316,\"\")","v":""}]
[null,{"$f":"IF(入力情報!E317<>\"\",\"有限責任社員　　 　　　　　　\"&入力情報!E317&\" 殿\",\"\")","v":""}]
[]
[{"$nulls":10},{"$f":"IF(入力情報!E318=\"\",\"\",DBCS(TEXT(入力情報!E318,\"0,000\"))&\"yen\")","v":""}]
[{"$nulls":9},{"$f":"IF(入力情報!E318=\"\",\"\",\"金 \"&DBCS(TEXT(入力情報!E318,\"0,000\"))&\"円\")","v":""}]
[]
[null,null,{"$f":"\"Received as a capital contribution to \"&入力情報!$E$6&\" Limited Liability Company.\"","v":"Received as a capital contribution to SampleName Limited Liability Company."}]
[{"$nulls":6},{"$f":"入力情報!$E$6&\"合同会社の出資金として領収しました。\"","v":"SampleName合同会社の出資金として領収しました。"}]
[]
[null,null,{"$f":"入力情報!$E$776&\" year, \"&入力情報!$E$777&\" month-\"&入力情報!$E$778&\" day\"","v":"2024 year, 4 month-25 day"}]
[null,null,{"$f":"DBCS(入力情報!$E$776)&\"年\"&DBCS(入力情報!$E$777)&\"月\"&DBCS(入力情報!$E$778)&\"日\"","v":"２０２４年４月２５日"}]
[]
[{"$nulls":12},{"$f":"入力情報!$E$6&\" Limited Liability Company\"","v":"SampleName Limited Liability Company"}]
[{"$nulls":12},{"$f":"\"Representative Members \"&入力情報!$E$12","v":"Representative Members Mary Smith"}]
[{"$nulls":12},{"$f":"入力情報!E7&\"合同会社\"","v":"サンプルネーム合同会社"}]
[{"$nulls":12},{"$f":"\"代表社員　\"&入力情報!$E$13","v":"代表社員　メアリー　スミス "}]
{"$rows_empty":20}
["Receipt for the capital contribution\n出資金領収書"]
[{"$nulls":31},"←",{"$f":"入力情報!C328","v":"Name of Menbers 26\n（社員 26の氏名）"}]
[]
[]
[null,{"$f":"IF(入力情報!E328<>\"\",\"member with Limited Liability  \"&入力情報!E328,\"\")","v":""}]
[null,{"$f":"IF(入力情報!E329<>\"\",\"有限責任社員　　 　　　　　　\"&入力情報!E329&\" 殿\",\"\")","v":""}]
[]
[{"$nulls":10},{"$f":"IF(入力情報!E330=\"\",\"\",DBCS(TEXT(入力情報!E330,\"0,000\"))&\"yen\")","v":""}]
[{"$nulls":9},{"$f":"IF(入力情報!E330=\"\",\"\",\"金 \"&DBCS(TEXT(入力情報!E330,\"0,000\"))&\"円\")","v":""}]
[]
[null,null,{"$f":"\"Received as a capital contribution to \"&入力情報!$E$6&\" Limited Liability Company.\"","v":"Received as a capital contribution to SampleName Limited Liability Company."}]
[{"$nulls":6},{"$f":"入力情報!$E$6&\"合同会社の出資金として領収しました。\"","v":"SampleName合同会社の出資金として領収しました。"}]
[]
[null,null,{"$f":"入力情報!$E$776&\" year, \"&入力情報!$E$777&\" month-\"&入力情報!$E$778&\" day\"","v":"2024 year, 4 month-25 day"}]
[null,null,{"$f":"DBCS(入力情報!$E$776)&\"年\"&DBCS(入力情報!$E$777)&\"月\"&DBCS(入力情報!$E$778)&\"日\"","v":"２０２４年４月２５日"}]
[]
[{"$nulls":12},{"$f":"入力情報!$E$6&\" Limited Liability Company\"","v":"SampleName Limited Liability Company"}]
[{"$nulls":12},{"$f":"\"Representative Members \"&入力情報!$E$12","v":"Representative Members Mary Smith"}]
[{"$nulls":12},{"$f":"入力情報!E7&\"合同会社\"","v":"サンプルネーム合同会社"}]
[{"$nulls":12},{"$f":"\"代表社員　\"&入力情報!$E$13","v":"代表社員　メアリー　スミス "}]
{"$rows_empty":20}
["Receipt for the capital contribution\n出資金領収書"]
[{"$nulls":31},"←",{"$f":"入力情報!C340","v":"Name of Menbers 27\n（社員 27の氏名）"}]
[]
[]
[null,{"$f":"IF(入力情報!E340<>\"\",\"member with Limited Liability  \"&入力情報!E340,\"\")","v":""}]
[null,{"$f":"IF(入力情報!E341<>\"\",\"有限責任社員　　 　　　　　　\"&入力情報!E341&\" 殿\",\"\")","v":""}]
[]
[{"$nulls":10},{"$f":"IF(入力情報!E342=\"\",\"\",DBCS(TEXT(入力情報!E342,\"0,000\"))&\"yen\")","v":""}]
[{"$nulls":9},{"$f":"IF(入力情報!E342=\"\",\"\",\"金 \"&DBCS(TEXT(入力情報!E342,\"0,000\"))&\"円\")","v":""}]
[]
[null,null,{"$f":"\"Received as a capital contribution to \"&入力情報!$E$6&\" Limited Liability Company.\"","v":"Received as a capital contribution to SampleName Limited Liability Company."}]
[{"$nulls":6},{"$f":"入力情報!$E$6&\"合同会社の出資金として領収しました。\"","v":"SampleName合同会社の出資金として領収しました。"}]
[]
[null,null,{"$f":"入力情報!$E$776&\" year, \"&入力情報!$E$777&\" month-\"&入力情報!$E$778&\" day\"","v":"2024 year, 4 month-25 day"}]
[null,null,{"$f":"DBCS(入力情報!$E$776)&\"年\"&DBCS(入力情報!$E$777)&\"月\"&DBCS(入力情報!$E$778)&\"日\"","v":"２０２４年４月２５日"}]
[]
[{"$nulls":12},{"$f":"入力情報!$E$6&\" Limited Liability Company\"","v":"SampleName Limited Liability Company"}]
[{"$nulls":12},{"$f":"\"Representative Members \"&入力情報!$E$12","v":"Representative Members Mary Smith"}]
[{"$nulls":12},{"$f":"入力情報!E7&\"合同会社\"","v":"サンプルネーム合同会社"}]
[{"$nulls":12},{"$f":"\"代表社員　\"&入力情報!$E$13","v":"代表社員　メアリー　スミス "}]
{"$rows_empty":20}
["Receipt for the capital contribution\n出資金領収書"]
[{"$nulls":31},"←",{"$f":"入力情報!C352","v":"Name of Menbers 28\n（社員 28の氏名）"}]
[]
[]
[null,{"$f":"IF(入力情報!E352<>\"\",\"member with Limited Liability  \"&入力情報!E352,\"\")","v":""}]
[null,{"$f":"IF(入力情報!E353<>\"\",\"有限責任社員　　 　　　　　　\"&入力情報!E353&\" 殿\",\"\")","v":""}]
[]
[{"$nulls":10},{"$f":"IF(入力情報!E354=\"\",\"\",DBCS(TEXT(入力情報!E354,\"0,000\"))&\"yen\")","v":""}]
[{"$nulls":9},{"$f":"IF(入力情報!E354=\"\",\"\",\"金 \"&DBCS(TEXT(入力情報!E354,\"0,000\"))&\"円\")","v":""}]
[]
[null,null,{"$f":"\"Received as a capital contribution to \"&入力情報!$E$6&\" Limited Liability Company.\"","v":"Received as a capital contribution to SampleName Limited Liability Company."}]
[{"$nulls":6},{"$f":"入力情報!$E$6&\"合同会社の出資金として領収しました。\"","v":"SampleName合同会社の出資金として領収しました。"}]
[]
[null,null,{"$f":"入力情報!$E$776&\" year, \"&入力情報!$E$777&\" month-\"&入力情報!$E$778&\" day\"","v":"2024 year, 4 month-25 day"}]
[null,null,{"$f":"DBCS(入力情報!$E$776)&\"年\"&DBCS(入力情報!$E$777)&\"月\"&DBCS(入力情報!$E$778)&\"日\"","v":"２０２４年４月２５日"}]
[]
[{"$nulls":12},{"$f":"入力情報!$E$6&\" Limited Liability Company\"","v":"SampleName Limited Liability Company"}]
[{"$nulls":12},{"$f":"\"Representative Members \"&入力情報!$E$12","v":"Representative Members Mary Smith"}]
[{"$nulls":12},{"$f":"入力情報!E7&\"合同会社\"","v":"サンプルネーム合同会社"}]
[{"$nulls":12},{"$f":"\"代表社員　\"&入力情報!$E$13","v":"代表社員　メアリー　スミス "}]
{"$rows_empty":20}
["Receipt for the capital contribution\n出資金領収書"]
[{"$nulls":31},"←",{"$f":"入力情報!C364","v":"Name of Menbers 29\n（社員 29の氏名）"}]
[]
[]
[null,{"$f":"IF(入力情報!E364<>\"\",\"member with Limited Liability  \"&入力情報!E364,\"\")","v":""}]
[null,{"$f":"IF(入力情報!E365<>\"\",\"有限責任社員　　 　　　　　　\"&入力情報!E365&\" 殿\",\"\")","v":""}]
[]
[{"$nulls":10},{"$f":"IF(入力情報!E366=\"\",\"\",DBCS(TEXT(入力情報!E366,\"0,000\"))&\"yen\")","v":""}]
[{"$nulls":9},{"$f":"IF(入力情報!E366=\"\",\"\",\"金 \"&DBCS(TEXT(入力情報!E366,\"0,000\"))&\"円\")","v":""}]
[]
[null,null,{"$f":"\"Received as a capital contribution to \"&入力情報!$E$6&\" Limited Liability Company.\"","v":"Received as a capital contribution to SampleName Limited Liability Company."}]
[{"$nulls":6},{"$f":"入力情報!$E$6&\"合同会社の出資金として領収しました。\"","v":"SampleName合同会社の出資金として領収しました。"}]
[]
[null,null,{"$f":"入力情報!$E$776&\" year, \"&入力情報!$E$777&\" month-\"&入力情報!$E$778&\" day\"","v":"2024 year, 4 month-25 day"}]
[null,null,{"$f":"DBCS(入力情報!$E$776)&\"年\"&DBCS(入力情報!$E$777)&\"月\"&DBCS(入力情報!$E$778)&\"日\"","v":"２０２４年４月２５日"}]
[]
[{"$nulls":12},{"$f":"入力情報!$E$6&\" Limited Liability Company\"","v":"SampleName Limited Liability Company"}]
[{"$nulls":12},{"$f":"\"Representative Members \"&入力情報!$E$12","v":"Representative Members Mary Smith"}]
[{"$nulls":12},{"$f":"入力情報!E7&\"合同会社\"","v":"サンプルネーム合同会社"}]
[{"$nulls":12},{"$f":"\"代表社員　\"&入力情報!$E$13","v":"代表社員　メアリー　スミス "}]
{"$rows_empty":20}
["Receipt for the capital contribution\n出資金領収書"]
[{"$nulls":31},"←",{"$f":"入力情報!C376","v":"Name of Menbers 30\n（社員 30の氏名）"}]
[]
[]
[null,{"$f":"IF(入力情報!E376<>\"\",\"member with Limited Liability  \"&入力情報!E376,\"\")","v":""}]
[null,{"$f":"IF(入力情報!E377<>\"\",\"有限責任社員　　 　　　　　　\"&入力情報!E377&\" 殿\",\"\")","v":""}]
[]
[{"$nulls":10},{"$f":"IF(入力情報!E378=\"\",\"\",DBCS(TEXT(入力情報!E378,\"0,000\"))&\"yen\")","v":""}]
[{"$nulls":9},{"$f":"IF(入力情報!E378=\"\",\"\",\"金 \"&DBCS(TEXT(入力情報!E378,\"0,000\"))&\"円\")","v":""}]
[]
[null,null,{"$f":"\"Received as a capital contribution to \"&入力情報!$E$6&\" Limited Liability Company.\"","v":"Received as a capital contribution to SampleName Limited Liability Company."}]
[{"$nulls":6},{"$f":"入力情報!$E$6&\"合同会社の出資金として領収しました。\"","v":"SampleName合同会社の出資金として領収しました。"}]
[]
[null,null,{"$f":"入力情報!$E$776&\" year, \"&入力情報!$E$777&\" month-\"&入力情報!$E$778&\" day\"","v":"2024 year, 4 month-25 day"}]
[null,null,{"$f":"DBCS(入力情報!$E$776)&\"年\"&DBCS(入力情報!$E$777)&\"月\"&DBCS(入力情報!$E$778)&\"日\"","v":"２０２４年４月２５日"}]
[]
[{"$nulls":12},{"$f":"入力情報!$E$6&\" Limited Liability Company\"","v":"SampleName Limited Liability Company"}]
[{"$nulls":12},{"$f":"\"Representative Members \"&入力情報!$E$12","v":"Representative Members Mary Smith"}]
[{"$nulls":12},{"$f":"入力情報!E7&\"合同会社\"","v":"サンプルネーム合同会社"}]
[{"$nulls":12},{"$f":"\"代表社員　\"&入力情報!$E$13","v":"代表社員　メアリー　スミス "}]
{"$rows_empty":20}
["Receipt for the capital contribution\n出資金領収書"]
[{"$nulls":31},"←",{"$f":"入力情報!C388","v":"Name of Menbers 31\n（社員 31の氏名）"}]
[]
[]
[null,{"$f":"IF(入力情報!E388<>\"\",\"member with Limited Liability  \"&入力情報!E388,\"\")","v":""}]
[null,{"$f":"IF(入力情報!E389<>\"\",\"有限責任社員　　 　　　　　　\"&入力情報!E389&\" 殿\",\"\")","v":""}]
[]
[{"$nulls":10},{"$f":"IF(入力情報!E390=\"\",\"\",DBCS(TEXT(入力情報!E390,\"0,000\"))&\"yen\")","v":""}]
[{"$nulls":9},{"$f":"IF(入力情報!E390=\"\",\"\",\"金 \"&DBCS(TEXT(入力情報!E390,\"0,000\"))&\"円\")","v":""}]
[]
[null,null,{"$f":"\"Received as a capital contribution to \"&入力情報!$E$6&\" Limited Liability Company.\"","v":"Received as a capital contribution to SampleName Limited Liability Company."}]
[{"$nulls":6},{"$f":"入力情報!$E$6&\"合同会社の出資金として領収しました。\"","v":"SampleName合同会社の出資金として領収しました。"}]
[]
[null,null,{"$f":"入力情報!$E$776&\" year, \"&入力情報!$E$777&\" month-\"&入力情報!$E$778&\" day\"","v":"2024 year, 4 month-25 day"}]
[null,null,{"$f":"DBCS(入力情報!$E$776)&\"年\"&DBCS(入力情報!$E$777)&\"月\"&DBCS(入力情報!$E$778)&\"日\"","v":"２０２４年４月２５日"}]
[]
[{"$nulls":12},{"$f":"入力情報!$E$6&\" Limited Liability Company\"","v":"SampleName Limited Liability Company"}]
[{"$nulls":12},{"$f":"\"Representative Members \"&入力情報!$E$12","v":"Representative Members Mary Smith"}]
[{"$nulls":12},{"$f":"入力情報!E7&\"合同会社\"","v":"サンプルネーム合同会社"}]
[{"$nulls":12},{"$f":"\"代表社員　\"&入力情報!$E$13","v":"代表社員　メアリー　スミス "}]
{"$rows_empty":20}
["Receipt for the capital contribution\n出資金領収書"]
[{"$nulls":31},"←",{"$f":"入力情報!C400","v":"Name of Menbers 32\n（社員 32の氏名）"}]
[]
[]
[null,{"$f":"IF(入力情報!E400<>\"\",\"member with Limited Liability  \"&入力情報!E400,\"\")","v":""}]
[null,{"$f":"IF(入力情報!E401<>\"\",\"有限責任社員　　 　　　　　　\"&入力情報!E401&\" 殿\",\"\")","v":""}]
[]
[{"$nulls":10},{"$f":"IF(入力情報!E402=\"\",\"\",DBCS(TEXT(入力情報!E402,\"0,000\"))&\"yen\")","v":""}]
[{"$nulls":9},{"$f":"IF(入力情報!E402=\"\",\"\",\"金 \"&DBCS(TEXT(入力情報!E402,\"0,000\"))&\"円\")","v":""}]
[]
[null,null,{"$f":"\"Received as a capital contribution to \"&入力情報!$E$6&\" Limited Liability Company.\"","v":"Received as a capital contribution to SampleName Limited Liability Company."}]
[{"$nulls":6},{"$f":"入力情報!$E$6&\"合同会社の出資金として領収しました。\"","v":"SampleName合同会社の出資金として領収しました。"}]
[]
[null,null,{"$f":"入力情報!$E$776&\" year, \"&入力情報!$E$777&\" month-\"&入力情報!$E$778&\" day\"","v":"2024 year, 4 month-25 day"}]
[null,null,{"$f":"DBCS(入力情報!$E$776)&\"年\"&DBCS(入力情報!$E$777)&\"月\"&DBCS(入力情報!$E$778)&\"日\"","v":"２０２４年４月２５日"}]
[]
[{"$nulls":12},{"$f":"入力情報!$E$6&\" Limited Liability Company\"","v":"SampleName Limited Liability Company"}]
[{"$nulls":12},{"$f":"\"Representative Members \"&入力情報!$E$12","v":"Representative Members Mary Smith"}]
[{"$nulls":12},{"$f":"入力情報!E7&\"合同会社\"","v":"サンプルネーム合同会社"}]
[{"$nulls":12},{"$f":"\"代表社員　\"&入力情報!$E$13","v":"代表社員　メアリー　スミス "}]
{"$rows_empty":20}
["Receipt for the capital contribution\n出資金領収書"]
[{"$nulls":31},"←",{"$f":"入力情報!C412","v":"Name of Menbers 33\n（社員 33の氏名）"}]
[]
[]
[null,{"$f":"IF(入力情報!E412<>\"\",\"member with Limited Liability  \"&入力情報!E412,\"\")","v":""}]
[null,{"$f":"IF(入力情報!E413<>\"\",\"有限責任社員　　 　　　　　　\"&入力情報!E413&\" 殿\",\"\")","v":""}]
[]
[{"$nulls":10},{"$f":"IF(入力情報!E414=\"\",\"\",DBCS(TEXT(入力情報!E414,\"0,000\"))&\"yen\")","v":""}]
[{"$nulls":9},{"$f":"IF(入力情報!E414=\"\",\"\",\"金 \"&DBCS(TEXT(入力情報!E414,\"0,000\"))&\"円\")","v":""}]
[]
[null,null,{"$f":"\"Received as a capital contribution to \"&入力情報!$E$6&\" Limited Liability Company.\"","v":"Received as a capital contribution to SampleName Limited Liability Company."}]
[{"$nulls":6},{"$f":"入力情報!$E$6&\"合同会社の出資金として領収しました。\"","v":"SampleName合同会社の出資金として領収しました。"}]
[]
[null,null,{"$f":"入力情報!$E$776&\" year, \"&入力情報!$E$777&\" month-\"&入力情報!$E$778&\" day\"","v":"2024 year, 4 month-25 day"}]
[null,null,{"$f":"DBCS(入力情報!$E$776)&\"年\"&DBCS(入力情報!$E$777)&\"月\"&DBCS(入力情報!$E$778)&\"日\"","v":"２０２４年４月２５日"}]
[]
[{"$nulls":12},{"$f":"入力情報!$E$6&\" Limited Liability Company\"","v":"SampleName Limited Liability Company"}]
[{"$nulls":12},{"$f":"\"Representative Members \"&入力情報!$E$12","v":"Representative Members Mary Smith"}]
[{"$nulls":12},{"$f":"入力情報!E7&\"合同会社\"","v":"サンプルネーム合同会社"}]
[{"$nulls":12},{"$f":"\"代表社員　\"&入力情報!$E$13","v":"代表社員　メアリー　スミス "}]
{"$rows_empty":20}
["Receipt for the capital contribution\n出資金領収書"]
[{"$nulls":31},"←",{"$f":"入力情報!C424","v":"Name of Menbers 34\n（社員 34の氏名）"}]
[]
[]
[null,{"$f":"IF(入力情報!E424<>\"\",\"member with Limited Liability  \"&入力情報!E424,\"\")","v":""}]
[null,{"$f":"IF(入力情報!E425<>\"\",\"有限責任社員　　 　　　　　　\"&入力情報!E425&\" 殿\",\"\")","v":""}]
[]
[{"$nulls":10},{"$f":"IF(入力情報!E426=\"\",\"\",DBCS(TEXT(入力情報!E426,\"0,000\"))&\"yen\")","v":""}]
[{"$nulls":9},{"$f":"IF(入力情報!E426=\"\",\"\",\"金 \"&DBCS(TEXT(入力情報!E426,\"0,000\"))&\"円\")","v":""}]
[]
[null,null,{"$f":"\"Received as a capital contribution to \"&入力情報!$E$6&\" Limited Liability Company.\"","v":"Received as a capital contribution to SampleName Limited Liability Company."}]
[{"$nulls":6},{"$f":"入力情報!$E$6&\"合同会社の出資金として領収しました。\"","v":"SampleName合同会社の出資金として領収しました。"}]
[]
[null,null,{"$f":"入力情報!$E$776&\" year, \"&入力情報!$E$777&\" month-\"&入力情報!$E$778&\" day\"","v":"2024 year, 4 month-25 day"}]
[null,null,{"$f":"DBCS(入力情報!$E$776)&\"年\"&DBCS(入力情報!$E$777)&\"月\"&DBCS(入力情報!$E$778)&\"日\"","v":"２０２４年４月２５日"}]
[]
[{"$nulls":12},{"$f":"入力情報!$E$6&\" Limited Liability Company\"","v":"SampleName Limited Liability Company"}]
[{"$nulls":12},{"$f":"\"Representative Members \"&入力情報!$E$12","v":"Representative Members Mary Smith"}]
[{"$nulls":12},{"$f":"入力情報!E7&\"合同会社\"","v":"サンプルネーム合同会社"}]
[{"$nulls":12},{"$f":"\"代表社員　\"&入力情報!$E$13","v":"代表社員　メアリー　スミス "}]
{"$rows_empty":20}
["Receipt for the capital contribution\n出資金領収書"]
[{"$nulls":31},"←",{"$f":"入力情報!C436","v":"Name of Menbers 35\n（社員 35の氏名）"}]
[]
[]
[null,{"$f":"IF(入力情報!E436<>\"\",\"member with Limited Liability  \"&入力情報!E436,\"\")","v":""}]
[null,{"$f":"IF(入力情報!E437<>\"\",\"有限責任社員　　 　　　　　　\"&入力情報!E437&\" 殿\",\"\")","v":""}]
[]
[{"$nulls":10},{"$f":"IF(入力情報!E438=\"\",\"\",DBCS(TEXT(入力情報!E438,\"0,000\"))&\"yen\")","v":""}]
[{"$nulls":9},{"$f":"IF(入力情報!E438=\"\",\"\",\"金 \"&DBCS(TEXT(入力情報!E438,\"0,000\"))&\"円\")","v":""}]
[]
[null,null,{"$f":"\"Received as a capital contribution to \"&入力情報!$E$6&\" Limited Liability Company.\"","v":"Received as a capital contribution to SampleName Limited Liability Company."}]
[{"$nulls":6},{"$f":"入力情報!$E$6&\"合同会社の出資金として領収しました。\"","v":"SampleName合同会社の出資金として領収しました。"}]
[]
[null,null,{"$f":"入力情報!$E$776&\" year, \"&入力情報!$E$777&\" month-\"&入力情報!$E$778&\" day\"","v":"2024 year, 4 month-25 day"}]
[null,null,{"$f":"DBCS(入力情報!$E$776)&\"年\"&DBCS(入力情報!$E$777)&\"月\"&DBCS(入力情報!$E$778)&\"日\"","v":"２０２４年４月２５日"}]
[]
[{"$nulls":12},{"$f":"入力情報!$E$6&\" Limited Liability Company\"","v":"SampleName Limited Liability Company"}]
[{"$nulls":12},{"$f":"\"Representative Members \"&入力情報!$E$12","v":"Representative Members Mary Smith"}]
[{"$nulls":12},{"$f":"入力情報!E7&\"合同会社\"","v":"サンプルネーム合同会社"}]
[{"$nulls":12},{"$f":"\"代表社員　\"&入力情報!$E$13","v":"代表社員　メアリー　スミス "}]
{"$rows_empty":20}
["Receipt for the capital contribution\n出資金領収書"]
[{"$nulls":31},"←",{"$f":"入力情報!C448","v":"Name of Menbers 36\n（社員 36の氏名）"}]
[]
[]
[null,{"$f":"IF(入力情報!E448<>\"\",\"member with Limited Liability  \"&入力情報!E448,\"\")","v":""}]
[null,{"$f":"IF(入力情報!E449<>\"\",\"有限責任社員　　 　　　　　　\"&入力情報!E449&\" 殿\",\"\")","v":""}]
[]
[{"$nulls":10},{"$f":"IF(入力情報!E450=\"\",\"\",DBCS(TEXT(入力情報!E450,\"0,000\"))&\"yen\")","v":""}]
[{"$nulls":9},{"$f":"IF(入力情報!E450=\"\",\"\",\"金 \"&DBCS(TEXT(入力情報!E450,\"0,000\"))&\"円\")","v":""}]
[]
[null,null,{"$f":"\"Received as a capital contribution to \"&入力情報!$E$6&\" Limited Liability Company.\"","v":"Received as a capital contribution to SampleName Limited Liability Company."}]
[{"$nulls":6},{"$f":"入力情報!$E$6&\"合同会社の出資金として領収しました。\"","v":"SampleName合同会社の出資金として領収しました。"}]
[]
[null,null,{"$f":"入力情報!$E$776&\" year, \"&入力情報!$E$777&\" month-\"&入力情報!$E$778&\" day\"","v":"2024 year, 4 month-25 day"}]
[null,null,{"$f":"DBCS(入力情報!$E$776)&\"年\"&DBCS(入力情報!$E$777)&\"月\"&DBCS(入力情報!$E$778)&\"日\"","v":"２０２４年４月２５日"}]
[]
[{"$nulls":12},{"$f":"入力情報!$E$6&\" Limited Liability Company\"","v":"SampleName Limited Liability Company"}]
[{"$nulls":12},{"$f":"\"Representative Members \"&入力情報!$E$12","v":"Representative Members Mary Smith"}]
[{"$nulls":12},{"$f":"入力情報!E7&\"合同会社\"","v":"サンプルネーム合同会社"}]
[{"$nulls":12},{"$f":"\"代表社員　\"&入力情報!$E$13","v":"代表社員　メアリー　スミス "}]
{"$rows_empty":20}
["Receipt for the capital contribution\n出資金領収書"]
[{"$nulls":31},"←",{"$f":"入力情報!C460","v":"Name of Menbers 37\n（社員 37の氏名）"}]
[]
[]
[null,{"$f":"IF(入力情報!E460<>\"\",\"member with Limited Liability  \"&入力情報!E460,\"\")","v":""}]
[null,{"$f":"IF(入力情報!E461<>\"\",\"有限責任社員　　 　　　　　　\"&入力情報!E461&\" 殿\",\"\")","v":""}]
[]
[{"$nulls":10},{"$f":"IF(入力情報!E461=\"\",\"\",DBCS(TEXT(入力情報!E461,\"0,000\"))&\"yen\")","v":""}]
[{"$nulls":9},{"$f":"IF(入力情報!E461=\"\",\"\",\"金 \"&DBCS(TEXT(入力情報!E461,\"0,000\"))&\"円\")","v":""}]
[]
[null,null,{"$f":"\"Received as a capital contribution to \"&入力情報!$E$6&\" Limited Liability Company.\"","v":"Received as a capital contribution to SampleName Limited Liability Company."}]
[{"$nulls":6},{"$f":"入力情報!$E$6&\"合同会社の出資金として領収しました。\"","v":"SampleName合同会社の出資金として領収しました。"}]
[]
[null,null,{"$f":"入力情報!$E$776&\" year, \"&入力情報!$E$777&\" month-\"&入力情報!$E$778&\" day\"","v":"2024 year, 4 month-25 day"}]
[null,null,{"$f":"DBCS(入力情報!$E$776)&\"年\"&DBCS(入力情報!$E$777)&\"月\"&DBCS(入力情報!$E$778)&\"日\"","v":"２０２４年４月２５日"}]
[]
[{"$nulls":12},{"$f":"入力情報!$E$6&\" Limited Liability Company\"","v":"SampleName Limited Liability Company"}]
[{"$nulls":12},{"$f":"\"Representative Members \"&入力情報!$E$12","v":"Representative Members Mary Smith"}]
[{"$nulls":12},{"$f":"入力情報!E7&\"合同会社\"","v":"サンプルネーム合同会社"}]
[{"$nulls":12},{"$f":"\"代表社員　\"&入力情報!$E$13","v":"代表社員　メアリー　スミス "}]
{"$rows_empty":20}
["Receipt for the capital contribution\n出資金領収書"]
[{"$nulls":31},"←",{"$f":"入力情報!C472","v":"Name of Menbers 38\n（社員 38の氏名）"}]
[]
[]
[null,{"$f":"IF(入力情報!E472<>\"\",\"member with Limited Liability  \"&入力情報!E472,\"\")","v":""}]
[null,{"$f":"IF(入力情報!E473<>\"\",\"有限責任社員　　 　　　　　　\"&入力情報!E473&\" 殿\",\"\")","v":""}]
[]
[{"$nulls":10},{"$f":"IF(入力情報!E474=\"\",\"\",DBCS(TEXT(入力情報!E474,\"0,000\"))&\"yen\")","v":""}]
[{"$nulls":9},{"$f":"IF(入力情報!E474=\"\",\"\",\"金 \"&DBCS(TEXT(入力情報!E474,\"0,000\"))&\"円\")","v":""}]
[]
[null,null,{"$f":"\"Received as a capital contribution to \"&入力情報!$E$6&\" Limited Liability Company.\"","v":"Received as a capital contribution to SampleName Limited Liability Company."}]
[{"$nulls":6},{"$f":"入力情報!$E$6&\"合同会社の出資金として領収しました。\"","v":"SampleName合同会社の出資金として領収しました。"}]
[]
[null,null,{"$f":"入力情報!$E$776&\" year, \"&入力情報!$E$777&\" month-\"&入力情報!$E$778&\" day\"","v":"2024 year, 4 month-25 day"}]
[null,null,{"$f":"DBCS(入力情報!$E$776)&\"年\"&DBCS(入力情報!$E$777)&\"月\"&DBCS(入力情報!$E$778)&\"日\"","v":"２０２４年４月２５日"}]
[]
[{"$nulls":12},{"$f":"入力情報!$E$6&\" Limited Liability Company\"","v":"SampleName Limited Liability Company"}]
[{"$nulls":12},{"$f":"\"Representative Members \"&入力情報!$E$12","v":"Representative Members Mary Smith"}]
[{"$nulls":12},{"$f":"入力情報!E7&\"合同会社\"","v":"サンプルネーム合同会社"}]
[{"$nulls":12},{"$f":"\"代表社員　\"&入力情報!$E$13","v":"代表社員　メアリー　スミス "}]
{"$rows_empty":20}
["Receipt for the capital contribution\n出資金領収書"]
[{"$nulls":31},"←",{"$f":"入力情報!C484","v":"Name of Menbers 39\n（社員 39の氏名）"}]
[]
[]
[null,{"$f":"IF(入力情報!E484<>\"\",\"member with Limited Liability  \"&入力情報!E484,\"\")","v":""}]
[null,{"$f":"IF(入力情報!E485<>\"\",\"有限責任社員　　 　　　　　　\"&入力情報!E485&\" 殿\",\"\")","v":""}]
[]
[{"$nulls":10},{"$f":"IF(入力情報!E486=\"\",\"\",DBCS(TEXT(入力情報!E486,\"0,000\"))&\"yen\")","v":""}]
[{"$nulls":9},{"$f":"IF(入力情報!E486=\"\",\"\",\"金 \"&DBCS(TEXT(入力情報!E486,\"0,000\"))&\"円\")","v":""}]
[]
[null,null,{"$f":"\"Received as a capital contribution to \"&入力情報!$E$6&\" Limited Liability Company.\"","v":"Received as a capital contribution to SampleName Limited Liability Company."}]
[{"$nulls":6},{"$f":"入力情報!$E$6&\"合同会社の出資金として領収しました。\"","v":"SampleName合同会社の出資金として領収しました。"}]
[]
[null,null,{"$f":"入力情報!$E$776&\" year, \"&入力情報!$E$777&\" month-\"&入力情報!$E$778&\" day\"","v":"2024 year, 4 month-25 day"}]
[null,null,{"$f":"DBCS(入力情報!$E$776)&\"年\"&DBCS(入力情報!$E$777)&\"月\"&DBCS(入力情報!$E$778)&\"日\"","v":"２０２４年４月２５日"}]
[]
[{"$nulls":12},{"$f":"入力情報!$E$6&\" Limited Liability Company\"","v":"SampleName Limited Liability Company"}]
[{"$nulls":12},{"$f":"\"Representative Members \"&入力情報!$E$12","v":"Representative Members Mary Smith"}]
[{"$nulls":12},{"$f":"入力情報!E7&\"合同会社\"","v":"サンプルネーム合同会社"}]
[{"$nulls":12},{"$f":"\"代表社員　\"&入力情報!$E$13","v":"代表社員　メアリー　スミス "}]
{"$rows_empty":20}
["Receipt for the capital contribution\n出資金領収書"]
[{"$nulls":31},"←",{"$f":"入力情報!C496","v":"Name of Menbers 40\n（社員 40の氏名）"}]
[]
[]
[null,{"$f":"IF(入力情報!E496<>\"\",\"member with Limited Liability  \"&入力情報!E496,\"\")","v":""}]
[null,{"$f":"IF(入力情報!E497<>\"\",\"有限責任社員　　 　　　　　　\"&入力情報!E497&\" 殿\",\"\")","v":""}]
[]
[{"$nulls":10},{"$f":"IF(入力情報!E498=\"\",\"\",DBCS(TEXT(入力情報!E498,\"0,000\"))&\"yen\")","v":""}]
[{"$nulls":9},{"$f":"IF(入力情報!E498=\"\",\"\",\"金 \"&DBCS(TEXT(入力情報!E498,\"0,000\"))&\"円\")","v":""}]
[]
[null,null,{"$f":"\"Received as a capital contribution to \"&入力情報!$E$6&\" Limited Liability Company.\"","v":"Received as a capital contribution to SampleName Limited Liability Company."}]
[{"$nulls":6},{"$f":"入力情報!$E$6&\"合同会社の出資金として領収しました。\"","v":"SampleName合同会社の出資金として領収しました。"}]
[]
[null,null,{"$f":"入力情報!$E$776&\" year, \"&入力情報!$E$777&\" month-\"&入力情報!$E$778&\" day\"","v":"2024 year, 4 month-25 day"}]
[null,null,{"$f":"DBCS(入力情報!$E$776)&\"年\"&DBCS(入力情報!$E$777)&\"月\"&DBCS(入力情報!$E$778)&\"日\"","v":"２０２４年４月２５日"}]
[]
[{"$nulls":12},{"$f":"入力情報!$E$6&\" Limited Liability Company\"","v":"SampleName Limited Liability Company"}]
[{"$nulls":12},{"$f":"\"Representative Members \"&入力情報!$E$12","v":"Representative Members Mary Smith"}]
[{"$nulls":12},{"$f":"入力情報!E7&\"合同会社\"","v":"サンプルネーム合同会社"}]
[{"$nulls":12},{"$f":"\"代表社員　\"&入力情報!$E$13","v":"代表社員　メアリー　スミス "}]
{"$rows_empty":20}
["Receipt for the capital contribution\n出資金領収書"]
[{"$nulls":31},"←",{"$f":"入力情報!C508","v":"Name of Menbers 41\n（社員 41の氏名）"}]
[]
[]
[null,{"$f":"IF(入力情報!E508<>\"\",\"member with Limited Liability  \"&入力情報!E508,\"\")","v":""}]
[null,{"$f":"IF(入力情報!E509<>\"\",\"有限責任社員　　 　　　　　　\"&入力情報!E509&\" 殿\",\"\")","v":""}]
[]
[{"$nulls":10},{"$f":"IF(入力情報!E510=\"\",\"\",DBCS(TEXT(入力情報!E510,\"0,000\"))&\"yen\")","v":""}]
[{"$nulls":9},{"$f":"IF(入力情報!E510=\"\",\"\",\"金 \"&DBCS(TEXT(入力情報!E510,\"0,000\"))&\"円\")","v":""}]
[]
[null,null,{"$f":"\"Received as a capital contribution to \"&入力情報!$E$6&\" Limited Liability Company.\"","v":"Received as a capital contribution to SampleName Limited Liability Company."}]
[{"$nulls":6},{"$f":"入力情報!$E$6&\"合同会社の出資金として領収しました。\"","v":"SampleName合同会社の出資金として領収しました。"}]
[]
[null,null,{"$f":"入力情報!$E$776&\" year, \"&入力情報!$E$777&\" month-\"&入力情報!$E$778&\" day\"","v":"2024 year, 4 month-25 day"}]
[null,null,{"$f":"DBCS(入力情報!$E$776)&\"年\"&DBCS(入力情報!$E$777)&\"月\"&DBCS(入力情報!$E$778)&\"日\"","v":"２０２４年４月２５日"}]
[]
[{"$nulls":12},{"$f":"入力情報!$E$6&\" Limited Liability Company\"","v":"SampleName Limited Liability Company"}]
[{"$nulls":12},{"$f":"\"Representative Members \"&入力情報!$E$12","v":"Representative Members Mary Smith"}]
[{"$nulls":12},{"$f":"入力情報!E7&\"合同会社\"","v":"サンプルネーム合同会社"}]
[{"$nulls":12},{"$f":"\"代表社員　\"&入力情報!$E$13","v":"代表社員　メアリー　スミス "}]
{"$rows_empty":20}
["Receipt for the capital contribution\n出資金領収書"]
[{"$nulls":31},"←",{"$f":"入力情報!C520","v":"Name of Menbers 42\n（社員 42の氏名）"}]
[]
[]
[null,{"$f":"IF(入力情報!E520<>\"\",\"member with Limited Liability  \"&入力情報!E520,\"\")","v":""}]
[null,{"$f":"IF(入力情報!E521<>\"\",\"有限責任社員　　 　　　　　　\"&入力情報!E521&\" 殿\",\"\")","v":""}]
[]
[{"$nulls":10},{"$f":"IF(入力情報!E522=\"\",\"\",DBCS(TEXT(入力情報!E522,\"0,000\"))&\"yen\")","v":""}]
[{"$nulls":9},{"$f":"IF(入力情報!E522=\"\",\"\",\"金 \"&DBCS(TEXT(入力情報!E522,\"0,000\"))&\"円\")","v":""}]
[]
[null,null,{"$f":"\"Received as a capital contribution to \"&入力情報!$E$6&\" Limited Liability Company.\"","v":"Received as a capital contribution to SampleName Limited Liability Company."}]
[{"$nulls":6},{"$f":"入力情報!$E$6&\"合同会社の出資金として領収しました。\"","v":"SampleName合同会社の出資金として領収しました。"}]
[]
[null,null,{"$f":"入力情報!$E$776&\" year, \"&入力情報!$E$777&\" month-\"&入力情報!$E$778&\" day\"","v":"2024 year, 4 month-25 day"}]
[null,null,{"$f":"DBCS(入力情報!$E$776)&\"年\"&DBCS(入力情報!$E$777)&\"月\"&DBCS(入力情報!$E$778)&\"日\"","v":"２０２４年４月２５日"}]
[]
[{"$nulls":12},{"$f":"入力情報!$E$6&\" Limited Liability Company\"","v":"SampleName Limited Liability Company"}]
[{"$nulls":12},{"$f":"\"Representative Members \"&入力情報!$E$12","v":"Representative Members Mary Smith"}]
[{"$nulls":12},{"$f":"入力情報!E7&\"合同会社\"","v":"サンプルネーム合同会社"}]
[{"$nulls":12},{"$f":"\"代表社員　\"&入力情報!$E$13","v":"代表社員　メアリー　スミス "}]
{"$rows_empty":20}
["Receipt for the capital contribution\n出資金領収書"]
[{"$nulls":31},"←",{"$f":"入力情報!C532","v":"Name of Menbers 43\n（社員 43の氏名）"}]
[]
[]
[null,{"$f":"IF(入力情報!E532<>\"\",\"member with Limited Liability  \"&入力情報!E532,\"\")","v":""}]
[null,{"$f":"IF(入力情報!E533<>\"\",\"有限責任社員　　 　　　　　　\"&入力情報!E533&\" 殿\",\"\")","v":""}]
[]
[{"$nulls":10},{"$f":"IF(入力情報!E534=\"\",\"\",DBCS(TEXT(入力情報!E534,\"0,000\"))&\"yen\")","v":""}]
[{"$nulls":9},{"$f":"IF(入力情報!E534=\"\",\"\",\"金 \"&DBCS(TEXT(入力情報!E534,\"0,000\"))&\"円\")","v":""}]
[]
[null,null,{"$f":"\"Received as a capital contribution to \"&入力情報!$E$6&\" Limited Liability Company.\"","v":"Received as a capital contribution to SampleName Limited Liability Company."}]
[{"$nulls":6},{"$f":"入力情報!$E$6&\"合同会社の出資金として領収しました。\"","v":"SampleName合同会社の出資金として領収しました。"}]
[]
[null,null,{"$f":"入力情報!$E$776&\" year, \"&入力情報!$E$777&\" month-\"&入力情報!$E$778&\" day\"","v":"2024 year, 4 month-25 day"}]
[null,null,{"$f":"DBCS(入力情報!$E$776)&\"年\"&DBCS(入力情報!$E$777)&\"月\"&DBCS(入力情報!$E$778)&\"日\"","v":"２０２４年４月２５日"}]
[]
[{"$nulls":12},{"$f":"入力情報!$E$6&\" Limited Liability Company\"","v":"SampleName Limited Liability Company"}]
[{"$nulls":12},{"$f":"\"Representative Members \"&入力情報!$E$12","v":"Representative Members Mary Smith"}]
[{"$nulls":12},{"$f":"入力情報!E7&\"合同会社\"","v":"サンプルネーム合同会社"}]
[{"$nulls":12},{"$f":"\"代表社員　\"&入力情報!$E$13","v":"代表社員　メアリー　スミス "}]
{"$rows_empty":20}
["Receipt for the capital contribution\n出資金領収書"]
[{"$nulls":31},"←",{"$f":"入力情報!C544","v":"Name of Menbers 44\n（社員 44の氏名）"}]
[]
[]
[null,{"$f":"IF(入力情報!E544<>\"\",\"member with Limited Liability  \"&入力情報!E544,\"\")","v":""}]
[null,{"$f":"IF(入力情報!E545<>\"\",\"有限責任社員　　 　　　　　　\"&入力情報!E545&\" 殿\",\"\")","v":""}]
[]
[{"$nulls":10},{"$f":"IF(入力情報!E546=\"\",\"\",DBCS(TEXT(入力情報!E546,\"0,000\"))&\"yen\")","v":""}]
[{"$nulls":9},{"$f":"IF(入力情報!E546=\"\",\"\",\"金 \"&DBCS(TEXT(入力情報!E546,\"0,000\"))&\"円\")","v":""}]
[]
[null,null,{"$f":"\"Received as a capital contribution to \"&入力情報!$E$6&\" Limited Liability Company.\"","v":"Received as a capital contribution to SampleName Limited Liability Company."}]
[{"$nulls":6},{"$f":"入力情報!$E$6&\"合同会社の出資金として領収しました。\"","v":"SampleName合同会社の出資金として領収しました。"}]
[]
[null,null,{"$f":"入力情報!$E$776&\" year, \"&入力情報!$E$777&\" month-\"&入力情報!$E$778&\" day\"","v":"2024 year, 4 month-25 day"}]
[null,null,{"$f":"DBCS(入力情報!$E$776)&\"年\"&DBCS(入力情報!$E$777)&\"月\"&DBCS(入力情報!$E$778)&\"日\"","v":"２０２４年４月２５日"}]
[]
[{"$nulls":12},{"$f":"入力情報!$E$6&\" Limited Liability Company\"","v":"SampleName Limited Liability Company"}]
[{"$nulls":12},{"$f":"\"Representative Members \"&入力情報!$E$12","v":"Representative Members Mary Smith"}]
[{"$nulls":12},{"$f":"入力情報!E7&\"合同会社\"","v":"サンプルネーム合同会社"}]
[{"$nulls":12},{"$f":"\"代表社員　\"&入力情報!$E$13","v":"代表社員　メアリー　スミス "}]
{"$rows_empty":20}
["Receipt for the capital contribution\n出資金領収書"]
[{"$nulls":31},"←",{"$f":"入力情報!C556","v":"Name of Menbers 45\n（社員 45の氏名）"}]
[]
[]
[null,{"$f":"IF(入力情報!E556<>\"\",\"member with Limited Liability  \"&入力情報!E556,\"\")","v":""}]
[null,{"$f":"IF(入力情報!E557<>\"\",\"有限責任社員　　 　　　　　　\"&入力情報!E557&\" 殿\",\"\")","v":""}]
[]
[{"$nulls":10},{"$f":"IF(入力情報!E558=\"\",\"\",DBCS(TEXT(入力情報!E558,\"0,000\"))&\"yen\")","v":""}]
[{"$nulls":9},{"$f":"IF(入力情報!E558=\"\",\"\",\"金 \"&DBCS(TEXT(入力情報!E558,\"0,000\"))&\"円\")","v":""}]
[]
[null,null,{"$f":"\"Received as a capital contribution to \"&入力情報!$E$6&\" Limited Liability Company.\"","v":"Received as a capital contribution to SampleName Limited Liability Company."}]
[{"$nulls":6},{"$f":"入力情報!$E$6&\"合同会社の出資金として領収しました。\"","v":"SampleName合同会社の出資金として領収しました。"}]
[]
[null,null,{"$f":"入力情報!$E$776&\" year, \"&入力情報!$E$777&\" month-\"&入力情報!$E$778&\" day\"","v":"2024 year, 4 month-25 day"}]
[null,null,{"$f":"DBCS(入力情報!$E$776)&\"年\"&DBCS(入力情報!$E$777)&\"月\"&DBCS(入力情報!$E$778)&\"日\"","v":"２０２４年４月２５日"}]
[]
[{"$nulls":12},{"$f":"入力情報!$E$6&\" Limited Liability Company\"","v":"SampleName Limited Liability Company"}]
[{"$nulls":12},{"$f":"\"Representative Members \"&入力情報!$E$12","v":"Representative Members Mary Smith"}]
[{"$nulls":12},{"$f":"入力情報!E7&\"合同会社\"","v":"サンプルネーム合同会社"}]
[{"$nulls":12},{"$f":"\"代表社員　\"&入力情報!$E$13","v":"代表社員　メアリー　スミス "}]
{"$rows_empty":20}
["Receipt for the capital contribution\n出資金領収書"]
[{"$nulls":31},"←",{"$f":"入力情報!C568","v":"Name of Menbers 46\n（社員 46の氏名）"}]
[]
[]
[null,{"$f":"IF(入力情報!E568<>\"\",\"member with Limited Liability  \"&入力情報!E568,\"\")","v":""}]
[null,{"$f":"IF(入力情報!E569<>\"\",\"有限責任社員　　 　　　　　　\"&入力情報!E569&\" 殿\",\"\")","v":""}]
[]
[{"$nulls":10},{"$f":"IF(入力情報!E570=\"\",\"\",DBCS(TEXT(入力情報!E570,\"0,000\"))&\"yen\")","v":""}]
[{"$nulls":9},{"$f":"IF(入力情報!E570=\"\",\"\",\"金 \"&DBCS(TEXT(入力情報!E570,\"0,000\"))&\"円\")","v":""}]
[]
[null,null,{"$f":"\"Received as a capital contribution to \"&入力情報!$E$6&\" Limited Liability Company.\"","v":"Received as a capital contribution to SampleName Limited Liability Company."}]
[{"$nulls":6},{"$f":"入力情報!$E$6&\"合同会社の出資金として領収しました。\"","v":"SampleName合同会社の出資金として領収しました。"}]
[]
[null,null,{"$f":"入力情報!$E$776&\" year, \"&入力情報!$E$777&\" month-\"&入力情報!$E$778&\" day\"","v":"2024 year, 4 month-25 day"}]
[null,null,{"$f":"DBCS(入力情報!$E$776)&\"年\"&DBCS(入力情報!$E$777)&\"月\"&DBCS(入力情報!$E$778)&\"日\"","v":"２０２４年４月２５日"}]
[]
[{"$nulls":12},{"$f":"入力情報!$E$6&\" Limited Liability Company\"","v":"SampleName Limited Liability Company"}]
[{"$nulls":12},{"$f":"\"Representative Members \"&入力情報!$E$12","v":"Representative Members Mary Smith"}]
[{"$nulls":12},{"$f":"入力情報!E7&\"合同会社\"","v":"サンプルネーム合同会社"}]
[{"$nulls":12},{"$f":"\"代表社員　\"&入力情報!$E$13","v":"代表社員　メアリー　スミス "}]
{"$rows_empty":20}
["Receipt for the capital contribution\n出資金領収書"]
[{"$nulls":31},"←",{"$f":"入力情報!C580","v":"Name of Menbers 47\n（社員 47の氏名）"}]
[]
[]
[null,{"$f":"IF(入力情報!E580<>\"\",\"member with Limited Liability  \"&入力情報!E580,\"\")","v":""}]
[null,{"$f":"IF(入力情報!E581<>\"\",\"有限責任社員　　 　　　　　　\"&入力情報!E581&\" 殿\",\"\")","v":""}]
[]
[{"$nulls":10},{"$f":"IF(入力情報!E582=\"\",\"\",DBCS(TEXT(入力情報!E582,\"0,000\"))&\"yen\")","v":""}]
[{"$nulls":9},{"$f":"IF(入力情報!E582=\"\",\"\",\"金 \"&DBCS(TEXT(入力情報!E582,\"0,000\"))&\"円\")","v":""}]
[]
[null,null,{"$f":"\"Received as a capital contribution to \"&入力情報!$E$6&\" Limited Liability Company.\"","v":"Received as a capital contribution to SampleName Limited Liability Company."}]
[{"$nulls":6},{"$f":"入力情報!$E$6&\"合同会社の出資金として領収しました。\"","v":"SampleName合同会社の出資金として領収しました。"}]
[]
[null,null,{"$f":"入力情報!$E$776&\" year, \"&入力情報!$E$777&\" month-\"&入力情報!$E$778&\" day\"","v":"2024 year, 4 month-25 day"}]
[null,null,{"$f":"DBCS(入力情報!$E$776)&\"年\"&DBCS(入力情報!$E$777)&\"月\"&DBCS(入力情報!$E$778)&\"日\"","v":"２０２４年４月２５日"}]
[]
[{"$nulls":12},{"$f":"入力情報!$E$6&\" Limited Liability Company\"","v":"SampleName Limited Liability Company"}]
[{"$nulls":12},{"$f":"\"Representative Members \"&入力情報!$E$12","v":"Representative Members Mary Smith"}]
[{"$nulls":12},{"$f":"入力情報!E7&\"合同会社\"","v":"サンプルネーム合同会社"}]
[{"$nulls":12},{"$f":"\"代表社員　\"&入力情報!$E$13","v":"代表社員　メアリー　スミス "}]
{"$rows_empty":20}
["Receipt for the capital contribution\n出資金領収書"]
[{"$nulls":31},"←",{"$f":"入力情報!C592","v":"Name of Menbers 48\n（社員 48の氏名）"}]
[]
[]
[null,{"$f":"IF(入力情報!E592<>\"\",\"member with Limited Liability  \"&入力情報!E592,\"\")","v":""}]
[null,{"$f":"IF(入力情報!E593<>\"\",\"有限責任社員　　 　　　　　　\"&入力情報!E593&\" 殿\",\"\")","v":""}]
[]
[{"$nulls":10},{"$f":"IF(入力情報!E594=\"\",\"\",DBCS(TEXT(入力情報!E594,\"0,000\"))&\"yen\")","v":""}]
[{"$nulls":9},{"$f":"IF(入力情報!E594=\"\",\"\",\"金 \"&DBCS(TEXT(入力情報!E594,\"0,000\"))&\"円\")","v":""}]
[]
[null,null,{"$f":"\"Received as a capital contribution to \"&入力情報!$E$6&\" Limited Liability Company.\"","v":"Received as a capital contribution to SampleName Limited Liability Company."}]
[{"$nulls":6},{"$f":"入力情報!$E$6&\"合同会社の出資金として領収しました。\"","v":"SampleName合同会社の出資金として領収しました。"}]
[]
[null,null,{"$f":"入力情報!$E$776&\" year, \"&入力情報!$E$777&\" month-\"&入力情報!$E$778&\" day\"","v":"2024 year, 4 month-25 day"}]
[null,null,{"$f":"DBCS(入力情報!$E$776)&\"年\"&DBCS(入力情報!$E$777)&\"月\"&DBCS(入力情報!$E$778)&\"日\"","v":"２０２４年４月２５日"}]
[]
[{"$nulls":12},{"$f":"入力情報!$E$6&\" Limited Liability Company\"","v":"SampleName Limited Liability Company"}]
[{"$nulls":12},{"$f":"\"Representative Members \"&入力情報!$E$12","v":"Representative Members Mary Smith"}]
[{"$nulls":12},{"$f":"入力情報!E7&\"合同会社\"","v":"サンプルネーム合同会社"}]
[{"$nulls":12},{"$f":"\"代表社員　\"&入力情報!$E$13","v":"代表社員　メアリー　スミス "}]
{"$rows_empty":20}
["Receipt for the capital contribution\n出資金領収書"]
[{"$nulls":31},"←",{"$f":"入力情報!C604","v":"Name of Menbers 49\n（社員 49の氏名）"}]
[]
[]
[null,{"$f":"IF(入力情報!E604<>\"\",\"member with Limited Liability  \"&入力情報!E604,\"\")","v":""}]
[null,{"$f":"IF(入力情報!E605<>\"\",\"有限責任社員　　 　　　　　　\"&入力情報!E605&\" 殿\",\"\")","v":""}]
[]
[{"$nulls":10},{"$f":"IF(入力情報!E606=\"\",\"\",DBCS(TEXT(入力情報!E606,\"0,000\"))&\"yen\")","v":""}]
[{"$nulls":9},{"$f":"IF(入力情報!E606=\"\",\"\",\"金 \"&DBCS(TEXT(入力情報!E606,\"0,000\"))&\"円\")","v":""}]
[]
[null,null,{"$f":"\"Received as a capital contribution to \"&入力情報!$E$6&\" Limited Liability Company.\"","v":"Received as a capital contribution to SampleName Limited Liability Company."}]
[{"$nulls":6},{"$f":"入力情報!$E$6&\"合同会社の出資金として領収しました。\"","v":"SampleName合同会社の出資金として領収しました。"}]
[]
[null,null,{"$f":"入力情報!$E$776&\" year, \"&入力情報!$E$777&\" month-\"&入力情報!$E$778&\" day\"","v":"2024 year, 4 month-25 day"}]
[null,null,{"$f":"DBCS(入力情報!$E$776)&\"年\"&DBCS(入力情報!$E$777)&\"月\"&DBCS(入力情報!$E$778)&\"日\"","v":"２０２４年４月２５日"}]
[]
[{"$nulls":12},{"$f":"入力情報!$E$6&\" Limited Liability Company\"","v":"SampleName Limited Liability Company"}]
[{"$nulls":12},{"$f":"\"Representative Members \"&入力情報!$E$12","v":"Representative Members Mary Smith"}]
[{"$nulls":12},{"$f":"入力情報!E7&\"合同会社\"","v":"サンプルネーム合同会社"}]
[{"$nulls":12},{"$f":"\"代表社員　\"&入力情報!$E$13","v":"代表社員　メアリー　スミス "}]
{"$rows_empty":20}
["Receipt for the capital contribution\n出資金領収書"]
[{"$nulls":31},"←",{"$f":"入力情報!C616","v":"Name of Menbers 50\n（社員 50の氏名）"}]
[]
[]
[null,{"$f":"IF(入力情報!E616<>\"\",\"member with Limited Liability  \"&入力情報!E616,\"\")","v":""}]
[null,{"$f":"IF(入力情報!E617<>\"\",\"有限責任社員　　 　　　　　　\"&入力情報!E617&\" 殿\",\"\")","v":""}]
[]
[{"$nulls":10},{"$f":"IF(入力情報!E618=\"\",\"\",DBCS(TEXT(入力情報!E618,\"0,000\"))&\"yen\")","v":""}]
[{"$nulls":9},{"$f":"IF(入力情報!E618=\"\",\"\",\"金 \"&DBCS(TEXT(入力情報!E618,\"0,000\"))&\"円\")","v":""}]
[]
[null,null,{"$f":"\"Received as a capital contribution to \"&入力情報!$E$6&\" Limited Liability Company.\"","v":"Received as a capital contribution to SampleName Limited Liability Company."}]
[{"$nulls":6},{"$f":"入力情報!$E$6&\"合同会社の出資金として領収しました。\"","v":"SampleName合同会社の出資金として領収しました。"}]
[]
[null,null,{"$f":"入力情報!$E$776&\" year, \"&入力情報!$E$777&\" month-\"&入力情報!$E$778&\" day\"","v":"2024 year, 4 month-25 day"}]
[null,null,{"$f":"DBCS(入力情報!$E$776)&\"年\"&DBCS(入力情報!$E$777)&\"月\"&DBCS(入力情報!$E$778)&\"日\"","v":"２０２４年４月２５日"}]
[]
[{"$nulls":12},{"$f":"入力情報!$E$6&\" Limited Liability Company\"","v":"SampleName Limited Liability Company"}]
[{"$nulls":12},{"$f":"\"Representative Members \"&入力情報!$E$12","v":"Representative Members Mary Smith"}]
[{"$nulls":12},{"$f":"入力情報!E7&\"合同会社\"","v":"サンプルネーム合同会社"}]
[{"$nulls":12},{"$f":"\"代表社員　\"&入力情報!$E$13","v":"代表社員　メアリー　スミス "}]

{"sheet":"Seal (Revision Mark) Form印鑑届書","index":6,"n_rows":80,"n_cols":52,"rows_kept":80,"merged":[[1,0,2,56],[3,0,4,56],[8,2,9,21],[8,22,11,31],[8,32,9,55],[10,32,11,55],[11,7,21,18],[12,22,15,31],[12,32,13,55],[14,32,15,55],[16,22,26,23],[16,24,19,31],[16,33,17,54],[18,33,19,54],[20,24,23,31],[20,33,21,54],[22,33,23,54],[23,5,25,20],[24,24,26,31],[24,33,26,54],[27,2,30,5],[27,6,28,21],[27,22,30,31],[27,33,30,54],[29,6,30,21],[31,5,31,15],[32,5,32,15],[32,46,33,52],[33,5,33,15],[34,5,34,15],[35,3,36,42],[35,46,40,52],[37,2,40,8],[37,9,38,42],[39,9,40,42],[41,2,41,30],[41,31,41,42],[42,2,44,8],[42,11,44,40],[42,43,44,55],[47,4,48,53],[49,6,52,16],[53,6,54,53],[55,6,56,27],[55,45,60,51],[57,6,58,11],[57,12,58,35],[59,6,60,11],[59,12,60,35],[62,4,63,54],[64,4,64,54],[65,5,65,55],[67,4,67,54],[68,4,71,54],[72,4,73,54],[74,4,75,54],[77,4,84,24],[77,26,78,40],[77,41,78,55],[79,26,80,35],[79,36,80,40],[79,41,80,45],[79,46,80,50],[79,51,80,55],[81,26,84,35],[81,36,84,40],[81,41,84,45],[81,46,84,50],[81,51,84,55],[85,2,86,55]]}
[]
["Seal (Revision Mark) Form"]
[]
["印鑑（改印）届書"]
[]
[]
[null,null,"*Please write in the bold frame. ※ 太枠の中に書いてください。"]
[]
[null,null,"(Note 1) (Please affix your seal clearly.)\n（注１）（届出印は鮮明に押印してください）",{"$nulls":19},"Trade Name/ Name\n商号・名称",{"$nulls":9},{"$f":"入力情報!E6&\" Limited Liability Company\"","v":"SampleName Limited Liability Company"}]
[]
[{"$nulls":32},{"$f":"入力情報!E6&\"合同会社\"","v":"SampleName合同会社"}]
[]
[{"$nulls":22},"Head / Principal Office\n本店・主たる事務所",{"$nulls":9},{"$f":"'Application for Registration申請書'!G14","v":"Tokyoto Otaku Chuo 22-33-44 Shinsekai Building Room 101"}]
[]
[{"$nulls":32},{"$f":"'Application for Registration申請書'!G15","v":"東京都 大田区 中央２２－３３－４４新世界ビル101号室"}]
[]
[{"$nulls":22},"A Person Submitting Seal Impression\n印鑑提出者",null,"Position\n資　　格",{"$nulls":8},"Representative Members"]
[]
[{"$nulls":33},"代表社員"]
[]
[{"$nulls":24},"Name (Family name/ First name)\n氏　名",{"$nulls":8},{"$f":"IF(入力情報!E12=\"\",\"\",入力情報!E12)","v":"Mary Smith"}]
[]
[{"$nulls":33},{"$f":"IF(入力情報!E13=\"\",\"\",入力情報!E13)","v":"メアリー　スミス "}]
[{"$nulls":5},"Seal impression to be submitted\n提出する印鑑"]
[{"$nulls":24},"Birthdate\n生年月日",{"$nulls":8},{"$f":"入力情報!E15","v":"1955-02-01"}]
[]
[]
[{"$nulls":22},"Company Number\n会社法人等番号"]
[]
[]
[]
[]
[{"$nulls":46},"Seal of (Note 2) \n(注２)の印"]
[]
[]
[{"$nulls":3},"A person submitting the seal (Note 2) ☑ The person submitting the seal □ The agency\n届出人（注２）　　　　　　　　　　　  ☑ 印鑑提出者本人　　□ 代理人"]
[]
[null,null,"Address\n住　所",{"$nulls":6},{"$f":"IF(入力情報!E16=\"\",入力情報!E22,入力情報!E17&DBCS(入力情報!E19)&\" \"&入力情報!E20)","v":"Tokyoto Otaku Chuo１－１－１１ Shinsekai Building Room 99"}]
[]
[{"$nulls":9},{"$f":"IF(入力情報!E16=\"\",IF(入力情報!E23=\"\",\"                                               \",入力情報!E23),IF(入力情報!E18=\"\",\"                                               \",入力情報!E18)&DBCS(入力情報!E19)&\" \"&入力情報!E21)","v":"東京都 大田区 中央１－１－１１ 新世界ビル99号室"}]
[]
[null,null," フリガナ/Furigana (written on top of the name to indicate the letter’s reading)"]
[null,null,"氏名 / Name",{"$nulls":8},{"$f":"入力情報!E12 & CHAR(10) & IF(入力情報!E13=\"\",\"\",入力情報!E13)","v":"Mary Smith\nメアリー　スミス "},{"$nulls":31},"A seal impression registered at the municipality or signature\n市区町村に登録済の印鑑又は署名"]
[]
[]
[]
[]
[{"$nulls":4},"Power of Attorney　/　委　任　状  "]
[]
[{"$nulls":6},"I hereby appoint (Address)\n　　　　　　　　　　(Name)\n私は、（住所）\n　　　（氏名）"]
[]
[]
[]
[{"$nulls":6},"as my agency and delegate the authority to register the seal impression (revision of seal).\nを代理人と定め、印鑑(改印）の届出の権限を委任します。"]
[]
[{"$nulls":6},"　年/year　　　月/month　　　日/day",{"$nulls":38},"A seal impression registered at the municipality\n市区町村に\n登録した印鑑\n"]
[]
[{"$nulls":6},"Address/住所"]
[]
[{"$nulls":6},"Name/氏名"]
[]
[]
[{"$nulls":4},"☑ The registered seal certificate issued by the mayor of the municipality shall be made a reference of the attachment to the application form for registration. (Note 3) "]
[]
[{"$nulls":4},"☑　市区町村長作成の印鑑証明書は、登記申請書に添付のものを援用する。（注３）"]
[{"$nulls":5},"(Note 1) The size of the seal impression must be exceeding 1 cm for each side and fit within a square whose side is 3 cm. "]
[]
[{"$nulls":4},"（注１）印鑑の大きさは、辺の長さが１㎝を超え、３㎝以内の正方形の中に収まるものでなければなりません。"]
[{"$nulls":4},"(Note 2) When the applicant submits, please state the address and the name of the applicant and affix the seal impression registered at the municipality. When the agency submits, please state the address and the name of the agency and affix the seal impression (the seal of approval works). Please also state the necessary matters on the letter of attorney with the seal impression of the applicant registered at the municipality."]
[]
[]
[]
[{"$nulls":4},"（注２）本人が届け出るときは、本人の住所・氏名を記載し、市区町村に登録済みの印鑑を押印してください。代理人が届け出るときは、代理人の住所・氏名を記載、押印（認印で可)し、委任状に所要事項を記載し、本人が市区町村に登録済みの印鑑を押印してください。"]
[]
[]
[]
[]
[{"$nulls":4},"(Note 3) Please attach a certificate of signature or a registered seal certificate of the applicant’s within three months since its issuance to this notification. When the certificate og signature or the registered seal certificate attached to the application form for registration is made a reference, please check a mark of ✓ at a box of □.\n（注３）この届書にはサイン証明書又は作成後３か月以内の本人の印鑑証明書を添付してください。登記申請書に添付したサイン証明書又は印鑑証明書を援用する場合は、□にレ印をつけてください。",{"$nulls":21},"Date of Seal Impression Processing\n印鑑処理年月日"]
[]
[{"$nulls":26},"Number of Seal Impression Processing / 印鑑処理番号",{"$nulls":9},"Reception\n受付",{"$nulls":4},"Research\n調査",{"$nulls":4},"Input\n入力",{"$nulls":4},"Verified\n校合"]

{"sheet":"Seal Card Application form印鑑カード","index":7,"n_rows":49,"n_cols":41,"rows_kept":49,"merged":[[6,46,7,54],[12,24,13,53],[14,24,15,53],[16,24,17,53],[18,24,20,53],[21,24,22,53],[23,24,24,51],[23,52,24,53],[25,24,29,53],[30,24,34,54],[35,24,39,53],[43,8,44,39],[43,40,45,54],[45,8,46,39],[46,40,50,53],[47,8,47,39],[48,8,50,39],[55,13,55,52],[56,13,57,52],[63,6,63,10],[63,11,63,12],[63,13,63,15],[63,16,63,17],[63,18,63,20],[63,21,63,22],[64,10,65,37],[66,10,68,38]]}
{"$rows_empty":9}
[{"$nulls":7},"Legal Affair Bureau",{"$nulls":13},"Branch Office/Sub-Office",{"$nulls":11},"Year",null,null,"Month",null,null,"Day  application"]
[{"$nulls":7},"(地方）法務局",{"$nulls":13},"支局・出張所",{"$nulls":11},"年",null,null,"月",null,null,"日 申請"]
[]
[{"$nulls":24},{"$f":"'Seal (Revision Mark) Form印鑑届書'!AG9","v":"SampleName Limited Liability Company"}]
[]
[{"$nulls":24},{"$f":"'Seal (Revision Mark) Form印鑑届書'!AG11","v":"SampleName合同会社"}]
[]
[{"$nulls":24},{"$f":"'Seal (Revision Mark) Form印鑑届書'!AG13","v":"Tokyoto Otaku Chuo 22-33-44 Shinsekai Building Room 101"}]
[]
[{"$nulls":24},{"$f":"'Seal (Revision Mark) Form印鑑届書'!AG15","v":"東京都 大田区 中央２２－３３－４４新世界ビル101号室"}]
[]
[]
[{"$nulls":24},"Representative Members"]
[]
[{"$nulls":24},"代表社員"]
[]
[{"$nulls":24},{"$f":"'Seal (Revision Mark) Form印鑑届書'!AH21 & CHAR(10) & IF('Seal (Revision Mark) Form印鑑届書'!AH23=\"\",\"\",'Seal (Revision Mark) Form印鑑届書'!AH23)","v":"Mary Smith\nメアリー　スミス "}]
[]
[]
[]
[]
[{"$nulls":24},{"$f":"'Seal (Revision Mark) Form印鑑届書'!AH25","v":"1955-02-01"}]
{"$rows_empty":12}
[{"$nulls":8},{"$f":"'Seal (Revision Mark) Form印鑑届書'!J38","v":"Tokyoto Otaku Chuo１－１－１１ Shinsekai Building Room 99"}]
[]
[{"$nulls":8},{"$f":"'Seal (Revision Mark) Form印鑑届書'!J40","v":"東京都 大田区 中央１－１－１１ 新世界ビル99号室"}]
[{"$nulls":40},{"$f":"入力情報!E763","v":"090-4823-7894"}]
[]
[{"$nulls":8},{"$f":"Y26","v":"Mary Smith\nメアリー　スミス "}]